BEGIN:VCALENDAR
VERSION:2.0
PRODID:-//Activity Options - ECPv6.15.20//NONSGML v1.0//EN
CALSCALE:GREGORIAN
METHOD:PUBLISH
X-WR-CALNAME:Activity Options
X-ORIGINAL-URL:https://www.activityoptions.com
X-WR-CALDESC:Events for Activity Options
REFRESH-INTERVAL;VALUE=DURATION:PT1H
X-Robots-Tag:noindex
X-PUBLISHED-TTL:PT1H
BEGIN:VTIMEZONE
TZID:UTC
BEGIN:STANDARD
TZOFFSETFROM:+0000
TZOFFSETTO:+0000
TZNAME:UTC
DTSTART:20240101T000000
END:STANDARD
END:VTIMEZONE
BEGIN:VEVENT
DTSTART;TZID=UTC:20250704T110000
DTEND;TZID=UTC:20250704T160000
DTSTAMP:20260423T213638
CREATED:20250514T035239Z
LAST-MODIFIED:20250514T035239Z
UID:10000741-1751626800-1751644800@www.activityoptions.com
SUMMARY:•4th of July Party
DESCRIPTION:BBQ and fun with friends. Denver residents use your free membership. Private pay $25. If the activity is full please join the waitlist so we know that you are interested. \nRegister Online
URL:https://www.activityoptions.com/event/4th-of-july-party-3/
LOCATION:Activity Options Community Center (Arvada)\, 7401 W 59th Ave\, Arvada\, Colorado\, 80003
ATTACH;FMTTYPE=image/jpeg:https://www.activityoptions.com/wp-content/uploads/2019/04/July4thBBQ.jpg
ORGANIZER;CN="Activity Options LLC /Project World PBC":MAILTO:signup@activityoptions.com
END:VEVENT
BEGIN:VEVENT
DTSTART;TZID=UTC:20250706T100000
DTEND;TZID=UTC:20250706T170000
DTSTAMP:20260423T213638
CREATED:20250514T035427Z
LAST-MODIFIED:20250514T035427Z
UID:10000742-1751796000-1751821200@www.activityoptions.com
SUMMARY:•Cave of the Winds
DESCRIPTION:Explore the wonders of this cave system near Manitou Springs.  Requires walking stairs and narrow place.  Low ceilings.  Includes lunch.  Denver residents use your free membership. Private pay $79. If the activity is full please join the waitlist so we know that you are interested. \nRegister Online
URL:https://www.activityoptions.com/event/cave-of-the-winds/
LOCATION:Cave of the Winds Mountain Park
ATTACH;FMTTYPE=image/png:https://www.activityoptions.com/wp-content/uploads/2021/06/Caveofthewinds.png
ORGANIZER;CN="Activity Options LLC /Project World PBC":MAILTO:signup@activityoptions.com
END:VEVENT
BEGIN:VEVENT
DTSTART;TZID=UTC:20250712T130000
DTEND;TZID=UTC:20250712T170000
DTSTAMP:20260423T213638
CREATED:20250514T035642Z
LAST-MODIFIED:20250514T035642Z
UID:10000743-1752325200-1752339600@www.activityoptions.com
SUMMARY:•Cooking Class
DESCRIPTION:Prepare a delicious meal and learn shopping and food prep with friends. Denver residents use your free membership. Private pay $39. If the activity is full please join the waitlist so we know that you are interested. \nRegister Online
URL:https://www.activityoptions.com/event/cooking-class-18/
LOCATION:Activity Options Community Center (Arvada)\, 7401 W 59th Ave\, Arvada\, Colorado\, 80003
ATTACH;FMTTYPE=image/png:https://www.activityoptions.com/wp-content/uploads/2022/03/CookingClassApril.png
ORGANIZER;CN="Activity Options LLC /Project World PBC":MAILTO:signup@activityoptions.com
END:VEVENT
BEGIN:VEVENT
DTSTART;TZID=UTC:20250712T170000
DTEND;TZID=UTC:20250712T210000
DTSTAMP:20260423T213638
CREATED:20250514T035825Z
LAST-MODIFIED:20250514T035825Z
UID:10000744-1752339600-1752354000@www.activityoptions.com
SUMMARY:•Saturday Night Club SNL
DESCRIPTION:Join Saturday Night Club (SNL) and enjoy the company of friends. Denver residents use your free membership. Private pay $59. If the activity is full please join the waitlist so we know that you are interested. \nRegister Online
URL:https://www.activityoptions.com/event/saturday-night-club-snl-36/
LOCATION:Activity Options Community Center (Arvada)\, 7401 W 59th Ave\, Arvada\, Colorado\, 80003
ATTACH;FMTTYPE=image/png:https://www.activityoptions.com/wp-content/uploads/2021/04/SNL-sq.png
ORGANIZER;CN="Activity Options LLC /Project World PBC":MAILTO:signup@activityoptions.com
END:VEVENT
BEGIN:VEVENT
DTSTART;TZID=UTC:20250713T073000
DTEND;TZID=UTC:20250713T153000
DTSTAMP:20260423T213638
CREATED:20250514T040038Z
LAST-MODIFIED:20250514T040038Z
UID:10000745-1752391800-1752420600@www.activityoptions.com
SUMMARY:•Rafting on Clear Creek
DESCRIPTION:Splash through the easy waters of Clear Creek on a 2 hour rafting trip. Followed by lunch. Denver residents use your free membership. Private pay $225. If the activity is full please join the waitlist so we know that you are interested. \nRegister Online
URL:https://www.activityoptions.com/event/rafting-on-clear-creek-3/
LOCATION:Colorado Outdoors\, CO
ATTACH;FMTTYPE=image/png:https://www.activityoptions.com/wp-content/uploads/2022/06/Rafting.png
ORGANIZER;CN="Activity Options LLC /Project World PBC":MAILTO:signup@activityoptions.com
GEO:39.5500507;-105.7820674
END:VEVENT
BEGIN:VEVENT
DTSTART;TZID=UTC:20250718T160000
DTEND;TZID=UTC:20250718T210000
DTSTAMP:20260423T213638
CREATED:20250514T040219Z
LAST-MODIFIED:20250514T040219Z
UID:10000746-1752854400-1752872400@www.activityoptions.com
SUMMARY:•Bowling Party
DESCRIPTION:Bowling and dinner buffet at Bolero. Denver residents use your free membership. Private pay $79. If the activity is full please join the waitlist so we know that you are interested. \nRegister Online
URL:https://www.activityoptions.com/event/bowling-party-3/
LOCATION:Bowlero
ATTACH;FMTTYPE=image/png:https://www.activityoptions.com/wp-content/uploads/2025/02/Bowlero.png
ORGANIZER;CN="Activity Options LLC /Project World PBC":MAILTO:signup@activityoptions.com
END:VEVENT
BEGIN:VEVENT
DTSTART;TZID=UTC:20250720T090000
DTEND;TZID=UTC:20250720T180000
DTSTAMP:20260423T213638
CREATED:20250514T040358Z
LAST-MODIFIED:20250514T040358Z
UID:10000747-1753002000-1753034400@www.activityoptions.com
SUMMARY:•Renaissance Festival
DESCRIPTION:Attend the Celtic Weekend at the Renaissance Festival in Larkspur. Games\, contests\, costumes and food from Ireland and beyond. Denver residents use your free membership. Private pay $159. If the activity is full please join the waitlist so we know that you are interested. \nRegister Online
URL:https://www.activityoptions.com/event/renaissance-festival-3/
LOCATION:Larkspur Colorado\, CO
ATTACH;FMTTYPE=image/png:https://www.activityoptions.com/wp-content/uploads/2023/06/RenFestCO.png
ORGANIZER;CN="Activity Options LLC /Project World PBC":MAILTO:signup@activityoptions.com
END:VEVENT
BEGIN:VEVENT
DTSTART;TZID=UTC:20250726T170000
DTEND;TZID=UTC:20250726T210000
DTSTAMP:20260423T213639
CREATED:20250514T040527Z
LAST-MODIFIED:20250514T040608Z
UID:10000748-1753549200-1753563600@www.activityoptions.com
SUMMARY:•Monthly Dinner Group
DESCRIPTION:Have dinner with friends at a new restaurants or at one of our favorite places. This month’s location to be announced soon! Denver residents use your free membership. Private pay $79. If the activity is full please join the waitlist so we know that you are interested. \nRegister Online
URL:https://www.activityoptions.com/event/monthly-dinner-group-13/
LOCATION:Activity Options Community Center (Arvada)\, 7401 W 59th Ave\, Arvada\, Colorado\, 80003
ATTACH;FMTTYPE=image/png:https://www.activityoptions.com/wp-content/uploads/2022/03/Dinner-Group.png
ORGANIZER;CN="Activity Options LLC /Project World PBC":MAILTO:signup@activityoptions.com
END:VEVENT
BEGIN:VEVENT
DTSTART;TZID=UTC:20250727T090000
DTEND;TZID=UTC:20250727T150000
DTSTAMP:20260423T213639
CREATED:20250514T040902Z
LAST-MODIFIED:20250514T040902Z
UID:10000749-1753606800-1753628400@www.activityoptions.com
SUMMARY:•Foothills Hike
DESCRIPTION:Monthly Foothills hike.  This month destination is Mt. Falcon Park. Includes lunch. Different activity levels. Denver residents use your free membership. Private pay $59. If the activity is full please join the waitlist so we know that you are interested. \nRegister Online
URL:https://www.activityoptions.com/event/foothills-hike-2/
LOCATION:Mt Falcon Park
ATTACH;FMTTYPE=image/png:https://www.activityoptions.com/wp-content/uploads/2025/02/FoothillsHike.png
ORGANIZER;CN="Activity Options LLC /Project World PBC":MAILTO:signup@activityoptions.com
END:VEVENT
END:VCALENDAR