BEGIN:VCALENDAR
VERSION:2.0
PRODID:-//Activity Options - ECPv6.15.20//NONSGML v1.0//EN
CALSCALE:GREGORIAN
METHOD:PUBLISH
X-ORIGINAL-URL:https://www.activityoptions.com
X-WR-CALDESC:Events for Activity Options
REFRESH-INTERVAL;VALUE=DURATION:PT1H
X-Robots-Tag:noindex
X-PUBLISHED-TTL:PT1H
BEGIN:VTIMEZONE
TZID:UTC
BEGIN:STANDARD
TZOFFSETFROM:+0000
TZOFFSETTO:+0000
TZNAME:UTC
DTSTART:20240101T000000
END:STANDARD
END:VTIMEZONE
BEGIN:VEVENT
DTSTART;TZID=UTC:20250607T120000
DTEND;TZID=UTC:20250607T200000
DTSTAMP:20260423T230350
CREATED:20250514T033438Z
LAST-MODIFIED:20250514T033438Z
UID:10000733-1749297600-1749326400@www.activityoptions.com
SUMMARY:•Arvada Summerfest and Dinner
DESCRIPTION:Join in the festivities at the Arvada Summerfest in Olde Town Arvada. Denver residents use your free membership. Private pay $89. If the activity is full please join the waitlist so we know that you are interested. \nRegister Online
URL:https://www.activityoptions.com/event/arvada-summerfest-and-dinner/
LOCATION:Activity Options Community Center (Arvada)\, 7401 W 59th Ave\, Arvada\, Colorado\, 80003
ATTACH;FMTTYPE=image/png:https://www.activityoptions.com/wp-content/uploads/2025/05/ArvadaSummerfestt.png
ORGANIZER;CN="Activity Options LLC /Project World PBC":MAILTO:signup@activityoptions.com
END:VEVENT
BEGIN:VEVENT
DTSTART;TZID=UTC:20250608T110000
DTEND;TZID=UTC:20250608T180000
DTSTAMP:20260423T230350
CREATED:20250514T033623Z
LAST-MODIFIED:20250514T033623Z
UID:10000734-1749380400-1749405600@www.activityoptions.com
SUMMARY:•Rockies at Coors Field
DESCRIPTION:Attend the live game of Rockies vs. NY Mets. Denver residents use your free membership. Private pay $129. If the activity is full please join the waitlist so we know that you are interested. \nRegister Online
URL:https://www.activityoptions.com/event/rockies-at-coors-field-2/
LOCATION:COORS FIELD\, 2001 Blake St\, Denver\, CO\, 80205
ATTACH;FMTTYPE=image/png:https://www.activityoptions.com/wp-content/uploads/2022/06/Rockies.png
ORGANIZER;CN="Activity Options LLC /Project World PBC":MAILTO:signup@activityoptions.com
GEO:39.7559779;-104.9933491
X-APPLE-STRUCTURED-LOCATION;VALUE=URI;X-ADDRESS=COORS FIELD 2001 Blake St Denver CO 80205;X-APPLE-RADIUS=500;X-TITLE=2001 Blake St:geo:-104.9933491,39.7559779
END:VEVENT
BEGIN:VEVENT
DTSTART;TZID=UTC:20250614T160000
DTEND;TZID=UTC:20250614T220000
DTSTAMP:20260423T230350
CREATED:20250514T033845Z
LAST-MODIFIED:20250514T033845Z
UID:10000735-1749916800-1749938400@www.activityoptions.com
SUMMARY:•Saturday Night Club SNL
DESCRIPTION:Join Saturday Night Club (SNL) and enjoy the company of friends. Enjoy a movie and dinner at our Center or discover what’s open in town. Denver residents use your free membership. Private pay $59. If the activity is full please join the waitlist so we know that you are interested. \nRegister Online
URL:https://www.activityoptions.com/event/saturday-night-club-snl-35/
LOCATION:Activity Options Community Center (Arvada)\, 7401 W 59th Ave\, Arvada\, Colorado\, 80003
ATTACH;FMTTYPE=image/png:https://www.activityoptions.com/wp-content/uploads/2021/04/SNL-sq.png
ORGANIZER;CN="Activity Options LLC /Project World PBC":MAILTO:signup@activityoptions.com
END:VEVENT
BEGIN:VEVENT
DTSTART;TZID=UTC:20250615T090000
DTEND;TZID=UTC:20250615T160000
DTSTAMP:20260423T230350
CREATED:20250514T034113Z
LAST-MODIFIED:20250514T034113Z
UID:10000736-1749978000-1750003200@www.activityoptions.com
SUMMARY:•Mountain Park Hike
DESCRIPTION:Monthly Foothills hike.  This month destination is Mathews Winters Park.  Includes lunch. Different activity levels. Denver residents use your free membership. Private pay $49. If the activity is full please join the waitlist so we know that you are interested. \nRegister Online
URL:https://www.activityoptions.com/event/mountain-park-hike/
LOCATION:Matthews Winters Park
ATTACH;FMTTYPE=image/png:https://www.activityoptions.com/wp-content/uploads/2025/02/FoothillsHike.png
ORGANIZER;CN="Activity Options LLC /Project World PBC":MAILTO:signup@activityoptions.com
END:VEVENT
BEGIN:VEVENT
DTSTART;TZID=UTC:20250620T090000
DTEND;TZID=UTC:20250620T170000
DTSTAMP:20260423T230350
CREATED:20250514T034313Z
LAST-MODIFIED:20250514T034313Z
UID:10000737-1750410000-1750438800@www.activityoptions.com
SUMMARY:•Horse Back Riding at Winter Park Stables
DESCRIPTION:Drive to Winter Park and join an experienced wrangler for a trail ride in the mountain around Winter Park.  No experience necessary but must be able to sit upright on a horse and hold the reins.  This is not therapy riding! Denver residents use your free membership. Private pay $159. If the activity is full please join the waitlist so we know that you are interested. \nRegister Online
URL:https://www.activityoptions.com/event/horse-back-riding-at-winter-park-stables-4/
LOCATION:Winter Park Colorado
ATTACH;FMTTYPE=image/jpeg:https://www.activityoptions.com/wp-content/uploads/2018/03/Horseback-sq.jpg
ORGANIZER;CN="Activity Options LLC /Project World PBC":MAILTO:signup@activityoptions.com
END:VEVENT
BEGIN:VEVENT
DTSTART;TZID=UTC:20250621T100000
DTEND;TZID=UTC:20250621T160000
DTSTAMP:20260423T230350
CREATED:20250514T034610Z
LAST-MODIFIED:20250514T034645Z
UID:10000738-1750500000-1750521600@www.activityoptions.com
SUMMARY:•Cog Railroad
DESCRIPTION:Jump aboard the Manitou Springs Cog Railroad and travel to the top of Pikes Peak\, rain or shine! Denver residents use your free membership. Private pay $160. If the activity is full please join the waitlist so we know that you are interested. \nRegister Online
URL:https://www.activityoptions.com/event/cog-railroad/
LOCATION:THE BROADMOOR MANITOU AND PIKES PEAK COG RAILWAY\, 515 Ruxton Ave\, Manitou Springs\, Colorado\, 80829
ATTACH;FMTTYPE=image/png:https://www.activityoptions.com/wp-content/uploads/2023/03/CogRailroad.png
ORGANIZER;CN="Activity Options LLC /Project World PBC":MAILTO:signup@activityoptions.com
END:VEVENT
BEGIN:VEVENT
DTSTART;TZID=UTC:20250622T080000
DTEND;TZID=UTC:20250625T190000
DTSTAMP:20260423T230350
CREATED:20250307T035413Z
LAST-MODIFIED:20250307T035413Z
UID:10000728-1750579200-1750878000@www.activityoptions.com
SUMMARY:Annual Camping Trip
DESCRIPTION:Camping trip this year at Reudi Reservoir near Basalt. Boating\, fishing\, hiking as well as sight seeing in Aspen\, Maroon Bells and Glenwood. Possible RZR trip into the mountains. All equipment provided but you can bring your own. Denver residents use your free IML membership or inquire to set one up. Private pay $1\,000. If the activity is full join the wait list so we know you are interested. \nRegister Online
URL:https://www.activityoptions.com/event/annual-camping-trip-2/
LOCATION:Basalt\, CO
ATTACH;FMTTYPE=image/png:https://www.activityoptions.com/wp-content/uploads/2023/01/AnnualCamping.png
ORGANIZER;CN="Activity Options LLC /Project World PBC":MAILTO:signup@activityoptions.com
END:VEVENT
BEGIN:VEVENT
DTSTART;TZID=UTC:20250627T170000
DTEND;TZID=UTC:20250627T230000
DTSTAMP:20260423T230350
CREATED:20250514T034836Z
LAST-MODIFIED:20250514T064703Z
UID:10000739-1751043600-1751065200@www.activityoptions.com
SUMMARY:•Rocky Mtn. Pro Wrestling
DESCRIPTION:New location\, new talent!  Now at Jeffco Fair Grounds see live local professional wrestling. Denver residents use your free membership. Private pay $79. If the activity is full please join the waitlist so we know that you are interested. \nRegister Online
URL:https://www.activityoptions.com/event/rocky-mtn-pro-wrestling-3/
LOCATION:Jeffco Fair Grounds\, 15200 W 6th Ave\, Golden\, CO\, 80401
ATTACH;FMTTYPE=image/png:https://www.activityoptions.com/wp-content/uploads/2022/04/RMProWresstling.png
ORGANIZER;CN="Activity Options LLC /Project World PBC":MAILTO:signup@activityoptions.com
END:VEVENT
BEGIN:VEVENT
DTSTART;TZID=UTC:20250628T160000
DTEND;TZID=UTC:20250628T230000
DTSTAMP:20260423T230350
CREATED:20250514T035039Z
LAST-MODIFIED:20250514T035039Z
UID:10000740-1751126400-1751151600@www.activityoptions.com
SUMMARY:•Flying W Dinner and Concert
DESCRIPTION:Sponsored by Dinner Club\, drive to the Flying W Ranch in Colorado Springs for a chuck wagon dinner and Cowboy concert.  (Not the same as country western). Enjoy the ranch animals and pow wow. Denver residents use your free membership. Private pay $199. If the activity is full please join the waitlist so we know that you are interested. \nRegister Online
URL:https://www.activityoptions.com/event/flying-w-dinner-and-concert/
LOCATION:Flying W Ranch\, 3330 Chuckwagon Rd\, Colorado Springs\, CO\, 80919
ATTACH;FMTTYPE=image/png:https://www.activityoptions.com/wp-content/uploads/2022/07/FlyingW.png
ORGANIZER;CN="Activity Options LLC /Project World PBC":MAILTO:signup@activityoptions.com
END:VEVENT
END:VCALENDAR