BEGIN:VCALENDAR
VERSION:2.0
PRODID:-//Activity Options - ECPv6.15.20//NONSGML v1.0//EN
CALSCALE:GREGORIAN
METHOD:PUBLISH
X-ORIGINAL-URL:https://www.activityoptions.com
X-WR-CALDESC:Events for Activity Options
REFRESH-INTERVAL;VALUE=DURATION:PT1H
X-Robots-Tag:noindex
X-PUBLISHED-TTL:PT1H
BEGIN:VTIMEZONE
TZID:UTC
BEGIN:STANDARD
TZOFFSETFROM:+0000
TZOFFSETTO:+0000
TZNAME:UTC
DTSTART:20240101T000000
END:STANDARD
END:VTIMEZONE
BEGIN:VEVENT
DTSTART;TZID=UTC:20250404T170000
DTEND;TZID=UTC:20250404T210000
DTSTAMP:20260424T024532
CREATED:20250221T073111Z
LAST-MODIFIED:20250221T073111Z
UID:10000712-1743786000-1743800400@www.activityoptions.com
SUMMARY:• Buck Center Dance
DESCRIPTION:Get together for dinner and then go to the Buck Recreation Center Dance. Hang-out or dance and have fun! Denver residents use your free IML membership or inquire to set one up. Private pay $99. If the activity is full please join the wait list so we know you are interested. \nRegister Online
URL:https://www.activityoptions.com/event/buck-center-dance-5/
LOCATION:Buck Recreation Center\, 2004 W Powers Ave\, Littleton\, CO\, 80120
ATTACH;FMTTYPE=image/jpeg:https://www.activityoptions.com/wp-content/uploads/2017/11/Dance-Party-sq.jpg
ORGANIZER;CN="Activity Options LLC /Project World PBC":MAILTO:signup@activityoptions.com
END:VEVENT
BEGIN:VEVENT
DTSTART;TZID=UTC:20250405T160000
DTEND;TZID=UTC:20250405T220000
DTSTAMP:20260424T024532
CREATED:20250221T074106Z
LAST-MODIFIED:20250221T074106Z
UID:10000713-1743868800-1743890400@www.activityoptions.com
SUMMARY:•Denver Zoo Glowing Wild
DESCRIPTION:See this new nightime light adventure at the Denver Zoo featuring 145 lanterns depicting 60 scenes from around the world. Denver residents use your free IML membership or inquire to set one up. Private pay $160. If the activity is full please join the wait list so we know you are interested. \nRegister Online
URL:https://www.activityoptions.com/event/denver-zoo-glowing-wild/
LOCATION:Denver Zoo\, 2300 Steele St\, Denver\, 80205\, United States
ATTACH;FMTTYPE=image/png:https://www.activityoptions.com/wp-content/uploads/2025/02/GlowingWild.png
ORGANIZER;CN="Activity Options LLC /Project World PBC":MAILTO:signup@activityoptions.com
END:VEVENT
BEGIN:VEVENT
DTSTART;TZID=UTC:20250412T080000
DTEND;TZID=UTC:20250416T200000
DTSTAMP:20260424T024532
CREATED:20241227T040159Z
LAST-MODIFIED:20241227T040159Z
UID:10000692-1744444800-1744833600@www.activityoptions.com
SUMMARY:•Orlando & Disney World Trip!
DESCRIPTION:Spend the days between Disney World theme parks. Harry Potter-Universal upon request. Denver residents use your free membership or inquire to set one up through us using Mill Levy funding. Private pay $3\,200. If the activity is full please join the waitlist so we know you are interested. \nRegister Online
URL:https://www.activityoptions.com/event/orlando-disney-world-trip/
LOCATION:Orlando Florida
ATTACH;FMTTYPE=image/jpeg:https://www.activityoptions.com/wp-content/uploads/2019/01/Orlando.jpg
ORGANIZER;CN="Activity Options LLC /Project World PBC":MAILTO:signup@activityoptions.com
END:VEVENT
BEGIN:VEVENT
DTSTART;TZID=UTC:20250412T170000
DTEND;TZID=UTC:20250412T220000
DTSTAMP:20260424T024532
CREATED:20250221T074509Z
LAST-MODIFIED:20250221T074509Z
UID:10000714-1744477200-1744495200@www.activityoptions.com
SUMMARY:•Saturday Night Club SNL
DESCRIPTION:Join Saturday Night Club (SNL) and enjoy the company of friends. Dinner and movie at our Center or discover what’s open in town. Denver residents use your free IML membership or inquire to set one up. Private pay $99. If the activity is full please join the wait list so we know you are interested. \nRegister Online
URL:https://www.activityoptions.com/event/saturday-night-club-snl-33/
LOCATION:Activity Options Community Center (Arvada)\, 7401 W 59th Ave\, Arvada\, Colorado\, 80003
ATTACH;FMTTYPE=image/png:https://www.activityoptions.com/wp-content/uploads/2021/04/SNL-sq.png
ORGANIZER;CN="Activity Options LLC /Project World PBC":MAILTO:signup@activityoptions.com
END:VEVENT
BEGIN:VEVENT
DTSTART;TZID=UTC:20250413T120000
DTEND;TZID=UTC:20250413T170000
DTSTAMP:20260424T024532
CREATED:20250221T075546Z
LAST-MODIFIED:20250221T075546Z
UID:10000715-1744545600-1744563600@www.activityoptions.com
SUMMARY:•CSO Destination Denver
DESCRIPTION:Live Colorado Symphony Orchestra Performance at Boettcher Hall featuring unique music from different neighborhoods in Denver. Denver residents use your free IML membership or inquire to set one up. Private pay $99. If the activity is full please join the wait list so we know you are interested. \nRegister Online
URL:https://www.activityoptions.com/event/cso-destination-denver/
LOCATION:Colorado Symphony Orchastra at Boettcher Concert Hall\, 1000 14th St\, Denver\, CO\, 80202
ATTACH;FMTTYPE=image/png:https://www.activityoptions.com/wp-content/uploads/2025/02/CSOdestinationdenver.png
ORGANIZER;CN="Activity Options LLC /Project World PBC":MAILTO:signup@activityoptions.com
GEO:39.7453479;-104.9980736
X-APPLE-STRUCTURED-LOCATION;VALUE=URI;X-ADDRESS=Colorado Symphony Orchastra at Boettcher Concert Hall 1000 14th St Denver CO 80202;X-APPLE-RADIUS=500;X-TITLE=1000 14th St:geo:-104.9980736,39.7453479
END:VEVENT
BEGIN:VEVENT
DTSTART;TZID=UTC:20250418T170000
DTEND;TZID=UTC:20250418T220000
DTSTAMP:20260424T024532
CREATED:20250221T082256Z
LAST-MODIFIED:20250221T082256Z
UID:10000716-1744995600-1745013600@www.activityoptions.com
SUMMARY:• Bowling Party
DESCRIPTION:Bowling and Buffet at Bolero. Denver residents use your free IML membership or inquire to set one up. Private pay $99. If the activity is full please join the wait list so we know you are interested. \nRegister Online
URL:https://www.activityoptions.com/event/bowling-party-2/
LOCATION:Bowlero
ATTACH;FMTTYPE=image/png:https://www.activityoptions.com/wp-content/uploads/2025/02/Bowlero.png
ORGANIZER;CN="Activity Options LLC /Project World PBC":MAILTO:signup@activityoptions.com
END:VEVENT
BEGIN:VEVENT
DTSTART;TZID=UTC:20250420T130000
DTEND;TZID=UTC:20250420T170000
DTSTAMP:20260424T024532
CREATED:20250221T083204Z
LAST-MODIFIED:20250221T083204Z
UID:10000717-1745154000-1745168400@www.activityoptions.com
SUMMARY:•Easter Dinner
DESCRIPTION:Let’s gather around the table as community and friends this Easter. Location and food selection to be decided. Denver residents use your free IML membership or inquire to set one up. Private pay $99. If the activity is full please join the wait list so we know you are interested. \nRegister Online
URL:https://www.activityoptions.com/event/easter-dinner/
LOCATION:Activity Options Community Center (Arvada)\, 7401 W 59th Ave\, Arvada\, Colorado\, 80003
ATTACH;FMTTYPE=image/png:https://www.activityoptions.com/wp-content/uploads/2023/03/EasterDinner.png
ORGANIZER;CN="Activity Options LLC /Project World PBC":MAILTO:signup@activityoptions.com
END:VEVENT
BEGIN:VEVENT
DTSTART;TZID=UTC:20250425T170000
DTEND;TZID=UTC:20250425T220000
DTSTAMP:20260424T024532
CREATED:20250221T085110Z
LAST-MODIFIED:20250221T085110Z
UID:10000718-1745600400-1745618400@www.activityoptions.com
SUMMARY:•Candlelight Concerts - Queen vs. ABBA
DESCRIPTION:Fever presents candlelight concert featuring music from Queen and ABBA. Come an experience this unique setting! Denver residents use your free IML membership or inquire to set one up. Private pay $160. If the activity is full please join the wait list so we know you are interested. \nRegister Online
URL:https://www.activityoptions.com/event/candlelight-concerts-queen-vs-abba/
LOCATION:St. Cajetan’s\, 101 Lawrence Way\, Denver\, co\, 80204
ATTACH;FMTTYPE=image/png:https://www.activityoptions.com/wp-content/uploads/2025/02/Feverqueenabba.png
ORGANIZER;CN="Activity Options LLC /Project World PBC":MAILTO:signup@activityoptions.com
END:VEVENT
BEGIN:VEVENT
DTSTART;TZID=UTC:20250426T170000
DTEND;TZID=UTC:20250426T220000
DTSTAMP:20260424T024532
CREATED:20250221T085452Z
LAST-MODIFIED:20250221T085452Z
UID:10000719-1745686800-1745704800@www.activityoptions.com
SUMMARY:•Dinner Club
DESCRIPTION:Have dinner with friends at one of our favorite restaurants. Denver residents use your free IML membership or inquire to set one up. Private pay $99. If the activity is full please join the wait list so we know you are interested. \nRegister Online
URL:https://www.activityoptions.com/event/dinner-club-7/
LOCATION:Activity Options Community Center (Arvada)\, 7401 W 59th Ave\, Arvada\, Colorado\, 80003
ATTACH;FMTTYPE=image/png:https://www.activityoptions.com/wp-content/uploads/2022/03/Dinner-Group.png
ORGANIZER;CN="Activity Options LLC /Project World PBC":MAILTO:signup@activityoptions.com
END:VEVENT
END:VCALENDAR