BEGIN:VCALENDAR
VERSION:2.0
PRODID:-//Activity Options - ECPv6.15.20//NONSGML v1.0//EN
CALSCALE:GREGORIAN
METHOD:PUBLISH
X-ORIGINAL-URL:https://www.activityoptions.com
X-WR-CALDESC:Events for Activity Options
REFRESH-INTERVAL;VALUE=DURATION:PT1H
X-Robots-Tag:noindex
X-PUBLISHED-TTL:PT1H
BEGIN:VTIMEZONE
TZID:UTC
BEGIN:STANDARD
TZOFFSETFROM:+0000
TZOFFSETTO:+0000
TZNAME:UTC
DTSTART:20240101T000000
END:STANDARD
END:VTIMEZONE
BEGIN:VEVENT
DTSTART;TZID=UTC:20250301T080000
DTEND;TZID=UTC:20250302T200000
DTSTAMP:20260424T045010
CREATED:20241227T035536Z
LAST-MODIFIED:20241227T035536Z
UID:10000691-1740816000-1740945600@www.activityoptions.com
SUMMARY:•Black Hawk Overnight
DESCRIPTION:Overnight at the Ameristar Hotel. Enjoy the roof top pools\, good food and friends.  Maybe you’ll even get lucky!! Denver residents use your free membership or inquire to set one up through us using Mill Levy funding. Private pay $350. If the activity is full please join the waitlist so we know you are interested. \nRegister Online
URL:https://www.activityoptions.com/event/black-hawk-overnight-5/
LOCATION:Ameristar Black Hawk\, 111 Richman St\, Black Hawk\, CO\, 80422
ATTACH;FMTTYPE=image/jpeg:https://www.activityoptions.com/wp-content/uploads/2018/09/Ameristar-sq.jpg
ORGANIZER;CN="Activity Options LLC /Project World PBC":MAILTO:signup@activityoptions.com
GEO:39.8000053;-105.4891878
X-APPLE-STRUCTURED-LOCATION;VALUE=URI;X-ADDRESS=Ameristar Black Hawk 111 Richman St Black Hawk CO 80422;X-APPLE-RADIUS=500;X-TITLE=111 Richman St:geo:-105.4891878,39.8000053
END:VEVENT
BEGIN:VEVENT
DTSTART;TZID=UTC:20250307T170000
DTEND;TZID=UTC:20250307T230000
DTSTAMP:20260424T045010
CREATED:20250217T161006Z
LAST-MODIFIED:20250217T161006Z
UID:10000703-1741366800-1741388400@www.activityoptions.com
SUMMARY:•Clements Dance
DESCRIPTION:Get together for dinner and then go to the Clements Recreation Center Dance. Denver residents use your free IML membership or inquire to set one up. Private pay $49. If the activity is full join the waitlist so we know you are interested. \nRegister Online
URL:https://www.activityoptions.com/event/clements-dance/
LOCATION:Clements Center\, 1580 Yarrow St\, Lakewood\, CO\, 80214\, United States
ATTACH;FMTTYPE=image/png:https://www.activityoptions.com/wp-content/uploads/2024/02/Dance-Feet.png
ORGANIZER;CN="Activity Options LLC /Project World PBC":MAILTO:signup@activityoptions.com
END:VEVENT
BEGIN:VEVENT
DTSTART;TZID=UTC:20250309T120000
DTEND;TZID=UTC:20250309T170000
DTSTAMP:20260424T045010
CREATED:20250217T160958Z
LAST-MODIFIED:20250217T160958Z
UID:10000704-1741521600-1741539600@www.activityoptions.com
SUMMARY:•MEOW Wolf Museum
DESCRIPTION:Be amazed by this modern collection of art like you’ve never seen before. Filled with light\, imagination and creative genius! Lots of stimulation so be prepared. Denver residents use your free IML membership or inquire to set one up. Private pay $160. If the activity is full join the waitlist so we know you are interested. \nRegister Online
URL:https://www.activityoptions.com/event/meow-wolf-museum-3/
LOCATION:Meow Wolf Denver\, 1338 1st St\, Denver\, CO\, 80204\, United States
ATTACH;FMTTYPE=image/png:https://www.activityoptions.com/wp-content/uploads/2023/11/MeowWolfDenver.png
ORGANIZER;CN="Activity Options LLC /Project World PBC":MAILTO:signup@activityoptions.com
END:VEVENT
BEGIN:VEVENT
DTSTART;TZID=UTC:20250315T170000
DTEND;TZID=UTC:20250315T210000
DTSTAMP:20260424T045010
CREATED:20250217T161355Z
LAST-MODIFIED:20250217T161355Z
UID:10000705-1742058000-1742072400@www.activityoptions.com
SUMMARY:•SNL Movie Night
DESCRIPTION:Join Saturday Night Club (SNL) and enjoy the company of friends. Dinner and movie at our Center or discover what’s open in town. Denver residents use your free IML membership or inquire to set one up. Private pay $99. If the activity is full join the waitlist so we know you are interested. \nRegister Online
URL:https://www.activityoptions.com/event/snl-movie-night-5/
LOCATION:Activity Options Community Center (Arvada)\, 7401 W 59th Ave\, Arvada\, Colorado\, 80003
ATTACH;FMTTYPE=image/png:https://www.activityoptions.com/wp-content/uploads/2021/04/SNL-sq.png
ORGANIZER;CN="Activity Options LLC /Project World PBC":MAILTO:signup@activityoptions.com
END:VEVENT
BEGIN:VEVENT
DTSTART;TZID=UTC:20250321T170000
DTEND;TZID=UTC:20250321T230000
DTSTAMP:20260424T045010
CREATED:20250217T160938Z
LAST-MODIFIED:20250217T160938Z
UID:10000706-1742576400-1742598000@www.activityoptions.com
SUMMARY:•Rocky Mountain Pro Wrestling
DESCRIPTION:Watch the taping of the Rocky Mountain Pro Wrestling Summit – featuring Marty the Moth\, Sledge\, Christi Jaynes and more. Denver residents use your free IML membership or inquire to set one up. Private pay $99. If the activity is full join the waitlist so we know you are interested. \nRegister Online
URL:https://www.activityoptions.com/event/rocky-mountain-pro-wrestling-12/
LOCATION:Rocky Mountain Pro and Al Snow Wrestling Academy\, 2170 W Yale Ave\, Englewood\, CO\, 80110
ATTACH;FMTTYPE=image/png:https://www.activityoptions.com/wp-content/uploads/2022/04/RMProWresstling.png
ORGANIZER;CN="Activity Options LLC /Project World PBC":MAILTO:signup@activityoptions.com
END:VEVENT
BEGIN:VEVENT
DTSTART;TZID=UTC:20250322T160000
DTEND;TZID=UTC:20250322T210000
DTSTAMP:20260424T045010
CREATED:20250217T160923Z
LAST-MODIFIED:20250217T160923Z
UID:10000707-1742659200-1742677200@www.activityoptions.com
SUMMARY:•Dinner Club
DESCRIPTION:Have dinner with friends at one of our favorite restaurants. Denver residents use your free IML membership or inquire to set one up. Private pay $99. If the activity is full join the waitlist so we know you are interested. \nRegister Online
URL:https://www.activityoptions.com/event/dinner-club-6/
LOCATION:Activity Options Community Center (Arvada)\, 7401 W 59th Ave\, Arvada\, Colorado\, 80003
ATTACH;FMTTYPE=image/png:https://www.activityoptions.com/wp-content/uploads/2022/03/Dinner-Group.png
ORGANIZER;CN="Activity Options LLC /Project World PBC":MAILTO:signup@activityoptions.com
END:VEVENT
BEGIN:VEVENT
DTSTART;TZID=UTC:20250328T073000
DTEND;TZID=UTC:20250328T163000
DTSTAMP:20260424T045010
CREATED:20250217T160908Z
LAST-MODIFIED:20250217T162401Z
UID:10000708-1743147000-1743179400@www.activityoptions.com
SUMMARY:•Ski Club & Snowboarding *min 3 people
DESCRIPTION:Hit the slopes and enjoy the great Colorado conditions at Loveland Ski Area. Rental equipment\, lunch and transportation included. This is not a ski school but you’ll be with an experienced guide who can help navigate the details. Denver residents use your free IML membership or inquire to set one up. Private pay $325. If the activity is full join the waitlist so we know you are interested. \nRegister Online
URL:https://www.activityoptions.com/event/ski-club-snowboarding-min-3-people/
LOCATION:Loveland & Keystone\, Colorado
ATTACH;FMTTYPE=image/png:https://www.activityoptions.com/wp-content/uploads/2022/01/Ski-Snowboard.png
ORGANIZER;CN="Activity Options LLC /Project World PBC":MAILTO:signup@activityoptions.com
GEO:39.5500507;-105.7820674
END:VEVENT
BEGIN:VEVENT
DTSTART;TZID=UTC:20250328T170000
DTEND;TZID=UTC:20250328T230000
DTSTAMP:20260424T045010
CREATED:20250217T160533Z
LAST-MODIFIED:20250217T160739Z
UID:10000709-1743181200-1743202800@www.activityoptions.com
SUMMARY:•Nuggets vs. Utah Jazz
DESCRIPTION:Attend live game at Ball Arena featuring these two iconic teams. Denver residents use your free IML membership or inquire to set one up. Private pay $250. If the activity is full join the waitlist so we know you are interested. \nRegister Online
URL:https://www.activityoptions.com/event/nuggets-vs-utah-jazz/
LOCATION:Ball Arena
ATTACH;FMTTYPE=image/png:https://www.activityoptions.com/wp-content/uploads/2023/09/NuggetsBball.png
ORGANIZER;CN="Activity Options LLC /Project World PBC":MAILTO:signup@activityoptions.com
END:VEVENT
BEGIN:VEVENT
DTSTART;TZID=UTC:20250329T120000
DTEND;TZID=UTC:20250329T180000
DTSTAMP:20260424T045010
CREATED:20250217T160511Z
LAST-MODIFIED:20250217T160511Z
UID:10000710-1743249600-1743271200@www.activityoptions.com
SUMMARY:•Life of Pi the musical
DESCRIPTION:Join the journey and adventure with PI and his companions. Winner of Tony and Oliver Award on Broadway. Denver residents use your free IML membership or inquire to set one up. Private pay $250. If the activity is full join the waitlist so we know you are interested. \nRegister Online
URL:https://www.activityoptions.com/event/life-of-pi-the-musical/
LOCATION:Activity Options Community Center (Arvada)\, 7401 W 59th Ave\, Arvada\, Colorado\, 80003
ATTACH;FMTTYPE=image/png:https://www.activityoptions.com/wp-content/uploads/2025/02/Life-of-pi.png
ORGANIZER;CN="Activity Options LLC /Project World PBC":MAILTO:signup@activityoptions.com
END:VEVENT
BEGIN:VEVENT
DTSTART;TZID=UTC:20250329T160000
DTEND;TZID=UTC:20250329T220000
DTSTAMP:20260424T045010
CREATED:20250307T040302Z
LAST-MODIFIED:20250307T040302Z
UID:10000729-1743264000-1743285600@www.activityoptions.com
SUMMARY:Karaoke at AO West Center
DESCRIPTION:Be the star and sing along with friends! Join us for a fun filled night of Karaoke and dinner at the Activity Options West Community Center. Denver residents use your free IML membership or inquire to set one up. Private pay $99. If the activity is full join the wait list so we know you are interested. \nRegister Online
URL:https://www.activityoptions.com/event/karaoke-at-ao-west-center/
LOCATION:Activity Options Community Center (Arvada)\, 7401 W 59th Ave\, Arvada\, Colorado\, 80003
ATTACH;FMTTYPE=image/png:https://www.activityoptions.com/wp-content/uploads/2022/04/Karaoke.png
ORGANIZER;CN="Activity Options LLC /Project World PBC":MAILTO:signup@activityoptions.com
END:VEVENT
END:VCALENDAR