BEGIN:VCALENDAR
VERSION:2.0
PRODID:-//Activity Options - ECPv6.15.20//NONSGML v1.0//EN
CALSCALE:GREGORIAN
METHOD:PUBLISH
X-WR-CALNAME:Activity Options
X-ORIGINAL-URL:https://www.activityoptions.com
X-WR-CALDESC:Events for Activity Options
REFRESH-INTERVAL;VALUE=DURATION:PT1H
X-Robots-Tag:noindex
X-PUBLISHED-TTL:PT1H
BEGIN:VTIMEZONE
TZID:UTC
BEGIN:STANDARD
TZOFFSETFROM:+0000
TZOFFSETTO:+0000
TZNAME:UTC
DTSTART:20240101T000000
END:STANDARD
END:VTIMEZONE
BEGIN:VEVENT
DTSTART;TZID=UTC:20250201T110000
DTEND;TZID=UTC:20250201T170000
DTSTAMP:20260424T063427
CREATED:20250106T034700Z
LAST-MODIFIED:20250106T034700Z
UID:10000693-1738407600-1738429200@www.activityoptions.com
SUMMARY:•Paw Patrol Live! Heros Unite
DESCRIPTION:Bellco Theater. Live musical performance of famed animated pet show. Entertaining but goofy!!! NOT intended for mature audiences. LOL. Denver residents use your free membership or inquire to set one up through us using Mill Levy funding. Private pay $99. If the activity is full please join the waitlist so we know you are interested. \nRegister Online
URL:https://www.activityoptions.com/event/paw-patrol-live-heros-unite/
LOCATION:Bellco Theater\, Colorado Convention Center 700 14th St\, Denver\, 80202\, United States
ATTACH;FMTTYPE=image/png:https://www.activityoptions.com/wp-content/uploads/2025/01/PawPaatrol.png
ORGANIZER;CN="Activity Options LLC /Project World PBC":MAILTO:signup@activityoptions.com
GEO:39.7425826;-104.9963079
X-APPLE-STRUCTURED-LOCATION;VALUE=URI;X-ADDRESS=Bellco Theater Colorado Convention Center 700 14th St Denver 80202 United States;X-APPLE-RADIUS=500;X-TITLE=Colorado Convention Center 700 14th St:geo:-104.9963079,39.7425826
END:VEVENT
BEGIN:VEVENT
DTSTART;TZID=UTC:20250201T160000
DTEND;TZID=UTC:20250201T230000
DTSTAMP:20260424T063427
CREATED:20250106T035251Z
LAST-MODIFIED:20250106T035251Z
UID:10000694-1738425600-1738450800@www.activityoptions.com
SUMMARY:•Colorado Symphony Tribute to Mel Brooks
DESCRIPTION:Join the CSO at Boettcher Auditorium for a live musical tribute to famed movie maker and comedian\, Mel Brooks. Denver residents use your free membership or inquire to set one up through us using Mill Levy funding. Private pay $99. If the activity is full please join the waitlist so we know you are interested. \nRegister Online
URL:https://www.activityoptions.com/event/colorado-symphony-tribute-to-mel-brooks/
LOCATION:Colorado Symphony Orchastra at Boettcher Concert Hall\, 1000 14th St\, Denver\, CO\, 80202
ATTACH;FMTTYPE=image/png:https://www.activityoptions.com/wp-content/uploads/2025/01/MelBrooks.png
ORGANIZER;CN="Activity Options LLC /Project World PBC":MAILTO:signup@activityoptions.com
GEO:39.7453479;-104.9980736
X-APPLE-STRUCTURED-LOCATION;VALUE=URI;X-ADDRESS=Colorado Symphony Orchastra at Boettcher Concert Hall 1000 14th St Denver CO 80202;X-APPLE-RADIUS=500;X-TITLE=1000 14th St:geo:-104.9980736,39.7453479
END:VEVENT
BEGIN:VEVENT
DTSTART;TZID=UTC:20250208T170000
DTEND;TZID=UTC:20250208T220000
DTSTAMP:20260424T063427
CREATED:20250106T040206Z
LAST-MODIFIED:20250106T040206Z
UID:10000695-1739034000-1739052000@www.activityoptions.com
SUMMARY:•Saturday Night Live SNL
DESCRIPTION:Join Saturday Night Club (SNL) and enjoy the company of friends. Dinner and movie at our Center or discover what’s open in town. Denver residents use your free membership or inquire to set one up through us using Mill Levy funding. Private pay $79. If the activity is full please join the waitlist so we know you are interested. \nRegister Online
URL:https://www.activityoptions.com/event/saturday-night-live-snl-6/
LOCATION:Activity Options Community Center (Arvada)\, 7401 W 59th Ave\, Arvada\, Colorado\, 80003
ATTACH;FMTTYPE=image/png:https://www.activityoptions.com/wp-content/uploads/2021/04/SNL-sq.png
ORGANIZER;CN="Activity Options LLC /Project World PBC":MAILTO:signup@activityoptions.com
END:VEVENT
BEGIN:VEVENT
DTSTART;TZID=UTC:20250209T140000
DTEND;TZID=UTC:20250209T210000
DTSTAMP:20260424T063427
CREATED:20250106T041703Z
LAST-MODIFIED:20250106T041703Z
UID:10000696-1739109600-1739134800@www.activityoptions.com
SUMMARY:•Super Bowl
DESCRIPTION:Watch Super Bowl LIX with friends at the West Community Center. Includes dinner. Denver residents use your free membership or inquire to set one up through us using Mill Levy funding. Private pay $79. If the activity is full please join the waitlist so we know you are interested. \nRegister Online
URL:https://www.activityoptions.com/event/super-bowl/
LOCATION:Activity Options Community Center (Arvada)\, 7401 W 59th Ave\, Arvada\, Colorado\, 80003
ATTACH;FMTTYPE=image/png:https://www.activityoptions.com/wp-content/uploads/2025/01/Superbowl.png
ORGANIZER;CN="Activity Options LLC /Project World PBC":MAILTO:signup@activityoptions.com
END:VEVENT
BEGIN:VEVENT
DTSTART;TZID=UTC:20250215T170000
DTEND;TZID=UTC:20250215T210000
DTSTAMP:20260424T063427
CREATED:20250106T042309Z
LAST-MODIFIED:20250106T042309Z
UID:10000697-1739638800-1739653200@www.activityoptions.com
SUMMARY:•Rocky Mountain Pro Wrestling
DESCRIPTION:New time and day for the exciting local wrestling event. They are upping their game and getting the best Denver has to offer! Denver residents use your free membership or inquire to set one up through us using Mill Levy funding. Private pay $99. If the activity is full please join the waitlist so we know you are interested. \nRegister Online
URL:https://www.activityoptions.com/event/rocky-mountain-pro-wrestling-11/
LOCATION:Rocky Mountain Pro and Al Snow Wrestling Academy\, 2170 W Yale Ave\, Englewood\, CO\, 80110
ATTACH;FMTTYPE=image/png:https://www.activityoptions.com/wp-content/uploads/2022/04/RMProWresstling.png
ORGANIZER;CN="Activity Options LLC /Project World PBC":MAILTO:signup@activityoptions.com
END:VEVENT
BEGIN:VEVENT
DTSTART;TZID=UTC:20250216T110000
DTEND;TZID=UTC:20250216T180000
DTSTAMP:20260424T063427
CREATED:20250106T043050Z
LAST-MODIFIED:20250106T043050Z
UID:10000698-1739703600-1739728800@www.activityoptions.com
SUMMARY:•Downtown Day at Museum of Illusions & Urban Putt
DESCRIPTION:Take the light rail downtown to the new Museum of Illusions on 16th St and then walk over to Urban Putt for a meal and a rousing game of putt putt golf on this Colorado inspired indoor course. Denver residents use your free membership or inquire to set one up through us using Mill Levy funding. Private pay $160. If the activity is full please join the waitlist so we know you are interested. \nRegister Online
URL:https://www.activityoptions.com/event/downtown-day-at-museum-of-illusions-urban-putt-2/
LOCATION:Illusionist Museum denver\, 951 16th St Mall\, Denver\, CO\, 80202\, United States
ATTACH;FMTTYPE=image/png:https://www.activityoptions.com/wp-content/uploads/2024/01/Illusion.png
ORGANIZER;CN="Activity Options LLC /Project World PBC":MAILTO:signup@activityoptions.com
END:VEVENT
BEGIN:VEVENT
DTSTART;TZID=UTC:20250221T170000
DTEND;TZID=UTC:20250221T220000
DTSTAMP:20260424T063427
CREATED:20250106T044152Z
LAST-MODIFIED:20250106T044152Z
UID:10000699-1740157200-1740175200@www.activityoptions.com
SUMMARY:•Buck Center Valentine's Dance
DESCRIPTION:Get together for dinner and then go to the Buck Recreation Center Dance for a Valentine celebration. Denver residents use your free membership or inquire to set one up through us using Mill Levy funding. Private pay $. If the activity is full please join the waitlist so we know you are interested. \nRegister Online
URL:https://www.activityoptions.com/event/buck-center-valentines-dance-2/
LOCATION:Buck Recreation Center\, 2004 W Powers Ave\, Littleton\, CO\, 80120
ATTACH;FMTTYPE=image/png:https://www.activityoptions.com/wp-content/uploads/2023/01/VDayDance.png
ORGANIZER;CN="Activity Options LLC /Project World PBC":MAILTO:signup@activityoptions.com
END:VEVENT
BEGIN:VEVENT
DTSTART;TZID=UTC:20250222T170000
DTEND;TZID=UTC:20250222T210000
DTSTAMP:20260424T063427
CREATED:20250106T044740Z
LAST-MODIFIED:20250106T044740Z
UID:10000700-1740243600-1740258000@www.activityoptions.com
SUMMARY:•Dinner Group
DESCRIPTION:Visit a local restaurant favorite with friends. Denver residents use your free membership or inquire to set one up through us using Mill Levy funding. Private pay $59. If the activity is full please join the waitlist so we know you are interested. \nRegister Online
URL:https://www.activityoptions.com/event/dinner-group-2/
LOCATION:Activity Options Community Center (Arvada)\, 7401 W 59th Ave\, Arvada\, Colorado\, 80003
ATTACH;FMTTYPE=image/png:https://www.activityoptions.com/wp-content/uploads/2022/03/Dinner-Group.png
ORGANIZER;CN="Activity Options LLC /Project World PBC":MAILTO:signup@activityoptions.com
END:VEVENT
BEGIN:VEVENT
DTSTART;TZID=UTC:20250228T073000
DTEND;TZID=UTC:20250228T173000
DTSTAMP:20260424T063427
CREATED:20250106T045329Z
LAST-MODIFIED:20250106T045329Z
UID:10000701-1740727800-1740763800@www.activityoptions.com
SUMMARY:•Skiing or Snowboarding at Loveland
DESCRIPTION:Hit the slopes and enjoy the great Colorado conditions at Loveland Ski Area. Rental equipment\, lunch and transportation included. This is not a ski school but you’ll be with an experienced guide who can help navigate the details. Denver residents use your free membership or inquire to set one up through us using Mill Levy funding. Private pay $325. If the activity is full please join the waitlist so we know you are interested. \nRegister Online
URL:https://www.activityoptions.com/event/skiing-or-snowboarding-at-loveland-7/
LOCATION:Loveland & Keystone\, Colorado
ATTACH;FMTTYPE=image/png:https://www.activityoptions.com/wp-content/uploads/2022/01/Ski-Snowboard.png
ORGANIZER;CN="Activity Options LLC /Project World PBC":MAILTO:signup@activityoptions.com
GEO:39.5500507;-105.7820674
END:VEVENT
BEGIN:VEVENT
DTSTART;TZID=UTC:20250228T160000
DTEND;TZID=UTC:20250228T210000
DTSTAMP:20260424T063427
CREATED:20250217T161020Z
LAST-MODIFIED:20250217T161020Z
UID:10000702-1740758400-1740776400@www.activityoptions.com
SUMMARY:•Top Golf
DESCRIPTION:You don’t have to know how to swing a club to join us for the\, first ever\, Top Golf Party! Come and enjoy this unique venue and the fresh evening air. Denver residents use your free IML membership or inquire to set one up. Private pay $99. If the activity is full join the waitlist so we know you are interested. \nRegister Online
URL:https://www.activityoptions.com/event/top-golf-10/
LOCATION:Top Golf Denver\, 10601 E Easter Ave\, Centennial\, CO\, 80112\, United States
ATTACH;FMTTYPE=image/png:https://www.activityoptions.com/wp-content/uploads/2022/04/TopGolf.png
ORGANIZER;CN="Activity Options LLC /Project World PBC":MAILTO:signup@activityoptions.com
END:VEVENT
END:VCALENDAR