BEGIN:VCALENDAR
VERSION:2.0
PRODID:-//Activity Options - ECPv6.15.20//NONSGML v1.0//EN
CALSCALE:GREGORIAN
METHOD:PUBLISH
X-ORIGINAL-URL:https://www.activityoptions.com
X-WR-CALDESC:Events for Activity Options
REFRESH-INTERVAL;VALUE=DURATION:PT1H
X-Robots-Tag:noindex
X-PUBLISHED-TTL:PT1H
BEGIN:VTIMEZONE
TZID:UTC
BEGIN:STANDARD
TZOFFSETFROM:+0000
TZOFFSETTO:+0000
TZNAME:UTC
DTSTART:20230101T000000
END:STANDARD
END:VTIMEZONE
BEGIN:VEVENT
DTSTART;TZID=UTC:20240504T170000
DTEND;TZID=UTC:20240504T230000
DTSTAMP:20260424T223214
CREATED:20240416T063716Z
LAST-MODIFIED:20240416T063716Z
UID:10000593-1714842000-1714863600@www.activityoptions.com
SUMMARY:•Rocky Mountain Pro Wrestling
DESCRIPTION:Join our wrestling buddies live at their new venue at Jefferson County Fairgrounds. Free for Denver residents. Private pay $79. *New to Activity Options? If the activity is full join the waitlist and we will do or best to make sure you can attend. \nRegister Online
URL:https://www.activityoptions.com/event/rocky-mountain-pro-wrestling-5/
LOCATION:Rocky Mountain Pro and Al Snow Wrestling Academy\, 2170 W Yale Ave\, Englewood\, CO\, 80110
ATTACH;FMTTYPE=image/png:https://www.activityoptions.com/wp-content/uploads/2022/04/RMProWresstling.png
ORGANIZER;CN="Activity Options LLC /Project World PBC":MAILTO:signup@activityoptions.com
END:VEVENT
BEGIN:VEVENT
DTSTART;TZID=UTC:20240505T130000
DTEND;TZID=UTC:20240505T180000
DTSTAMP:20260424T223214
CREATED:20240417T020021Z
LAST-MODIFIED:20240417T020021Z
UID:10000602-1714914000-1714932000@www.activityoptions.com
SUMMARY:•Roxborough State Park-Day Outdoors
DESCRIPTION:Explore the trails at Roxborough State Park and visit the museum. Lunch at The Lake House Kitchen in Littleton. Free for Denver residents. Private pay $79. *New to Activity Options? If the activity is full please join the waitlist and we will do our best to make sure you can attend. \nRegister Online
URL:https://www.activityoptions.com/event/roxborough-state-park-day-outdoors/
LOCATION:Roxborough State Park\, 4751 Roxborough Dr\, Littleton\, CO\, 80125\, United States
ATTACH;FMTTYPE=image/png:https://www.activityoptions.com/wp-content/uploads/2024/04/Roxborough.png
ORGANIZER;CN="Activity Options LLC /Project World PBC":MAILTO:signup@activityoptions.com
END:VEVENT
BEGIN:VEVENT
DTSTART;TZID=UTC:20240510T170000
DTEND;TZID=UTC:20240510T210000
DTSTAMP:20260424T223214
CREATED:20240416T064936Z
LAST-MODIFIED:20240416T064936Z
UID:10000595-1715360400-1715374800@www.activityoptions.com
SUMMARY:•Top Golf
DESCRIPTION:You don’t have to know how to swing a club to join us for a Top Golf Party! Come and enjoy this unique venue and the fresh evening air. Free for Denver residents. Private pay $99. *New to Activity Options? If the activity is full please join the waitlist so we know you are interested. \nRegister Online
URL:https://www.activityoptions.com/event/top-golf-6/
LOCATION:Top Golf Denver\, 10601 E Easter Ave\, Centennial\, CO\, 80112\, United States
ATTACH;FMTTYPE=image/png:https://www.activityoptions.com/wp-content/uploads/2022/04/TopGolf.png
ORGANIZER;CN="Activity Options LLC /Project World PBC":MAILTO:signup@activityoptions.com
END:VEVENT
BEGIN:VEVENT
DTSTART;TZID=UTC:20240511T170000
DTEND;TZID=UTC:20240511T210000
DTSTAMP:20260424T223214
CREATED:20240416T065709Z
LAST-MODIFIED:20240416T065709Z
UID:10000596-1715446800-1715461200@www.activityoptions.com
SUMMARY:•SNL Movie Night
DESCRIPTION:Join Saturday Night Club (SNL) and enjoy the company of friends. Enjoy a movie and dinner at our Center or discover what’s open in town. Free for Denver residents. Private pay $79. *New to Activity Options? If the activity is full please join the waitlist and we will do our best to make sure you can attend. \nRegister Online
URL:https://www.activityoptions.com/event/snl-movie-night-3/
LOCATION:Activity Options Community Center (Arvada)\, 7401 W 59th Ave\, Arvada\, Colorado\, 80003
ATTACH;FMTTYPE=image/png:https://www.activityoptions.com/wp-content/uploads/2021/04/SNL-sq.png
ORGANIZER;CN="Activity Options LLC /Project World PBC":MAILTO:signup@activityoptions.com
END:VEVENT
BEGIN:VEVENT
DTSTART;TZID=UTC:20240517T170000
DTEND;TZID=UTC:20240517T210000
DTSTAMP:20260424T223214
CREATED:20240416T070341Z
LAST-MODIFIED:20240416T070341Z
UID:10000597-1715965200-1715979600@www.activityoptions.com
SUMMARY:•R.I.S.E. Dance at Clements Community Center
DESCRIPTION:Join the community RiSE dance at Clements Center. Dinner before. Free for Denver residents. Private pay $79. *New to Activity Options?If the activity is full please join the waitlist and we will do our best to make sure you can attend. \nRegister Online
URL:https://www.activityoptions.com/event/r-i-s-e-dance-at-clements-community-center/
LOCATION:Clements Center\, 1580 Yarrow St\, Lakewood\, CO\, 80214\, United States
ATTACH;FMTTYPE=image/png:https://www.activityoptions.com/wp-content/uploads/2023/08/DanceParty.png
ORGANIZER;CN="Activity Options LLC /Project World PBC":MAILTO:signup@activityoptions.com
END:VEVENT
BEGIN:VEVENT
DTSTART;TZID=UTC:20240518T100000
DTEND;TZID=UTC:20240518T170000
DTSTAMP:20260424T223214
CREATED:20240416T070858Z
LAST-MODIFIED:20240416T070909Z
UID:10000598-1716026400-1716051600@www.activityoptions.com
SUMMARY:•Pikes Peak COG Railroad
DESCRIPTION:Come aboard the Manitou Pikes peak COG Railroad and ride to the top of Pikes Peak. Amazing views! Free for Denver residents. Private pay $129. *New to Activity Options? If the activity is full please join the waitlist and we will do our best to make sure you can attend. \nRegister Online
URL:https://www.activityoptions.com/event/pike-peak-cog-railroad/
LOCATION:Pikes Peak Cog Railway\, 515 Ruxton Ave\, Manitou Springs\, CO\, 80829\, United States
ATTACH;FMTTYPE=image/png:https://www.activityoptions.com/wp-content/uploads/2023/03/CogRailroad.png
ORGANIZER;CN="Activity Options LLC /Project World PBC":MAILTO:signup@activityoptions.com
END:VEVENT
BEGIN:VEVENT
DTSTART;TZID=UTC:20240524T100000
DTEND;TZID=UTC:20240524T170000
DTSTAMP:20260424T223214
CREATED:20240416T071654Z
LAST-MODIFIED:20240519T063658Z
UID:10000599-1716544800-1716570000@www.activityoptions.com
SUMMARY:•Horse Back Riding
DESCRIPTION:Register Online\nJoin an experienced wrangler for a trail ride. No experience necessary but must be able to sit upright on a horse and hold the reins. This is not therapy riding! Free for Denver residents. Private pay $160. *New to Activity Options? If the Activity Is full please join the wait list and we will do our best to make sure you can attend.
URL:https://www.activityoptions.com/event/horse-back-riding/
LOCATION:Activity Options Community Center (Arvada)\, 7401 W 59th Ave\, Arvada\, Colorado\, 80003
ATTACH;FMTTYPE=image/png:https://www.activityoptions.com/wp-content/uploads/2024/04/SalidaHBride.png
ORGANIZER;CN="Activity Options LLC /Project World PBC":MAILTO:signup@activityoptions.com
END:VEVENT
BEGIN:VEVENT
DTSTART;TZID=UTC:20240525T160000
DTEND;TZID=UTC:20240525T230000
DTSTAMP:20260424T223214
CREATED:20240416T072150Z
LAST-MODIFIED:20240416T072150Z
UID:10000600-1716652800-1716678000@www.activityoptions.com
SUMMARY:•Dinner Club
DESCRIPTION:Have dinner with friends at one of our favorite restaurants. Free for Denver residents. Private pay $99. *New to Activity Options? If the activity is full please join the waitlist and we will do our best to make sure you can attend. \nRegister Online
URL:https://www.activityoptions.com/event/dinner-club-5/
LOCATION:Activity Options Community Center (Arvada)\, 7401 W 59th Ave\, Arvada\, Colorado\, 80003
ATTACH;FMTTYPE=image/png:https://www.activityoptions.com/wp-content/uploads/2022/03/Dinner-Group.png
ORGANIZER;CN="Activity Options LLC /Project World PBC":MAILTO:signup@activityoptions.com
END:VEVENT
BEGIN:VEVENT
DTSTART;TZID=UTC:20240527T110000
DTEND;TZID=UTC:20240527T150000
DTSTAMP:20260424T223214
CREATED:20240416T072628Z
LAST-MODIFIED:20240416T072628Z
UID:10000601-1716807600-1716822000@www.activityoptions.com
SUMMARY:•Memorial Day Party!
DESCRIPTION:Celebrate the start of the summer at the Annual Memorial Day Party BBQ. Games\, food and fun. Free for Denver residents. Private pay $25. *New to Activity Options? If the activity is full please join the waitlist and we will do our best to make sure you can attend. \nRegister Online
URL:https://www.activityoptions.com/event/memorial-day-party-4/
LOCATION:Activity Options Community Center (Arvada)\, 7401 W 59th Ave\, Arvada\, Colorado\, 80003
ATTACH;FMTTYPE=image/png:https://www.activityoptions.com/wp-content/uploads/2022/04/Memorial-Day.png
ORGANIZER;CN="Activity Options LLC /Project World PBC":MAILTO:signup@activityoptions.com
END:VEVENT
END:VCALENDAR