BEGIN:VCALENDAR
VERSION:2.0
PRODID:-//Activity Options - ECPv6.15.20//NONSGML v1.0//EN
CALSCALE:GREGORIAN
METHOD:PUBLISH
X-ORIGINAL-URL:https://www.activityoptions.com
X-WR-CALDESC:Events for Activity Options
REFRESH-INTERVAL;VALUE=DURATION:PT1H
X-Robots-Tag:noindex
X-PUBLISHED-TTL:PT1H
BEGIN:VTIMEZONE
TZID:UTC
BEGIN:STANDARD
TZOFFSETFROM:+0000
TZOFFSETTO:+0000
TZNAME:UTC
DTSTART:20230101T000000
END:STANDARD
END:VTIMEZONE
BEGIN:VEVENT
DTSTART;TZID=UTC:20240405T160000
DTEND;TZID=UTC:20240405T220000
DTSTAMP:20260425T000908
CREATED:20240309T183720Z
LAST-MODIFIED:20240309T205654Z
UID:10000585-1712332800-1712354400@www.activityoptions.com
SUMMARY:•Rocky Mountain Pro Wrestling
DESCRIPTION:First Friday of every month Rocky Mountain Pro hosts a night of action at the rowdy bierstadt lagerhaus! Free for Denver residents. Private Pay $100. *New to Activity Options? If the activity is full please join the waitlist and we will do our best to make sure you can attend. \nRegister Online
URL:https://www.activityoptions.com/event/rocky-mountain-pro-wrestling-4/
LOCATION:Rocky Mountain Pro and Al Snow Wrestling Academy\, 2170 W Yale Ave\, Englewood\, CO\, 80110
ATTACH;FMTTYPE=image/png:https://www.activityoptions.com/wp-content/uploads/2022/04/RMProWresstling.png
ORGANIZER;CN="Activity Options LLC /Project World PBC":MAILTO:signup@activityoptions.com
END:VEVENT
BEGIN:VEVENT
DTSTART;TZID=UTC:20240405T160000
DTEND;TZID=UTC:20240405T230000
DTSTAMP:20260425T000908
CREATED:20240309T183111Z
LAST-MODIFIED:20240309T183111Z
UID:10000584-1712332800-1712358000@www.activityoptions.com
SUMMARY:•Dinner and BINGO!
DESCRIPTION:Early dinner followed by Bingo at The Bingo Company in Arvada. Free for Denver residents. Private pay $100. *New to Activity Options? If the activity is full please join the waitlist and we will do our best to make sure you can attend. \nRegister Online
URL:https://www.activityoptions.com/event/dinner-and-bingo/
LOCATION:The BINGO Company\, 6520 Wadsworth Blvd Ste 100\, Arvada\, Colorado\, 80003
ATTACH;FMTTYPE=image/png:https://www.activityoptions.com/wp-content/uploads/2020/01/BINGOco.png
ORGANIZER;CN="Activity Options LLC /Project World PBC":MAILTO:signup@activityoptions.com
END:VEVENT
BEGIN:VEVENT
DTSTART;TZID=UTC:20240413T110000
DTEND;TZID=UTC:20240413T170000
DTSTAMP:20260425T000908
CREATED:20240309T185413Z
LAST-MODIFIED:20240309T185413Z
UID:10000586-1713006000-1713027600@www.activityoptions.com
SUMMARY:MJ the Musical at DCPA
DESCRIPTION:He is one of the greatest entertainers of all time. Now\, Michael Jackson’s unique and unparalleled artistry comes to Denver as MJ\, the multi Tony Award®-winning new musical centered around the making of the 1992 Dangerous World Tour\, begins a tour of its own. Free for Denver residents. Private pay $200. *New to Activity Options? If the activity is full please jpoin the waitlist and we will doo our best to make sure you can attend. \nRegister Online
URL:https://www.activityoptions.com/event/mj-the-musical-at-dcpa/
LOCATION:Denver Center for the Performing Arts\, 1101 13th St\, Denver\, CO\, 80204
ATTACH;FMTTYPE=image/png:https://www.activityoptions.com/wp-content/uploads/2024/03/MJDCPA.png
ORGANIZER;CN="Activity Options LLC /Project World PBC":MAILTO:signup@activityoptions.com
GEO:39.7453475;-104.998331
X-APPLE-STRUCTURED-LOCATION;VALUE=URI;X-ADDRESS=Denver Center for the Performing Arts 1101 13th St Denver CO 80204;X-APPLE-RADIUS=500;X-TITLE=1101 13th St:geo:-104.998331,39.7453475
END:VEVENT
BEGIN:VEVENT
DTSTART;TZID=UTC:20240414T080000
DTEND;TZID=UTC:20240414T140000
DTSTAMP:20260425T000908
CREATED:20240309T190002Z
LAST-MODIFIED:20240309T190002Z
UID:10000587-1713081600-1713103200@www.activityoptions.com
SUMMARY:•Indian Hot Springs
DESCRIPTION:Early arrival at these famous tropical hot springs near Idaho Springs. Lunch afterwards. Free for Denver residents. Private pay $200. *New to Activity Options? If the activity is full please join the wait list and we will do our best to make sure you can attend. \nRegister Online
URL:https://www.activityoptions.com/event/indian-hot-springs-5/
LOCATION:Indian Hot Springs\, 302 Soda Creek Rd\, Idaho Springs\, CO\, 80452
ATTACH;FMTTYPE=image/jpeg:https://www.activityoptions.com/wp-content/uploads/2018/02/Indiam-Hot-Springs-sq.jpg
ORGANIZER;CN="Activity Options LLC /Project World PBC":MAILTO:signup@activityoptions.com
GEO:39.7392563;-105.512617
X-APPLE-STRUCTURED-LOCATION;VALUE=URI;X-ADDRESS=Indian Hot Springs 302 Soda Creek Rd Idaho Springs CO 80452;X-APPLE-RADIUS=500;X-TITLE=302 Soda Creek Rd:geo:-105.512617,39.7392563
END:VEVENT
BEGIN:VEVENT
DTSTART;TZID=UTC:20240419T170000
DTEND;TZID=UTC:20240419T210000
DTSTAMP:20260425T000908
CREATED:20240309T193010Z
LAST-MODIFIED:20240309T193028Z
UID:10000588-1713546000-1713560400@www.activityoptions.com
SUMMARY:•Clements Center Dance Night!
DESCRIPTION:Get together for dinner and then go to the Clements Community Center Dance. Hang-out or dance and have fun! Free for Denver residents. Private pay $100. *New to Activity Options? f the activity is full please join the wait list and we will do our best to make sure you can attend. \nRegister Online
URL:https://www.activityoptions.com/event/clements-center-dance-night/
LOCATION:Clements Center\, 1580 Yarrow St\, Lakewood\, CO\, 80214\, United States
ATTACH;FMTTYPE=image/png:https://www.activityoptions.com/wp-content/uploads/2023/08/DanceParty.png
ORGANIZER;CN="Activity Options LLC /Project World PBC":MAILTO:signup@activityoptions.com
END:VEVENT
BEGIN:VEVENT
DTSTART;TZID=UTC:20240420T080000
DTEND;TZID=UTC:20240423T170000
DTSTAMP:20260425T000908
CREATED:20240111T053935Z
LAST-MODIFIED:20240219T170828Z
UID:10000569-1713600000-1713891600@www.activityoptions.com
SUMMARY:•Moab Adventure Travel
DESCRIPTION:4 Days / 3 Nights – Three nights at the Sorel River Ranch Resort near Moab. Enjoy the vast scenery of Arches and Canyon lands National Parks. Lots of possible active outdoor activities including rafting\, ATV rides\, horse back riding and hiking. Free for Denver residents. Private pay $2\,500. *New to Activity Options? If the activity is full\, please join the wait list and we will do our best to make sure you can attend. \nRegister Online
URL:https://www.activityoptions.com/event/moab-adventure-travel/
LOCATION:Moab\, Utah\, Utah
ATTACH;FMTTYPE=image/jpeg:https://www.activityoptions.com/wp-content/uploads/2018/09/Moab-Roadtrip.jpg
ORGANIZER;CN="Activity Options LLC /Project World PBC":MAILTO:signup@activityoptions.com
GEO:39.3209801;-111.0937311
END:VEVENT
BEGIN:VEVENT
DTSTART;TZID=UTC:20240420T170000
DTEND;TZID=UTC:20240420T210000
DTSTAMP:20260425T000908
CREATED:20240309T193546Z
LAST-MODIFIED:20240309T193546Z
UID:10000589-1713632400-1713646800@www.activityoptions.com
SUMMARY:•Saturday Night Live (SNL)
DESCRIPTION:Join Saturday Night Club (SNL) and enjoy the company of friends. Dinner and movie at our Center or discover what’s open in town. Free for Denver residents. Private pay $100. *New to Activity Options? If the activity is full please join the waitlist and we will do our best to make sure you are able to attend. \nRegister Online
URL:https://www.activityoptions.com/event/saturday-night-live-snl-5/
LOCATION:Activity Options Community Center (Arvada)\, 7401 W 59th Ave\, Arvada\, Colorado\, 80003
ATTACH;FMTTYPE=image/png:https://www.activityoptions.com/wp-content/uploads/2021/04/SNL-sq.png
ORGANIZER;CN="Activity Options LLC /Project World PBC":MAILTO:signup@activityoptions.com
END:VEVENT
BEGIN:VEVENT
DTSTART;TZID=UTC:20240426T170000
DTEND;TZID=UTC:20240426T220000
DTSTAMP:20260425T000908
CREATED:20240309T195750Z
LAST-MODIFIED:20240309T195750Z
UID:10000590-1714150800-1714168800@www.activityoptions.com
SUMMARY:•Dinner Club
DESCRIPTION:Have dinner with friends at one of our favorite restaurants. Free for Denver residents. Private pay $100. *New to Activity Options? If the activity is full please join the waitlist and we will do our best to make sure you are able to attend. \nRegister Online
URL:https://www.activityoptions.com/event/dinner-club-4/
LOCATION:Activity Options Community Center (Arvada)\, 7401 W 59th Ave\, Arvada\, Colorado\, 80003
ATTACH;FMTTYPE=image/png:https://www.activityoptions.com/wp-content/uploads/2022/03/Dinner-Group.png
ORGANIZER;CN="Activity Options LLC /Project World PBC":MAILTO:signup@activityoptions.com
END:VEVENT
BEGIN:VEVENT
DTSTART;TZID=UTC:20240427T160000
DTEND;TZID=UTC:20240427T230000
DTSTAMP:20260425T000908
CREATED:20240309T200859Z
LAST-MODIFIED:20240309T200911Z
UID:10000591-1714233600-1714258800@www.activityoptions.com
SUMMARY:•Monster Truck Jam
DESCRIPTION:Enjoy big-time family fun at Monster Jam®\, where the world’s best drivers and their 12\,000-pound monster trucks tear up the dirt in wide-open competitions of speed and skill. Witness massive stunts\, big-air\, backflips and fierce head-to-head battles for the Event Championship. You’ll be on the edge of your seat watching the world’s most popular trucks like Grave Digger®\, Max-D™\, Megalodon® and more push the limits in Freestyle\, Skills and Racing competitions. Make memories to last a lifetime. Monster Jam. As Big As It Gets!™ Free for Denver residents. Private pay $200. *New to Activity Options? If the activity is full please join the waitlist and we will do our best to make sure you are able to attend. \nRegister Online
URL:https://www.activityoptions.com/event/monster-trucks/
LOCATION:Empower Stadium\, 1701 Bryant St\, Denver\, CO\, 80204\, United States
ATTACH;FMTTYPE=image/jpeg:https://www.activityoptions.com/wp-content/uploads/2024/03/Monster-Jam-sq.jpg
ORGANIZER;CN="Activity Options LLC /Project World PBC":MAILTO:signup@activityoptions.com
END:VEVENT
END:VCALENDAR