BEGIN:VCALENDAR
VERSION:2.0
PRODID:-//Activity Options - ECPv6.15.20//NONSGML v1.0//EN
CALSCALE:GREGORIAN
METHOD:PUBLISH
X-WR-CALNAME:Activity Options
X-ORIGINAL-URL:https://www.activityoptions.com
X-WR-CALDESC:Events for Activity Options
REFRESH-INTERVAL;VALUE=DURATION:PT1H
X-Robots-Tag:noindex
X-PUBLISHED-TTL:PT1H
BEGIN:VTIMEZONE
TZID:UTC
BEGIN:STANDARD
TZOFFSETFROM:+0000
TZOFFSETTO:+0000
TZNAME:UTC
DTSTART:20230101T000000
END:STANDARD
END:VTIMEZONE
BEGIN:VEVENT
DTSTART;TZID=UTC:20240202T160000
DTEND;TZID=UTC:20240202T200000
DTSTAMP:20260425T030650
CREATED:20240110T184210Z
LAST-MODIFIED:20240110T184210Z
UID:10000559-1706889600-1706904000@www.activityoptions.com
SUMMARY:•Bowling and Buffet
DESCRIPTION:Bowling at Celebrity in Centennial. Dinner and buffet. Free for Denver residents. Private pay $99.*New to Activity Options? If the activity is full\, please join the waitlist and we will do our best to make sure you can attend. \nRegister Online
URL:https://www.activityoptions.com/event/bowling-and-buffet-2/
LOCATION:Celebrity Lanes Centennial\, 15755 E Arapahoe Rd\, Centennial\, Colorado\, 80016
ATTACH;FMTTYPE=image/png:https://www.activityoptions.com/wp-content/uploads/2023/09/CelebLanes.png
ORGANIZER;CN="Activity Options LLC /Project World PBC":MAILTO:signup@activityoptions.com
END:VEVENT
BEGIN:VEVENT
DTSTART;TZID=UTC:20240203T170000
DTEND;TZID=UTC:20240203T220000
DTSTAMP:20260425T030650
CREATED:20240110T190412Z
LAST-MODIFIED:20240110T190412Z
UID:10000560-1706979600-1706997600@www.activityoptions.com
SUMMARY:•Saturday Night Live SNL
DESCRIPTION:Join Saturday Night Club (SNL) and enjoy the company of friends. Dinner and movie at our Center or discover what’s open in town. Free for Denver residents. Private pay $79. *New to Activity Options? If the activity is full\, please join the waitlist and we will do our best to make sure you can attend. \nRegister Online
URL:https://www.activityoptions.com/event/saturday-night-live-snl-4/
LOCATION:Activity Options Community Center (Arvada)\, 7401 W 59th Ave\, Arvada\, Colorado\, 80003
ATTACH;FMTTYPE=image/png:https://www.activityoptions.com/wp-content/uploads/2021/04/SNL-sq.png
ORGANIZER;CN="Activity Options LLC /Project World PBC":MAILTO:signup@activityoptions.com
END:VEVENT
BEGIN:VEVENT
DTSTART;TZID=UTC:20240209T073000
DTEND;TZID=UTC:20240209T173000
DTSTAMP:20260425T030650
CREATED:20240110T191407Z
LAST-MODIFIED:20240110T191921Z
UID:10000561-1707463800-1707499800@www.activityoptions.com
SUMMARY:•Skiing or Snowboarding at Loveland
DESCRIPTION:Hit the slopes and enjoy the great Colorado conditions at Loveland Ski Area. Rental equipment\, lunch and transportation included. This is not a ski school but you’ll be with an experienced guide who can help navigate the details. Free for Denver residents. Private pay $300. *New to Activity Options? If the activity is full\, please join the wait list and we will do our best to make sure you can attend. \nRegister Online
URL:https://www.activityoptions.com/event/ski-or-snowboard-at-loveland/
LOCATION:Loveland & Keystone\, Colorado
ATTACH;FMTTYPE=image/png:https://www.activityoptions.com/wp-content/uploads/2022/01/Ski-Snowboard.png
ORGANIZER;CN="Activity Options LLC /Project World PBC":MAILTO:signup@activityoptions.com
GEO:39.5500507;-105.7820674
END:VEVENT
BEGIN:VEVENT
DTSTART;TZID=UTC:20240210T140000
DTEND;TZID=UTC:20240210T200000
DTSTAMP:20260425T030650
CREATED:20240110T194951Z
LAST-MODIFIED:20240110T194951Z
UID:10000562-1707573600-1707595200@www.activityoptions.com
SUMMARY:•Space Explorers: THE INFINITE
DESCRIPTION:An immersive experience inspired by NASA missions. Board a 3D model of the International Space Station. Located at The Hangar at Stanley Marketplace. Free for Denver residents. Private pay $160. *New to Activity Options? If the activity is full\, please join the wait list and we will do our best to make sure you can attend. \nRegister Online
URL:https://www.activityoptions.com/event/space-explorers-the-infinite/
LOCATION:The Stanley Marketplace\, 2501 Dallas St\, Aurora\, CO\, 80010\, United States
ATTACH;FMTTYPE=image/png:https://www.activityoptions.com/wp-content/uploads/2024/01/Infinite.png
ORGANIZER;CN="Activity Options LLC /Project World PBC":MAILTO:signup@activityoptions.com
END:VEVENT
BEGIN:VEVENT
DTSTART;TZID=UTC:20240211T140000
DTEND;TZID=UTC:20240211T210000
DTSTAMP:20260425T030650
CREATED:20240111T022300Z
LAST-MODIFIED:20240111T022555Z
UID:10000563-1707660000-1707685200@www.activityoptions.com
SUMMARY:•Super Bowl LVIII
DESCRIPTION:Watch Super Bowl LVII with friends at the West Community Center. Includes dinner. Free for Denver residents. Private Pay $79. *New to Activity Options? If the activity is full\, please join the wait list and we will do our best to make sure you can attend. \nRegister Online
URL:https://www.activityoptions.com/event/super-bowl-lviii/
LOCATION:Activity Options Community Center (Arvada)\, 7401 W 59th Ave\, Arvada\, Colorado\, 80003
ATTACH;FMTTYPE=image/png:https://www.activityoptions.com/wp-content/uploads/2024/01/Untitled-2.png
ORGANIZER;CN="Activity Options LLC /Project World PBC":MAILTO:signup@activityoptions.com
END:VEVENT
BEGIN:VEVENT
DTSTART;TZID=UTC:20240216T170000
DTEND;TZID=UTC:20240216T220000
DTSTAMP:20260425T030650
CREATED:20240111T023451Z
LAST-MODIFIED:20240111T023451Z
UID:10000564-1708102800-1708120800@www.activityoptions.com
SUMMARY:•Buck Center Valentine's Dance
DESCRIPTION:Get together for dinner and then go to the Buck Recreation Center Dance for a Valentine celebration. Free for Denver residents. Private pay $99. *New to Activity Options? If the activity is full\, please join the wait list and we will do our best to make sure you can attend. \nRegister Online
URL:https://www.activityoptions.com/event/buck-center-valentines-dance/
LOCATION:Buck Recreation Center\, 2004 W Powers Ave\, Littleton\, CO\, 80120
ATTACH;FMTTYPE=image/png:https://www.activityoptions.com/wp-content/uploads/2023/01/VDayDance.png
ORGANIZER;CN="Activity Options LLC /Project World PBC":MAILTO:signup@activityoptions.com
END:VEVENT
BEGIN:VEVENT
DTSTART;TZID=UTC:20240218T110000
DTEND;TZID=UTC:20240218T180000
DTSTAMP:20260425T030650
CREATED:20240111T025650Z
LAST-MODIFIED:20240111T025650Z
UID:10000565-1708254000-1708279200@www.activityoptions.com
SUMMARY:•Downtown Day at Museum of Illusions & Urban Putt
DESCRIPTION:Take the light rail downtown to the new Museum of Illusions on 16th St and then walk over to Urban Putt for a meal and a rousing game of putt putt golf on this Colorado inspired indoor course. Free for Denver residents. Private pay $160. *New to Activity Options? If the activity is full\, please join the wait list and we will do our best to make sure you can attend. \nRegister Online
URL:https://www.activityoptions.com/event/downtown-day-at-museum-of-illusions-urban-putt/
LOCATION:Illusionist Museum denver\, 951 16th St Mall\, Denver\, CO\, 80202\, United States
ATTACH;FMTTYPE=image/png:https://www.activityoptions.com/wp-content/uploads/2024/01/Illusion.png
ORGANIZER;CN="Activity Options LLC /Project World PBC":MAILTO:signup@activityoptions.com
END:VEVENT
BEGIN:VEVENT
DTSTART;TZID=UTC:20240223T170000
DTEND;TZID=UTC:20240223T210000
DTSTAMP:20260425T030650
CREATED:20240111T030652Z
LAST-MODIFIED:20240111T030652Z
UID:10000566-1708707600-1708722000@www.activityoptions.com
SUMMARY:•Colorado Mammoth vs. New York Riptide
DESCRIPTION:Live NLL Lacrosse game at Ball Arena featuring the Colorado Mammoth vs. the New York Riptide. Free for Denver residents. Private Pay $160. *New to Activity Options? If the activity is full\, please join the wait list and we will do our best to make sure you can attend. \nRegister Online
URL:https://www.activityoptions.com/event/colorado-mammoth-vs-new-york-riptide/
LOCATION:Ball Arena
ATTACH;FMTTYPE=image/png:https://www.activityoptions.com/wp-content/uploads/2024/01/Mammouth.png
ORGANIZER;CN="Activity Options LLC /Project World PBC":MAILTO:signup@activityoptions.com
END:VEVENT
BEGIN:VEVENT
DTSTART;TZID=UTC:20240224T170000
DTEND;TZID=UTC:20240224T210000
DTSTAMP:20260425T030650
CREATED:20240111T031211Z
LAST-MODIFIED:20240111T031211Z
UID:10000567-1708794000-1708808400@www.activityoptions.com
SUMMARY:•Dinner Group
DESCRIPTION:Visit a local restaurant favorite with friends. Free for Denver residents. Private pay $59. *New to Activity Options? If the activity is full\, please join the wait list and we will do our best to make sure you can attend. \nRegister Online
URL:https://www.activityoptions.com/event/dinner-group/
LOCATION:Activity Options Community Center (Arvada)\, 7401 W 59th Ave\, Arvada\, Colorado\, 80003
ATTACH;FMTTYPE=image/png:https://www.activityoptions.com/wp-content/uploads/2022/03/Dinner-Group.png
ORGANIZER;CN="Activity Options LLC /Project World PBC":MAILTO:signup@activityoptions.com
END:VEVENT
END:VCALENDAR