BEGIN:VCALENDAR
VERSION:2.0
PRODID:-//Activity Options - ECPv6.15.20//NONSGML v1.0//EN
CALSCALE:GREGORIAN
METHOD:PUBLISH
X-WR-CALNAME:Activity Options
X-ORIGINAL-URL:https://www.activityoptions.com
X-WR-CALDESC:Events for Activity Options
REFRESH-INTERVAL;VALUE=DURATION:PT1H
X-Robots-Tag:noindex
X-PUBLISHED-TTL:PT1H
BEGIN:VTIMEZONE
TZID:UTC
BEGIN:STANDARD
TZOFFSETFROM:+0000
TZOFFSETTO:+0000
TZNAME:UTC
DTSTART:20190101T000000
END:STANDARD
END:VTIMEZONE
BEGIN:VEVENT
DTSTART;TZID=UTC:20200814T163000
DTEND;TZID=UTC:20200814T220000
DTSTAMP:20260423T190150
CREATED:20200128T195643Z
LAST-MODIFIED:20201006T051848Z
UID:10000155-1597422600-1597442400@www.activityoptions.com
SUMMARY:• Dinner and BINGO!
DESCRIPTION:Join the games at The Bingo Company in Arvada. Assistance provided if needed. Dinner included. Free for Denver residents. $69 for non residents\, Medicaid waiver restrictions may apply. \nRegister Online
URL:https://www.activityoptions.com/event/%e2%80%a2dinner-and-bingo/2020-08-14/
LOCATION:The BINGO Company\, 6520 Wadsworth Blvd Ste 100\, Arvada\, Colorado\, 80003
ATTACH;FMTTYPE=image/png:https://www.activityoptions.com/wp-content/uploads/2020/01/BINGOco.png
ORGANIZER;CN="Activity Options LLC /Project World PBC":MAILTO:signup@activityoptions.com
END:VEVENT
BEGIN:VEVENT
DTSTART;TZID=UTC:20200808T170000
DTEND;TZID=UTC:20200808T220000
DTSTAMP:20260423T190150
CREATED:20191120T050734Z
LAST-MODIFIED:20201109T080523Z
UID:10000045-1596906000-1596924000@www.activityoptions.com
SUMMARY:• Saturday Movie Night
DESCRIPTION:Join Saturday Night Club (SNL) and enjoy the company of friends.Enjoy a movie and dinner at our Center or discover what’s open in town. Free for Denver residents. $10 for non residents. \nRegister Online
URL:https://www.activityoptions.com/event/%e2%80%a2-saturday-movie-night/2020-08-08/
LOCATION:Local Theater
ATTACH;FMTTYPE=image/jpeg:https://www.activityoptions.com/wp-content/uploads/2018/07/SNL-Movie-Night-sq.jpg
ORGANIZER;CN="Activity Options LLC /Project World PBC":MAILTO:signup@activityoptions.com
END:VEVENT
BEGIN:VEVENT
DTSTART;TZID=UTC:20200725T080000
DTEND;TZID=UTC:20200726T200000
DTSTAMP:20260423T190150
CREATED:20200129T011559Z
LAST-MODIFIED:20200129T011559Z
UID:10000175-1595664000-1595793600@www.activityoptions.com
SUMMARY:•Blake Shelton LIVE at Cheyenne Frontier Days
DESCRIPTION:Take a short road trip to Cheyenne\, WY and explore the grounds of Cheyenne Frontier Days before enjoying Blake Shelton at the Fair Stadium. Overnight at Tru by Hilton in Cheyenne. Free for Denver residents. $399 for non residents\, Medicaid waiver restrictions may apply. \nRegister Online
URL:https://www.activityoptions.com/event/%e2%80%a2blake-shelton-live-cheyenne-frontier-days/
LOCATION:The Cheyenne Frontier Days Arena\, 4610 Carey Avenue\, 1210 W 8th Ave\, Cheyenne\, WY\, 82001\, United States
ORGANIZER;CN="Activity Options LLC /Project World PBC":MAILTO:signup@activityoptions.com
END:VEVENT
BEGIN:VEVENT
DTSTART;TZID=UTC:20200702T080000
DTEND;TZID=UTC:20200706T200000
DTSTAMP:20260423T190150
CREATED:20191206T174141Z
LAST-MODIFIED:20200129T044943Z
UID:10000143-1593676800-1594065600@www.activityoptions.com
SUMMARY:• 2020 Washington DC Trip
DESCRIPTION:Spend Independence Day in Washington DC and explore the many beautiful and historic sites of our nations’ capitol. Free for Denver residents. $2\,499 for non residents\, Medicaid waiver restrictions may apply. \nRegister Online
URL:https://www.activityoptions.com/event/%e2%80%a2-2020-washington-dc-trip/
LOCATION:Washington DC
ATTACH;FMTTYPE=image/png:https://www.activityoptions.com/wp-content/uploads/2019/12/WashingtonDC2020.png
ORGANIZER;CN="Activity Options LLC /Project World PBC":MAILTO:signup@activityoptions.com
END:VEVENT
BEGIN:VEVENT
DTSTART;TZID=UTC:20200627T163000
DTEND;TZID=UTC:20200627T220000
DTSTAMP:20260423T190150
CREATED:20200128T195643Z
LAST-MODIFIED:20201006T051848Z
UID:10000154-1593275400-1593295200@www.activityoptions.com
SUMMARY:• Dinner and BINGO!
DESCRIPTION:Join the games at The Bingo Company in Arvada. Assistance provided if needed. Dinner included. Free for Denver residents. $69 for non residents\, Medicaid waiver restrictions may apply. \nRegister Online
URL:https://www.activityoptions.com/event/%e2%80%a2dinner-and-bingo/2020-06-27/
LOCATION:The BINGO Company\, 6520 Wadsworth Blvd Ste 100\, Arvada\, Colorado\, 80003
ATTACH;FMTTYPE=image/png:https://www.activityoptions.com/wp-content/uploads/2020/01/BINGOco.png
ORGANIZER;CN="Activity Options LLC /Project World PBC":MAILTO:signup@activityoptions.com
END:VEVENT
BEGIN:VEVENT
DTSTART;TZID=UTC:20200624T173000
DTEND;TZID=UTC:20200624T203000
DTSTAMP:20260423T190150
CREATED:20191120T040243Z
LAST-MODIFIED:20201109T083128Z
UID:10000012-1593019800-1593030600@www.activityoptions.com
SUMMARY:• Wednesday Coffee Club
DESCRIPTION:Join our small group to hang out at a local coffee and tea spot for conversation\, relaxation and smiles. Includes snack. Free for Denver residents. $25 for non residents\, Medicaid waiver restrictions may apply. \nRegister Online
URL:https://www.activityoptions.com/event/%e2%80%a2-wednesday-coffee-club/2020-06-24/
LOCATION:Local Cafe
ATTACH;FMTTYPE=image/jpeg:https://www.activityoptions.com/wp-content/uploads/2017/12/Coffee-Club-sq.jpg
ORGANIZER;CN="Activity Options LLC /Project World PBC":MAILTO:signup@activityoptions.com
END:VEVENT
BEGIN:VEVENT
DTSTART;TZID=UTC:20200619T100000
DTEND;TZID=UTC:20200619T150000
DTSTAMP:20260423T190150
CREATED:20191120T042732Z
LAST-MODIFIED:20200303T174115Z
UID:10000029-1592560800-1592578800@www.activityoptions.com
SUMMARY:• Games\, Prizes and Bowling! Fridays at WILD GAME!
DESCRIPTION:Take a scenic drive to Evergreen and enjoy the entertainment mountain style\, at the Wild Game in Bergen Park! Bowling\, diverse video games\, table games\, prizes and lunch. Free for Denver residents. $79 for non residents\, Medicaid waiver restrictions may apply. \nRegister Online
URL:https://www.activityoptions.com/event/%e2%80%a2-games-prizes-bowling-fridays-wild-game/2020-06-19/
LOCATION:Wild Game\, 1204 Bergen Pkwy\, Evergreen\, CO\, 80439
ATTACH;FMTTYPE=image/jpeg:https://www.activityoptions.com/wp-content/uploads/2017/12/Wild-Game-sq-1.jpg
ORGANIZER;CN="Activity Options LLC /Project World PBC":MAILTO:signup@activityoptions.com
GEO:39.6925253;-105.3546392
X-APPLE-STRUCTURED-LOCATION;VALUE=URI;X-ADDRESS=Wild Game 1204 Bergen Pkwy Evergreen CO 80439;X-APPLE-RADIUS=500;X-TITLE=1204 Bergen Pkwy:geo:-105.3546392,39.6925253
END:VEVENT
BEGIN:VEVENT
DTSTART;TZID=UTC:20200614T160000
DTEND;TZID=UTC:20200614T220000
DTSTAMP:20260423T190150
CREATED:20200303T182450Z
LAST-MODIFIED:20200303T182450Z
UID:10000191-1592150400-1592172000@www.activityoptions.com
SUMMARY:•Hall and Oates Kool Koncert 2020!
DESCRIPTION:Pepsi Center concert featuring the original Hall and Oats duo and new and old music. Dinner included. Free for Denver residents. $129 for non residents\, Medicaid waiver restrictions may apply. Register Online. \nRegister Online
URL:https://www.activityoptions.com/event/%e2%80%a2hall-oates-kool-koncert-2020/
LOCATION:Pepsi Center\, 1000 Chopper Cir\, Denver\, CO\, 80204
ORGANIZER;CN="Activity Options LLC /Project World PBC":MAILTO:signup@activityoptions.com
GEO:39.7486389;-105.0075285
X-APPLE-STRUCTURED-LOCATION;VALUE=URI;X-ADDRESS=Pepsi Center 1000 Chopper Cir Denver CO 80204;X-APPLE-RADIUS=500;X-TITLE=1000 Chopper Cir:geo:-105.0075285,39.7486389
END:VEVENT
BEGIN:VEVENT
DTSTART;TZID=UTC:20200613T170000
DTEND;TZID=UTC:20200613T220000
DTSTAMP:20260423T190150
CREATED:20191120T050734Z
LAST-MODIFIED:20201109T080523Z
UID:10000044-1592067600-1592085600@www.activityoptions.com
SUMMARY:• Saturday Movie Night
DESCRIPTION:Join Saturday Night Club (SNL) and enjoy the company of friends.Enjoy a movie and dinner at our Center or discover what’s open in town. Free for Denver residents. $10 for non residents. \nRegister Online
URL:https://www.activityoptions.com/event/%e2%80%a2-saturday-movie-night/2020-06-13/
LOCATION:Local Theater
ATTACH;FMTTYPE=image/jpeg:https://www.activityoptions.com/wp-content/uploads/2018/07/SNL-Movie-Night-sq.jpg
ORGANIZER;CN="Activity Options LLC /Project World PBC":MAILTO:signup@activityoptions.com
END:VEVENT
BEGIN:VEVENT
DTSTART;TZID=UTC:20200605T170000
DTEND;TZID=UTC:20200605T220000
DTSTAMP:20260423T190150
CREATED:20191120T044342Z
LAST-MODIFIED:20200303T174316Z
UID:10000036-1591376400-1591394400@www.activityoptions.com
SUMMARY:• First Friday Dance
DESCRIPTION:Rock out with this on-going Dance community! DJ\, theme decorations and dessert. Includes dinner beforehand. Free for Denver residents. $25 for non residents\, Medicaid waiver restrictions may apply. \nRegister Online
URL:https://www.activityoptions.com/event/%e2%80%a2-first-friday-dance/2020-06-05/
LOCATION:Grant Street Community Center
ATTACH;FMTTYPE=image/jpeg:https://www.activityoptions.com/wp-content/uploads/2017/11/Dance-Party-sq.jpg
ORGANIZER;CN="Activity Options LLC /Project World PBC":MAILTO:signup@activityoptions.com
END:VEVENT
BEGIN:VEVENT
DTSTART;TZID=UTC:20200605T090000
DTEND;TZID=UTC:20200605T160000
DTSTAMP:20260423T190150
CREATED:20200303T181259Z
LAST-MODIFIED:20200303T181259Z
UID:10000189-1591347600-1591372800@www.activityoptions.com
SUMMARY:•NSCD Summer Fest 2020!
DESCRIPTION:Join in the Fun\, NSCD is celebrating 50 years! Summer activities\, food\, friends and tons of fun. We hope you can come 🙂 Free for Denver residents. $59 for non residents\, Mecdicaid waiver restrictions may apply. Register Online. \nRegister Online
URL:https://www.activityoptions.com/event/%e2%80%a2nscd-summer-fest-2020/
LOCATION:NSCD\, Colorado
ATTACH;FMTTYPE=image/png:https://www.activityoptions.com/wp-content/uploads/2020/03/NSCD-SUmmerFest-2020.png
ORGANIZER;CN="Activity Options LLC /Project World PBC":MAILTO:signup@activityoptions.com
END:VEVENT
BEGIN:VEVENT
DTSTART;TZID=UTC:20200530T163000
DTEND;TZID=UTC:20200530T223000
DTSTAMP:20260423T190150
CREATED:20200129T002924Z
LAST-MODIFIED:20200129T002924Z
UID:10000174-1590856200-1590877800@www.activityoptions.com
SUMMARY:•Lion King the Musical at Buell Theater
DESCRIPTION:See a live performance of this beloved Disney musical at Buell Theater. Dinner before the show. Free for Denver residents. $179 for non residents\, Medicaid waiver restrictions may apply. Register online. \nRegister Online
URL:https://www.activityoptions.com/event/%e2%80%a2lion-king-musical-buell-theater/
LOCATION:Denver Center for the Performing Arts\, 1101 13th St\, Denver\, CO\, 80204
ORGANIZER;CN="Activity Options LLC /Project World PBC":MAILTO:signup@activityoptions.com
GEO:39.7453475;-104.998331
X-APPLE-STRUCTURED-LOCATION;VALUE=URI;X-ADDRESS=Denver Center for the Performing Arts 1101 13th St Denver CO 80204;X-APPLE-RADIUS=500;X-TITLE=1101 13th St:geo:-104.998331,39.7453475
END:VEVENT
BEGIN:VEVENT
DTSTART;TZID=UTC:20200528T080000
DTEND;TZID=UTC:20200601T200000
DTSTAMP:20260423T190150
CREATED:20191205T191038Z
LAST-MODIFIED:20200129T004235Z
UID:10000142-1590652800-1591041600@www.activityoptions.com
SUMMARY:•2020 Road Trip Yellowstone and Grand Teton National Parks Tour
DESCRIPTION:Take a road trip north starting with a stop at Grand Teton National Park and then 2 days in Yellowstone. Stay at the historic Canyon Lodge and discover the wonders of this natural masterpiece. \n***Group Size limited to 7*** Free for Denver residents. $1\,799 for non residents\, Medicaid waiver restrictions may apply. \nRegister Online
URL:https://www.activityoptions.com/event/%e2%80%a2-2020-road-trip-yellowstone/
LOCATION:U.S. National Parks
ATTACH;FMTTYPE=image/png:https://www.activityoptions.com/wp-content/uploads/2019/12/YellowstoneTetonsRoadTrip.png
ORGANIZER;CN="Activity Options LLC /Project World PBC":MAILTO:signup@activityoptions.com
END:VEVENT
BEGIN:VEVENT
DTSTART;TZID=UTC:20200527T173000
DTEND;TZID=UTC:20200527T203000
DTSTAMP:20260423T190150
CREATED:20191120T040243Z
LAST-MODIFIED:20201109T083128Z
UID:10000011-1590600600-1590611400@www.activityoptions.com
SUMMARY:• Wednesday Coffee Club
DESCRIPTION:Join our small group to hang out at a local coffee and tea spot for conversation\, relaxation and smiles. Includes snack. Free for Denver residents. $25 for non residents\, Medicaid waiver restrictions may apply. \nRegister Online
URL:https://www.activityoptions.com/event/%e2%80%a2-wednesday-coffee-club/2020-05-27/
LOCATION:Local Cafe
ATTACH;FMTTYPE=image/jpeg:https://www.activityoptions.com/wp-content/uploads/2017/12/Coffee-Club-sq.jpg
ORGANIZER;CN="Activity Options LLC /Project World PBC":MAILTO:signup@activityoptions.com
END:VEVENT
BEGIN:VEVENT
DTSTART;TZID=UTC:20200523T163000
DTEND;TZID=UTC:20200523T220000
DTSTAMP:20260423T190150
CREATED:20200128T195643Z
LAST-MODIFIED:20201006T051848Z
UID:10000153-1590251400-1590271200@www.activityoptions.com
SUMMARY:• Dinner and BINGO!
DESCRIPTION:Join the games at The Bingo Company in Arvada. Assistance provided if needed. Dinner included. Free for Denver residents. $69 for non residents\, Medicaid waiver restrictions may apply. \nRegister Online
URL:https://www.activityoptions.com/event/%e2%80%a2dinner-and-bingo/2020-05-23/
LOCATION:The BINGO Company\, 6520 Wadsworth Blvd Ste 100\, Arvada\, Colorado\, 80003
ATTACH;FMTTYPE=image/png:https://www.activityoptions.com/wp-content/uploads/2020/01/BINGOco.png
ORGANIZER;CN="Activity Options LLC /Project World PBC":MAILTO:signup@activityoptions.com
END:VEVENT
BEGIN:VEVENT
DTSTART;TZID=UTC:20200522T090000
DTEND;TZID=UTC:20200522T140000
DTSTAMP:20260423T190150
CREATED:20200303T173659Z
LAST-MODIFIED:20200303T173659Z
UID:10000187-1590138000-1590156000@www.activityoptions.com
SUMMARY:•Horse Back Riding at Bear Creek Lake Park
DESCRIPTION:Join an experienced wrangler for a trail ride at Bear Creek Lake Park. No experience necessary but must be able to sit upright on a horse and hold the reins. This is not therapy riding! Includes lunch in Morrison or other local spots. Free for Denver residents. $99 for non residents\, MEdicaid waiver restrictions may apply. Register online. \nRegister Online
URL:https://www.activityoptions.com/event/%e2%80%a2horse-back-riding-bear-creek-lake-park/
LOCATION:Bear Creek Lake Park\, 15600 W Morrison Rd\, Lakewood\, CO\, 80228
ATTACH;FMTTYPE=image/jpeg:https://www.activityoptions.com/wp-content/uploads/2018/03/Horseback-sq.jpg
ORGANIZER;CN="Activity Options LLC /Project World PBC":MAILTO:signup@activityoptions.com
GEO:39.653228;-105.1760166
X-APPLE-STRUCTURED-LOCATION;VALUE=URI;X-ADDRESS=Bear Creek Lake Park 15600 W Morrison Rd Lakewood CO 80228;X-APPLE-RADIUS=500;X-TITLE=15600 W Morrison Rd:geo:-105.1760166,39.653228
END:VEVENT
BEGIN:VEVENT
DTSTART;TZID=UTC:20200517T150000
DTEND;TZID=UTC:20200517T180000
DTSTAMP:20260423T190150
CREATED:20200303T173137Z
LAST-MODIFIED:20200303T173154Z
UID:10000185-1589727600-1589738400@www.activityoptions.com
SUMMARY:•SPRING FLING PARTY!
DESCRIPTION:We are moving! Join us for the final party at our current location and celebrate the good times and changing weather. Free for Denver residents. $5 for non residents\, Medicaid waiver restrictions may apply. Register Online. \nRegister Online
URL:https://www.activityoptions.com/event/%e2%80%a2spring-fling-2020-party/
LOCATION:Activity Options West Community Center\, 1315 Nelson\, Unit 3\, Lakewood\, CO\, 80215
ATTACH;FMTTYPE=image/png:https://www.activityoptions.com/wp-content/uploads/2020/03/SpringFlingParty.png
ORGANIZER;CN="Activity Options LLC /Project World PBC":MAILTO:signup@activityoptions.com
GEO:39.7376326;-105.1172671
X-APPLE-STRUCTURED-LOCATION;VALUE=URI;X-ADDRESS=Activity Options West Community Center 1315 Nelson Unit 3 Lakewood CO 80215;X-APPLE-RADIUS=500;X-TITLE=1315 Nelson\, Unit 3:geo:-105.1172671,39.7376326
END:VEVENT
BEGIN:VEVENT
DTSTART;TZID=UTC:20200515T100000
DTEND;TZID=UTC:20200515T150000
DTSTAMP:20260423T190150
CREATED:20191120T042732Z
LAST-MODIFIED:20200303T174115Z
UID:10000028-1589536800-1589554800@www.activityoptions.com
SUMMARY:• Games\, Prizes and Bowling! Fridays at WILD GAME!
DESCRIPTION:Take a scenic drive to Evergreen and enjoy the entertainment mountain style\, at the Wild Game in Bergen Park! Bowling\, diverse video games\, table games\, prizes and lunch. Free for Denver residents. $79 for non residents\, Medicaid waiver restrictions may apply. \nRegister Online
URL:https://www.activityoptions.com/event/%e2%80%a2-games-prizes-bowling-fridays-wild-game/2020-05-15/
LOCATION:Wild Game\, 1204 Bergen Pkwy\, Evergreen\, CO\, 80439
ATTACH;FMTTYPE=image/jpeg:https://www.activityoptions.com/wp-content/uploads/2017/12/Wild-Game-sq-1.jpg
ORGANIZER;CN="Activity Options LLC /Project World PBC":MAILTO:signup@activityoptions.com
GEO:39.6925253;-105.3546392
X-APPLE-STRUCTURED-LOCATION;VALUE=URI;X-ADDRESS=Wild Game 1204 Bergen Pkwy Evergreen CO 80439;X-APPLE-RADIUS=500;X-TITLE=1204 Bergen Pkwy:geo:-105.3546392,39.6925253
END:VEVENT
BEGIN:VEVENT
DTSTART;TZID=UTC:20200509T170000
DTEND;TZID=UTC:20200509T220000
DTSTAMP:20260423T190150
CREATED:20191120T050734Z
LAST-MODIFIED:20201109T080523Z
UID:10000043-1589043600-1589061600@www.activityoptions.com
SUMMARY:• Saturday Movie Night
DESCRIPTION:Join Saturday Night Club (SNL) and enjoy the company of friends.Enjoy a movie and dinner at our Center or discover what’s open in town. Free for Denver residents. $10 for non residents. \nRegister Online
URL:https://www.activityoptions.com/event/%e2%80%a2-saturday-movie-night/2020-05-09/
LOCATION:Local Theater
ATTACH;FMTTYPE=image/jpeg:https://www.activityoptions.com/wp-content/uploads/2018/07/SNL-Movie-Night-sq.jpg
ORGANIZER;CN="Activity Options LLC /Project World PBC":MAILTO:signup@activityoptions.com
END:VEVENT
BEGIN:VEVENT
DTSTART;TZID=UTC:20200502T170000
DTEND;TZID=UTC:20200502T230000
DTSTAMP:20260423T190150
CREATED:20200303T171040Z
LAST-MODIFIED:20200303T171040Z
UID:10000183-1588438800-1588460400@www.activityoptions.com
SUMMARY:•Little Big Town Concert & Dinner Downtown
DESCRIPTION:Check out this country western foursome\, Paramont Theater style Dinner downtown beforehand. Free for Denver residents. $199 for non residents\, Medicaid waiver restrictions may apply. Register online. \nRegister Online
URL:https://www.activityoptions.com/event/%e2%80%a2little-big-town-concert-dinner-downtown/
LOCATION:Paramount Theater\, 1621 Glenarm Pl\, Denver\, CO\, 80202
ORGANIZER;CN="Activity Options LLC /Project World PBC":MAILTO:signup@activityoptions.com
END:VEVENT
BEGIN:VEVENT
DTSTART;TZID=UTC:20200502T170000
DTEND;TZID=UTC:20200502T220000
DTSTAMP:20260423T190150
CREATED:20200303T165235Z
LAST-MODIFIED:20200303T165235Z
UID:10000181-1588438800-1588456800@www.activityoptions.com
SUMMARY:•Rockabilly Roadhouse at the Forney Museum
DESCRIPTION:Celebrate with The Wayfaring Band at this 50’s music party. Food\, fun\, festivities! Enjoy the historic Forney Museum in 50’s style! Free for Denver residents. $59 for non residents\, Medicaid waier restrictions may appy. Register Online. \nRegister Online
URL:https://www.activityoptions.com/event/%e2%80%a2rockabilly-roadhouse-forney-museum/
LOCATION:Forney Museum of Transportation\, 4303 Brighton Blvd\, Denver\, CO\, 80216\, United States
ATTACH;FMTTYPE=image/jpeg:https://www.activityoptions.com/wp-content/uploads/2019/04/RockabillyRoadhouse.jpg
ORGANIZER;CN="Activity Options LLC /Project World PBC":MAILTO:signup@activityoptions.com
END:VEVENT
BEGIN:VEVENT
DTSTART;TZID=UTC:20200501T170000
DTEND;TZID=UTC:20200501T220000
DTSTAMP:20260423T190150
CREATED:20191120T044342Z
LAST-MODIFIED:20200303T174316Z
UID:10000035-1588352400-1588370400@www.activityoptions.com
SUMMARY:• First Friday Dance
DESCRIPTION:Rock out with this on-going Dance community! DJ\, theme decorations and dessert. Includes dinner beforehand. Free for Denver residents. $25 for non residents\, Medicaid waiver restrictions may apply. \nRegister Online
URL:https://www.activityoptions.com/event/%e2%80%a2-first-friday-dance/2020-05-01/
LOCATION:Grant Street Community Center
ATTACH;FMTTYPE=image/jpeg:https://www.activityoptions.com/wp-content/uploads/2017/11/Dance-Party-sq.jpg
ORGANIZER;CN="Activity Options LLC /Project World PBC":MAILTO:signup@activityoptions.com
END:VEVENT
BEGIN:VEVENT
DTSTART;TZID=UTC:20200501T090000
DTEND;TZID=UTC:20200501T150000
DTSTAMP:20260423T190150
CREATED:20200129T000136Z
LAST-MODIFIED:20200129T000136Z
UID:10000173-1588323600-1588345200@www.activityoptions.com
SUMMARY:•NSCD Activity Day
DESCRIPTION:Joins us for an activity provided by the NSCD. Free for Denver residents. $49 for non residents\, Medicaid waiver restrictions may apply. Register online. \nRegister Online
URL:https://www.activityoptions.com/event/%e2%80%a2nscd-activity-day/
LOCATION:NSCD\, Colorado
ATTACH;FMTTYPE=image/png:https://www.activityoptions.com/wp-content/uploads/2020/01/NSCDActivtyDay.png
ORGANIZER;CN="Activity Options LLC /Project World PBC":MAILTO:signup@activityoptions.com
END:VEVENT
BEGIN:VEVENT
DTSTART;TZID=UTC:20200426T090000
DTEND;TZID=UTC:20200426T170000
DTSTAMP:20260423T190150
CREATED:20200128T231541Z
LAST-MODIFIED:20200807T062655Z
UID:10000172-1587891600-1587920400@www.activityoptions.com
SUMMARY:• Day Trip to Colorado Wolf and Wildlife Center
DESCRIPTION:Learn about the Colorado Wolf and Wildlife Center in Divide CO and the 18 amazing resident wolfs. Take an educational tour and discover ways you can support wolfs and other endangered animals. Practice your howling at the end of the tour! Free for Denver residents. $99 for non residents. Medicaid waiver restrictions may apply. \nRegister Online
URL:https://www.activityoptions.com/event/%e2%80%a2day-trip-colorado-wolf-wildlife-center/2020-04-26/
LOCATION:Colorado Wolf and Wildlife Center\, 4729 Twin Rocks Rd\, Divide\, Colorado\, 80814
ATTACH;FMTTYPE=image/png:https://www.activityoptions.com/wp-content/uploads/2020/01/WolfCenter.png
ORGANIZER;CN="Activity Options LLC /Project World PBC":MAILTO:signup@activityoptions.com
END:VEVENT
BEGIN:VEVENT
DTSTART;TZID=UTC:20200425T163000
DTEND;TZID=UTC:20200425T220000
DTSTAMP:20260423T190150
CREATED:20200128T195643Z
LAST-MODIFIED:20201006T051848Z
UID:10000152-1587832200-1587852000@www.activityoptions.com
SUMMARY:• Dinner and BINGO!
DESCRIPTION:Join the games at The Bingo Company in Arvada. Assistance provided if needed. Dinner included. Free for Denver residents. $69 for non residents\, Medicaid waiver restrictions may apply. \nRegister Online
URL:https://www.activityoptions.com/event/%e2%80%a2dinner-and-bingo/2020-04-25/
LOCATION:The BINGO Company\, 6520 Wadsworth Blvd Ste 100\, Arvada\, Colorado\, 80003
ATTACH;FMTTYPE=image/png:https://www.activityoptions.com/wp-content/uploads/2020/01/BINGOco.png
ORGANIZER;CN="Activity Options LLC /Project World PBC":MAILTO:signup@activityoptions.com
END:VEVENT
BEGIN:VEVENT
DTSTART;TZID=UTC:20200422T173000
DTEND;TZID=UTC:20200422T203000
DTSTAMP:20260423T190150
CREATED:20191120T040243Z
LAST-MODIFIED:20201109T083128Z
UID:10000010-1587576600-1587587400@www.activityoptions.com
SUMMARY:• Wednesday Coffee Club
DESCRIPTION:Join our small group to hang out at a local coffee and tea spot for conversation\, relaxation and smiles. Includes snack. Free for Denver residents. $25 for non residents\, Medicaid waiver restrictions may apply. \nRegister Online
URL:https://www.activityoptions.com/event/%e2%80%a2-wednesday-coffee-club/2020-04-22/
LOCATION:Local Cafe
ATTACH;FMTTYPE=image/jpeg:https://www.activityoptions.com/wp-content/uploads/2017/12/Coffee-Club-sq.jpg
ORGANIZER;CN="Activity Options LLC /Project World PBC":MAILTO:signup@activityoptions.com
END:VEVENT
BEGIN:VEVENT
DTSTART;TZID=UTC:20200418T080000
DTEND;TZID=UTC:20200422T200000
DTSTAMP:20260423T190150
CREATED:20191205T185731Z
LAST-MODIFIED:20191205T190132Z
UID:10000141-1587196800-1587585600@www.activityoptions.com
SUMMARY:• 2020 Southern California Trip
DESCRIPTION:Visit San Diego and Las Angeles taking in the world famous SD Zoo\, Balboa Park\, Catalina Island and the La Jolla caves and beaches. Then on to Orange County to Disneyland and Warner Brothers Studios in Burbank. Free for Denver residents. $2\,795 for non residents. Medicaid waiver restrictions may apply. \nRegister Online
URL:https://www.activityoptions.com/event/%e2%80%a2-2020-southern-california-trip/
LOCATION:San Diego\, California\, CA
ATTACH;FMTTYPE=image/jpeg:https://www.activityoptions.com/wp-content/uploads/2017/12/san-diego-sq.jpg
ORGANIZER;CN="Activity Options LLC /Project World PBC":MAILTO:signup@activityoptions.com
GEO:36.778261;-119.4179324
END:VEVENT
BEGIN:VEVENT
DTSTART;TZID=UTC:20200417T100000
DTEND;TZID=UTC:20200417T150000
DTSTAMP:20260423T190150
CREATED:20191120T042732Z
LAST-MODIFIED:20200303T174115Z
UID:10000027-1587117600-1587135600@www.activityoptions.com
SUMMARY:• Games\, Prizes and Bowling! Fridays at WILD GAME!
DESCRIPTION:Take a scenic drive to Evergreen and enjoy the entertainment mountain style\, at the Wild Game in Bergen Park! Bowling\, diverse video games\, table games\, prizes and lunch. Free for Denver residents. $79 for non residents\, Medicaid waiver restrictions may apply. \nRegister Online
URL:https://www.activityoptions.com/event/%e2%80%a2-games-prizes-bowling-fridays-wild-game/2020-04-17/
LOCATION:Wild Game\, 1204 Bergen Pkwy\, Evergreen\, CO\, 80439
ATTACH;FMTTYPE=image/jpeg:https://www.activityoptions.com/wp-content/uploads/2017/12/Wild-Game-sq-1.jpg
ORGANIZER;CN="Activity Options LLC /Project World PBC":MAILTO:signup@activityoptions.com
GEO:39.6925253;-105.3546392
X-APPLE-STRUCTURED-LOCATION;VALUE=URI;X-ADDRESS=Wild Game 1204 Bergen Pkwy Evergreen CO 80439;X-APPLE-RADIUS=500;X-TITLE=1204 Bergen Pkwy:geo:-105.3546392,39.6925253
END:VEVENT
BEGIN:VEVENT
DTSTART;TZID=UTC:20200411T170000
DTEND;TZID=UTC:20200411T220000
DTSTAMP:20260423T190150
CREATED:20191120T050734Z
LAST-MODIFIED:20201109T080523Z
UID:10000042-1586624400-1586642400@www.activityoptions.com
SUMMARY:• Saturday Movie Night
DESCRIPTION:Join Saturday Night Club (SNL) and enjoy the company of friends.Enjoy a movie and dinner at our Center or discover what’s open in town. Free for Denver residents. $10 for non residents. \nRegister Online
URL:https://www.activityoptions.com/event/%e2%80%a2-saturday-movie-night/2020-04-11/
LOCATION:Local Theater
ATTACH;FMTTYPE=image/jpeg:https://www.activityoptions.com/wp-content/uploads/2018/07/SNL-Movie-Night-sq.jpg
ORGANIZER;CN="Activity Options LLC /Project World PBC":MAILTO:signup@activityoptions.com
END:VEVENT
BEGIN:VEVENT
DTSTART;TZID=UTC:20200411T160000
DTEND;TZID=UTC:20200411T220000
DTSTAMP:20260423T190150
CREATED:20200303T163250Z
LAST-MODIFIED:20200303T163827Z
UID:10000179-1586620800-1586642400@www.activityoptions.com
SUMMARY:•TYR "Valor and Folklore North American Tour" at the Marquis Theater in Downtown Denver.
DESCRIPTION:See this unique musical concert featuring the folk metal band\, Tyr. Their songs feature stories from Viking lore\, mythology and history. Free for Denver residents. $89 for non residents\, Medicaid waiver restrictions may apply. Register online. \nRegister Online\n 
URL:https://www.activityoptions.com/event/%e2%80%a2tyr-valor-folklore-north-american-tour-marquis-theater-downtown-denver/
LOCATION:Marquis Theater\, 2009 Larimer St\, Denver\, Colorado\, 80205
ORGANIZER;CN="Activity Options LLC /Project World PBC":MAILTO:signup@activityoptions.com
END:VEVENT
END:VCALENDAR