BEGIN:VCALENDAR
VERSION:2.0
PRODID:-//Activity Options - ECPv6.15.20//NONSGML v1.0//EN
CALSCALE:GREGORIAN
METHOD:PUBLISH
X-WR-CALNAME:Activity Options
X-ORIGINAL-URL:https://www.activityoptions.com
X-WR-CALDESC:Events for Activity Options
REFRESH-INTERVAL;VALUE=DURATION:PT1H
X-Robots-Tag:noindex
X-PUBLISHED-TTL:PT1H
BEGIN:VTIMEZONE
TZID:UTC
BEGIN:STANDARD
TZOFFSETFROM:+0000
TZOFFSETTO:+0000
TZNAME:UTC
DTSTART:20200101T000000
END:STANDARD
END:VTIMEZONE
BEGIN:VEVENT
DTSTART;TZID=UTC:20210918T170000
DTEND;TZID=UTC:20210918T210000
DTSTAMP:20260424T150751
CREATED:20210829T084706Z
LAST-MODIFIED:20210830T021900Z
UID:10000165-1631984400-1631998800@www.activityoptions.com
SUMMARY:• SNL Movie Night
DESCRIPTION:Enjoy dinner and a movie at either the West Community Center or at a local theater. Free for Denver residents. $39 for non residents. Medicaid waiver restrictions may apply. \nRegister Online
URL:https://www.activityoptions.com/event/snl-movie-night/
LOCATION:AO West Community Center\, 7401 W 59th Ave\, Arvada\, Colorado\, 80003
ATTACH;FMTTYPE=image/png:https://www.activityoptions.com/wp-content/uploads/2021/04/SNL-sq.png
ORGANIZER;CN="Activity Options LLC /Project World PBC":MAILTO:signup@activityoptions.com
END:VEVENT
BEGIN:VEVENT
DTSTART;TZID=UTC:20210918T080000
DTEND;TZID=UTC:20210918T170000
DTSTAMP:20260424T150751
CREATED:20210829T084226Z
LAST-MODIFIED:20210829T084226Z
UID:10000164-1631952000-1631984400@www.activityoptions.com
SUMMARY:• ATV Breckenridge
DESCRIPTION:Enjoy the fall colors close up on ATV’s touring through the Breckenridge forest. Full day activity with meals included. Free for Denver residents. $250 for non residents. Medicaid waiver restrictions may apply. \nRegister Online\n 
URL:https://www.activityoptions.com/event/atv-breckenridge/
LOCATION:Breckenridge\, Colorado
ATTACH;FMTTYPE=image/png:https://www.activityoptions.com/wp-content/uploads/2021/08/ATV-Breckenridge.png
ORGANIZER;CN="Activity Options LLC /Project World PBC":MAILTO:signup@activityoptions.com
END:VEVENT
BEGIN:VEVENT
DTSTART;TZID=UTC:20210917T170000
DTEND;TZID=UTC:20210917T230000
DTSTAMP:20260424T150751
CREATED:20210829T083023Z
LAST-MODIFIED:20210829T083023Z
UID:10000163-1631898000-1631919600@www.activityoptions.com
SUMMARY:• BINGO!
DESCRIPTION:Early dinner at the Red Robin followed by Bingo at The Bingo Company in Arvada. Free for Denver residents. $79 for non residents. Medicaid waiver restrictions may apply. \nRegister Online
URL:https://www.activityoptions.com/event/bingo/
LOCATION:The BINGO Company\, 6520 Wadsworth Blvd Ste 100\, Arvada\, Colorado\, 80003
ATTACH;FMTTYPE=image/png:https://www.activityoptions.com/wp-content/uploads/2021/05/Bingo-Red-Robin.png
ORGANIZER;CN="Activity Options LLC /Project World PBC":MAILTO:signup@activityoptions.com
END:VEVENT
BEGIN:VEVENT
DTSTART;TZID=UTC:20210912T083000
DTEND;TZID=UTC:20210912T133000
DTSTAMP:20260424T150751
CREATED:20210829T082612Z
LAST-MODIFIED:20210829T082612Z
UID:10000162-1631435400-1631453400@www.activityoptions.com
SUMMARY:• Idaho Springs Hot Springs
DESCRIPTION:Relax at Indian Hot Springs with lunch at the historic ElRancho Grill. Free for Denver residents. $129 for non residents. Medicaid waiver restrictions may apply. \nRegister Online\n 
URL:https://www.activityoptions.com/event/idaho-springs-hot-springs/
LOCATION:Indian Hot Springs\, 302 Soda Creek Rd\, Idaho Springs\, CO\, 80452
ATTACH;FMTTYPE=image/jpeg:https://www.activityoptions.com/wp-content/uploads/2018/02/Indiam-Hot-Springs-sq.jpg
ORGANIZER;CN="Activity Options LLC /Project World PBC":MAILTO:signup@activityoptions.com
GEO:39.7392563;-105.512617
X-APPLE-STRUCTURED-LOCATION;VALUE=URI;X-ADDRESS=Indian Hot Springs 302 Soda Creek Rd Idaho Springs CO 80452;X-APPLE-RADIUS=500;X-TITLE=302 Soda Creek Rd:geo:-105.512617,39.7392563
END:VEVENT
BEGIN:VEVENT
DTSTART;TZID=UTC:20210911T160000
DTEND;TZID=UTC:20210911T220000
DTSTAMP:20260424T150751
CREATED:20210829T082153Z
LAST-MODIFIED:20210829T082153Z
UID:10000161-1631376000-1631397600@www.activityoptions.com
SUMMARY:• Adams Mystery Theater
DESCRIPTION:Join the dinner theater comedy fun with Murder at an Irish Wake. Free for Denver residents. $ 129 for non residents. Medicaid waiver restrictions may apply. \nRegister Online
URL:https://www.activityoptions.com/event/adams-mystery-theater/
LOCATION:Adams Mystery Theater\, 2406 Federal Blvd.\, Denver\, CO\, 80211\, United States
ORGANIZER;CN="Activity Options LLC /Project World PBC":MAILTO:signup@activityoptions.com
END:VEVENT
BEGIN:VEVENT
DTSTART;TZID=UTC:20210910T090000
DTEND;TZID=UTC:20210910T140000
DTSTAMP:20260424T150751
CREATED:20210829T081622Z
LAST-MODIFIED:20210829T081622Z
UID:10000160-1631264400-1631282400@www.activityoptions.com
SUMMARY:• Horse Back Riding at Bear Creek Lake Park
DESCRIPTION:Join an experienced wrangler for a trail ride at Bear Creek Lake Park. No experience necessary but must be able to sit upright on a horse and hold the reins. This is not therapy riding! Includes lunch in Morrison or other local spots. Free for Denver residents. $99 for non residents. Medicaid waiver restrictions may apply. \nRegister Online
URL:https://www.activityoptions.com/event/horse-back-riding-at-bear-creek-lake-park-4/
LOCATION:Bear Creek Lake Park\, 15600 W Morrison Rd\, Lakewood\, CO\, 80228
ATTACH;FMTTYPE=image/jpeg:https://www.activityoptions.com/wp-content/uploads/2018/03/Horseback-sq.jpg
ORGANIZER;CN="Activity Options LLC /Project World PBC":MAILTO:signup@activityoptions.com
GEO:39.653228;-105.1760166
X-APPLE-STRUCTURED-LOCATION;VALUE=URI;X-ADDRESS=Bear Creek Lake Park 15600 W Morrison Rd Lakewood CO 80228;X-APPLE-RADIUS=500;X-TITLE=15600 W Morrison Rd:geo:-105.1760166,39.653228
END:VEVENT
BEGIN:VEVENT
DTSTART;TZID=UTC:20210906T150000
DTEND;TZID=UTC:20210906T180000
DTSTAMP:20260424T150751
CREATED:20210829T081217Z
LAST-MODIFIED:20210829T081217Z
UID:10000149-1630940400-1630951200@www.activityoptions.com
SUMMARY:• LABOR DAY PARY
DESCRIPTION:Celebrate the end of Summer with a BBQ at the West Community Center. Games and music. Free for Denver residents. $25 for non residents. Medicaid waiver restrictions may apply. \nRegister Online
URL:https://www.activityoptions.com/event/labor-day-pary/
LOCATION:Activity Options Community Center (Arvada)\, 7401 W 59th Ave\, Arvada\, Colorado\, 80003
ATTACH;FMTTYPE=image/png:https://www.activityoptions.com/wp-content/uploads/2020/08/LaborDayBBQ.png
ORGANIZER;CN="Activity Options LLC /Project World PBC":MAILTO:signup@activityoptions.com
END:VEVENT
BEGIN:VEVENT
DTSTART;TZID=UTC:20210901T180000
DTEND;TZID=UTC:20210901T220000
DTSTAMP:20260424T150751
CREATED:20210829T080455Z
LAST-MODIFIED:20210829T080455Z
UID:10000148-1630519200-1630533600@www.activityoptions.com
SUMMARY:• Kool Koncert 2021 Hall and Oats
DESCRIPTION:Daryl Hall and John Oates at Ball Arena in their rescheduled 2020 concert tour. Dinner before. Free for Denver residents. $99 for non residents\, Medicaid waiver restrictions may apply. \nRegister Online\n 
URL:https://www.activityoptions.com/event/kool-koncert-2021-hall-and-oats/
LOCATION:Ball Arena
ORGANIZER;CN="Activity Options LLC /Project World PBC":MAILTO:signup@activityoptions.com
END:VEVENT
BEGIN:VEVENT
DTSTART;TZID=UTC:20210828T170000
DTEND;TZID=UTC:20210828T220000
DTSTAMP:20260424T150751
CREATED:20210616T051457Z
LAST-MODIFIED:20210616T051457Z
UID:10000292-1630170000-1630188000@www.activityoptions.com
SUMMARY:• Saturday Night Club (SNL)
DESCRIPTION:Join Saturday Night Club (SNL) and enjoy the company of friends.Enjoy a movie and dinner at our Center or discover what’s open in town. Free for Denver residents. $35 for non residents. Medicaid waiver restrictions may apply. \nRegister Online
URL:https://www.activityoptions.com/event/saturday-night-club-snl-8/
LOCATION:Activity Options Community Center (Arvada)\, 7401 W 59th Ave\, Arvada\, Colorado\, 80003
ATTACH;FMTTYPE=image/png:https://www.activityoptions.com/wp-content/uploads/2021/04/SNL-sq.png
ORGANIZER;CN="Activity Options LLC /Project World PBC":MAILTO:signup@activityoptions.com
END:VEVENT
BEGIN:VEVENT
DTSTART;TZID=UTC:20210827T160000
DTEND;TZID=UTC:20210827T200000
DTSTAMP:20260424T150751
CREATED:20210616T051101Z
LAST-MODIFIED:20210616T051101Z
UID:10000291-1630080000-1630094400@www.activityoptions.com
SUMMARY:• Bowling and Dinner
DESCRIPTION:Bowling at Cherry Creek Bolero with buffet dinner bar. Free for Denver residents. $99 for non residents. Medicaid waiver restrictions may apply. \nRegister Online
URL:https://www.activityoptions.com/event/bowling-and-dinner-2/
LOCATION:Bowlero Cherry Creek
ATTACH;FMTTYPE=image/png:https://www.activityoptions.com/wp-content/uploads/2021/06/BowleroCherryCreek.png
ORGANIZER;CN="Activity Options LLC /Project World PBC":MAILTO:signup@activityoptions.com
END:VEVENT
BEGIN:VEVENT
DTSTART;TZID=UTC:20210827T070000
DTEND;TZID=UTC:20210829T200000
DTSTAMP:20260424T150751
CREATED:20210716T171004Z
LAST-MODIFIED:20210716T171004Z
UID:10000294-1630047600-1630267200@www.activityoptions.com
SUMMARY:• Snowmass Glenwood Road Trip
DESCRIPTION:See the sights around Snowmass\, Aspen\, Independence Pass and Glenwood. Horse back riding\, gondola ride\, shopping\, hot springs\, Maroon Bells. Free for Denver residents. $999 for non residents. Medicaid waiver restrictions may apply. \nRegister Online
URL:https://www.activityoptions.com/event/snowmass-glenwood-road-trip/
LOCATION:Snowmass Glenwood Colorado
ATTACH;FMTTYPE=image/png:https://www.activityoptions.com/wp-content/uploads/2021/06/Roadtrip.png
ORGANIZER;CN="Activity Options LLC /Project World PBC":MAILTO:signup@activityoptions.com
END:VEVENT
BEGIN:VEVENT
DTSTART;TZID=UTC:20210825T173000
DTEND;TZID=UTC:20210825T203000
DTSTAMP:20260424T150751
CREATED:20210616T050707Z
LAST-MODIFIED:20210616T050707Z
UID:10000290-1629912600-1629923400@www.activityoptions.com
SUMMARY:• Coffee Club
DESCRIPTION:Join our small group to hang out at a local coffee and tea spot for conversation\, relaxation and smiles. Includes snack. Free for Denver residents. $39 for non residents. Medicaid waiver restrictions may apply. \nRegister Online
URL:https://www.activityoptions.com/event/coffee-club-4/
LOCATION:Activity Options Community Center (Arvada)\, 7401 W 59th Ave\, Arvada\, Colorado\, 80003
ATTACH;FMTTYPE=image/jpeg:https://www.activityoptions.com/wp-content/uploads/2017/12/Coffee-Club-sq.jpg
ORGANIZER;CN="Activity Options LLC /Project World PBC":MAILTO:signup@activityoptions.com
END:VEVENT
BEGIN:VEVENT
DTSTART;TZID=UTC:20210822T160000
DTEND;TZID=UTC:20210822T220000
DTSTAMP:20260424T150751
CREATED:20210616T050224Z
LAST-MODIFIED:20210616T050224Z
UID:10000288-1629648000-1629669600@www.activityoptions.com
SUMMARY:• WWE Super Show!
DESCRIPTION:Cheer on your favorite WWE stars live at Ball Arena. Includes dinner. Free for Denver residents. $199 for non residents. Medicaid waiver restrictions may apply. \nRegister Online
URL:https://www.activityoptions.com/event/wwe-super-show/
LOCATION:Ball Arena
ATTACH;FMTTYPE=image/png:https://www.activityoptions.com/wp-content/uploads/2021/06/WWE-Super-Showdown.png
ORGANIZER;CN="Activity Options LLC /Project World PBC":MAILTO:signup@activityoptions.com
END:VEVENT
BEGIN:VEVENT
DTSTART;TZID=UTC:20210820T170000
DTEND;TZID=UTC:20210820T220000
DTSTAMP:20260424T150751
CREATED:20210616T045457Z
LAST-MODIFIED:20210616T045457Z
UID:10000286-1629478800-1629496800@www.activityoptions.com
SUMMARY:• Experience superstar country singer Blake Shelton LIVE!
DESCRIPTION:See the legend live at Ball Arena! Includes dinner beforehand. Free for Denver residents.\, $249 for non residents. Medicaid waiver restrictions may apply. \nRegister Online\n 
URL:https://www.activityoptions.com/event/experience-superstar-country-singer-blake-shelton-live/
LOCATION:Ball Arena
ORGANIZER;CN="Activity Options LLC /Project World PBC":MAILTO:signup@activityoptions.com
END:VEVENT
BEGIN:VEVENT
DTSTART;TZID=UTC:20210820T090000
DTEND;TZID=UTC:20210820T140000
DTSTAMP:20260424T150751
CREATED:20210616T044848Z
LAST-MODIFIED:20210616T044848Z
UID:10000284-1629450000-1629468000@www.activityoptions.com
SUMMARY:• Horse Back Riding at Bear Creek Lake Park
DESCRIPTION:Join an experienced wrangler for a trail ride at Bear Creek Lake Park. No experience necessary but must be able to sit upright on a horse and hold the reins. This is not therapy riding! Includes lunch in Morrison or other local spots. Free for Denver residents. $99 for non residents. Medicaid waiver restrictions may apply.\nRegister Online
URL:https://www.activityoptions.com/event/horse-back-riding-at-bear-creek-lake-park-3/
LOCATION:Bear Creek Lake Park\, 15600 W Morrison Rd\, Lakewood\, CO\, 80228
ATTACH;FMTTYPE=image/jpeg:https://www.activityoptions.com/wp-content/uploads/2018/03/Horseback-sq.jpg
ORGANIZER;CN="Activity Options LLC /Project World PBC":MAILTO:signup@activityoptions.com
GEO:39.653228;-105.1760166
X-APPLE-STRUCTURED-LOCATION;VALUE=URI;X-ADDRESS=Bear Creek Lake Park 15600 W Morrison Rd Lakewood CO 80228;X-APPLE-RADIUS=500;X-TITLE=15600 W Morrison Rd:geo:-105.1760166,39.653228
END:VEVENT
BEGIN:VEVENT
DTSTART;TZID=UTC:20210814T170000
DTEND;TZID=UTC:20210814T220000
DTSTAMP:20260424T150751
CREATED:20210616T044524Z
LAST-MODIFIED:20210616T044524Z
UID:10000282-1628960400-1628978400@www.activityoptions.com
SUMMARY:• Saturday Night Club (SNL)
DESCRIPTION:Join Saturday Night Club (SNL) and enjoy the company of friends.Enjoy a movie and dinner at our Center or discover what’s open in town. Free for Denver residents. $35 for non residents. Medicaid waiver restrictions may apply. \nRegister Online
URL:https://www.activityoptions.com/event/saturday-night-club-snl-7/
LOCATION:Activity Options Community Center (Arvada)\, 7401 W 59th Ave\, Arvada\, Colorado\, 80003
ATTACH;FMTTYPE=image/png:https://www.activityoptions.com/wp-content/uploads/2021/04/SNL-sq.png
ORGANIZER;CN="Activity Options LLC /Project World PBC":MAILTO:signup@activityoptions.com
END:VEVENT
BEGIN:VEVENT
DTSTART;TZID=UTC:20210813T163000
DTEND;TZID=UTC:20210813T220000
DTSTAMP:20260424T150751
CREATED:20210616T044207Z
LAST-MODIFIED:20210616T044207Z
UID:10000280-1628872200-1628892000@www.activityoptions.com
SUMMARY:• Bingo and Dinner
DESCRIPTION:Early dinner at the Red Robin followed by Bingo at The Bingo Company in Arvada. Free for Denver residents. $79 for non residents. Medicaid waiver restrictions may apply. \nRegister Online
URL:https://www.activityoptions.com/event/bingo-and-dinner-3/
LOCATION:The BINGO Company\, 6520 Wadsworth Blvd Ste 100\, Arvada\, Colorado\, 80003
ATTACH;FMTTYPE=image/png:https://www.activityoptions.com/wp-content/uploads/2021/05/Bingo-Red-Robin.png
ORGANIZER;CN="Activity Options LLC /Project World PBC":MAILTO:signup@activityoptions.com
END:VEVENT
BEGIN:VEVENT
DTSTART;TZID=UTC:20210813T080000
DTEND;TZID=UTC:20210815T190000
DTSTAMP:20260424T150751
CREATED:20210616T070820Z
LAST-MODIFIED:20210616T070820Z
UID:10000293-1628841600-1629054000@www.activityoptions.com
SUMMARY:• Camping in Summit County
DESCRIPTION:Spend two nights under the stars at the Lowry Campground overlooking Dillon Reservoir. Lots of local activities\, food\, cookout and friends. Camping equipment furnished or bring your own. Free for Denver residents. $tba for non residents. Medicaid waiver restrictions may apply. \nRegister Online
URL:https://www.activityoptions.com/event/camping-in-summit-county/
LOCATION:Summit County Colorado\, Colorado
ATTACH;FMTTYPE=image/png:https://www.activityoptions.com/wp-content/uploads/2021/06/Camping-Summit-County.png
ORGANIZER;CN="Activity Options LLC /Project World PBC":MAILTO:signup@activityoptions.com
GEO:39.5500507;-105.7820674
END:VEVENT
BEGIN:VEVENT
DTSTART;TZID=UTC:20210806T160000
DTEND;TZID=UTC:20210806T210000
DTSTAMP:20260424T150751
CREATED:20210616T041649Z
LAST-MODIFIED:20210616T041649Z
UID:10000278-1628265600-1628283600@www.activityoptions.com
SUMMARY:• Downtown Denver Night on the Town
DESCRIPTION:Ride the light rail downtown\, explore the mall and LODO and eat at the Cheesecake Factory. Free for Denver residents. $49 for non residents. Medicaid waiver restrictions may apply. \nRegister Online
URL:https://www.activityoptions.com/event/downtown-denver-night-on-the-town-2/
LOCATION:Downtown Denver\, Denver\, Colorado
ATTACH;FMTTYPE=image/png:https://www.activityoptions.com/wp-content/uploads/2021/03/DenverCheesecake.png
ORGANIZER;CN="Activity Options LLC /Project World PBC":MAILTO:signup@activityoptions.com
GEO:39.7392358;-104.990251
END:VEVENT
BEGIN:VEVENT
DTSTART;TZID=UTC:20210731T150000
DTEND;TZID=UTC:20210731T210000
DTSTAMP:20260424T150751
CREATED:20210615T073751Z
LAST-MODIFIED:20210615T073751Z
UID:10000276-1627743600-1627765200@www.activityoptions.com
SUMMARY:• Van Gogh ALIVE - The Multimedia Experience
DESCRIPTION:See the most visited multi-sensory experience in the world at the Hangar at Stanley Market Place presented by the DCPA. Dinner afterwards. Free for Denver residents. $99 for non residents. Medicaid waiver restrictions may apply. \nRegister Online\n 
URL:https://www.activityoptions.com/event/van-gogh-alive-the-multimedia-experience/
LOCATION:Denver Center for the Performing Arts\, 1101 13th St\, Denver\, CO\, 80204
ATTACH;FMTTYPE=image/png:https://www.activityoptions.com/wp-content/uploads/2021/06/VanGoghAlive.png
ORGANIZER;CN="Activity Options LLC /Project World PBC":MAILTO:signup@activityoptions.com
GEO:39.7453475;-104.998331
X-APPLE-STRUCTURED-LOCATION;VALUE=URI;X-ADDRESS=Denver Center for the Performing Arts 1101 13th St Denver CO 80204;X-APPLE-RADIUS=500;X-TITLE=1101 13th St:geo:-104.998331,39.7453475
END:VEVENT
BEGIN:VEVENT
DTSTART;TZID=UTC:20210728T173000
DTEND;TZID=UTC:20210728T203000
DTSTAMP:20260424T150751
CREATED:20210615T072729Z
LAST-MODIFIED:20210615T072729Z
UID:10000274-1627493400-1627504200@www.activityoptions.com
SUMMARY:• Coffee Club
DESCRIPTION:Join our small group to hang out at a local coffee and tea spot for conversation\, relaxation and smiles. Includes snack. Free for Denver residents. $39 for non residents. Medicaid waiver restrictions may apply. \nRegister Online\n 
URL:https://www.activityoptions.com/event/coffee-club-3/
LOCATION:Activity Options Community Center (Arvada)\, 7401 W 59th Ave\, Arvada\, Colorado\, 80003
ATTACH;FMTTYPE=image/jpeg:https://www.activityoptions.com/wp-content/uploads/2017/12/Coffee-Club-sq.jpg
ORGANIZER;CN="Activity Options LLC /Project World PBC":MAILTO:signup@activityoptions.com
END:VEVENT
BEGIN:VEVENT
DTSTART;TZID=UTC:20210727T080000
DTEND;TZID=UTC:20210730T170000
DTSTAMP:20260424T150751
CREATED:20210512T054857Z
LAST-MODIFIED:20210618T073052Z
UID:10000249-1627372800-1627664400@www.activityoptions.com
SUMMARY:• San Francisco Trip
DESCRIPTION:Visit San Francisco this July. More information to be posted soon. Free for Denver residents. $2\,400 for non residents\, Medicaid waiver restrictions may apply. \nRegister Online
URL:https://www.activityoptions.com/event/san-francisco-trip/
LOCATION:San Francisco\, CA
ATTACH;FMTTYPE=image/png:https://www.activityoptions.com/wp-content/uploads/2021/05/SanFrancisco-2021.png
ORGANIZER;CN="Activity Options LLC /Project World PBC":MAILTO:signup@activityoptions.com
END:VEVENT
BEGIN:VEVENT
DTSTART;TZID=UTC:20210725T080000
DTEND;TZID=UTC:20210725T160000
DTSTAMP:20260424T150751
CREATED:20210615T072410Z
LAST-MODIFIED:20210615T072410Z
UID:10000272-1627200000-1627228800@www.activityoptions.com
SUMMARY:• Cave of the Winds Adventure
DESCRIPTION:Enjoy the activities at both in and out of the caves at this adventure outside of Colorado Springs. Free for Denver residents. $99 for non residents. Medicaid waiver restrictions may apply. \nRegister Online
URL:https://www.activityoptions.com/event/cave-of-the-winds-adventure/
LOCATION:Cave of the Winds Mountain Park
ATTACH;FMTTYPE=image/png:https://www.activityoptions.com/wp-content/uploads/2021/06/Caveofthewinds.png
ORGANIZER;CN="Activity Options LLC /Project World PBC":MAILTO:signup@activityoptions.com
END:VEVENT
BEGIN:VEVENT
DTSTART;TZID=UTC:20210724T170000
DTEND;TZID=UTC:20210724T220000
DTSTAMP:20260424T150751
CREATED:20210615T065408Z
LAST-MODIFIED:20210615T065408Z
UID:10000270-1627146000-1627164000@www.activityoptions.com
SUMMARY:• Saturday Night Club (SNL)
DESCRIPTION:Join Saturday Night Club (SNL) and enjoy the company of friends. Enjoy a movie and dinner at our Center or discover what’s open in town. Free for Denver residents. $35 for non residents. Medicaid waiver restrictions may apply. \nRegister Online\n 
URL:https://www.activityoptions.com/event/saturday-night-club-snl-6/
LOCATION:Activity Options Community Center (Arvada)\, 7401 W 59th Ave\, Arvada\, Colorado\, 80003
ATTACH;FMTTYPE=image/png:https://www.activityoptions.com/wp-content/uploads/2021/04/SNL-sq.png
ORGANIZER;CN="Activity Options LLC /Project World PBC":MAILTO:signup@activityoptions.com
END:VEVENT
BEGIN:VEVENT
DTSTART;TZID=UTC:20210723T160000
DTEND;TZID=UTC:20210723T200000
DTSTAMP:20260424T150751
CREATED:20210615T064956Z
LAST-MODIFIED:20210615T065006Z
UID:10000269-1627056000-1627070400@www.activityoptions.com
SUMMARY:• Bowling and Dinner
DESCRIPTION:Bowling at Cherry Creek Bowlero with buffet dinner bar. Free for Denver residents. $99 for non residents. Medicaid waiver restrictions may apply. \nRegister Online
URL:https://www.activityoptions.com/event/bowling-and-dinner/
LOCATION:Bowlero Cherry Creek
ATTACH;FMTTYPE=image/png:https://www.activityoptions.com/wp-content/uploads/2021/06/BowleroCherryCreek.png
ORGANIZER;CN="Activity Options LLC /Project World PBC":MAILTO:signup@activityoptions.com
END:VEVENT
BEGIN:VEVENT
DTSTART;TZID=UTC:20210721T170000
DTEND;TZID=UTC:20210721T220000
DTSTAMP:20260424T150751
CREATED:20210615T063658Z
LAST-MODIFIED:20210615T063658Z
UID:10000268-1626886800-1626904800@www.activityoptions.com
SUMMARY:• Maroon 5 at Ball Arena
DESCRIPTION:Live music concert! Free for Denver residents. $175 for non residents. Medicaid waiver restrictions may apply. \nRegister Online
URL:https://www.activityoptions.com/event/maroon-5-at-ball-arena/
LOCATION:Ball Arena
ORGANIZER;CN="Activity Options LLC /Project World PBC":MAILTO:signup@activityoptions.com
END:VEVENT
BEGIN:VEVENT
DTSTART;TZID=UTC:20210716T163000
DTEND;TZID=UTC:20210716T220000
DTSTAMP:20260424T150751
CREATED:20210615T061719Z
LAST-MODIFIED:20210616T065519Z
UID:10000267-1626453000-1626472800@www.activityoptions.com
SUMMARY:• Dinner and Bingo
DESCRIPTION:Early dinner at the Red Robin followed by Bingo at The Bingo Company in Arvada. Free for Denver residents. $79 for non residents. Medicaid waiver restrictions may apply. \nRegister Online\n 
URL:https://www.activityoptions.com/event/b-i-n-g-o/
LOCATION:The BINGO Company\, 6520 Wadsworth Blvd Ste 100\, Arvada\, Colorado\, 80003
ATTACH;FMTTYPE=image/png:https://www.activityoptions.com/wp-content/uploads/2021/05/Bingo-Red-Robin.png
ORGANIZER;CN="Activity Options LLC /Project World PBC":MAILTO:signup@activityoptions.com
END:VEVENT
BEGIN:VEVENT
DTSTART;TZID=UTC:20210711T090000
DTEND;TZID=UTC:20210711T170000
DTSTAMP:20260424T150751
CREATED:20210615T061327Z
LAST-MODIFIED:20210615T061327Z
UID:10000266-1625994000-1626022800@www.activityoptions.com
SUMMARY:• Day in Summit County
DESCRIPTION:Enjoy the day in Summit County! The weather will rule the day\, but it may include a boat ride on Dillon Reservoir\, gondola ride in Breckenridge\, shopping and more! Free for Denver residents. $79 for non residents. Medicaid waiver restrictions may apply. \nRegister Online
URL:https://www.activityoptions.com/event/day-in-summit-county-2/
LOCATION:Summit County Colorado\, Colorado
ATTACH;FMTTYPE=image/png:https://www.activityoptions.com/wp-content/uploads/2021/06/Summer-Summit-County.png
ORGANIZER;CN="Activity Options LLC /Project World PBC":MAILTO:signup@activityoptions.com
GEO:39.5500507;-105.7820674
END:VEVENT
BEGIN:VEVENT
DTSTART;TZID=UTC:20210710T170000
DTEND;TZID=UTC:20210710T220000
DTSTAMP:20260424T150751
CREATED:20210615T060824Z
LAST-MODIFIED:20210615T060824Z
UID:10000265-1625936400-1625954400@www.activityoptions.com
SUMMARY:• Saturday Night Club (SNL)
DESCRIPTION:Join Saturday Night Club (SNL) and enjoy the company of friends.Enjoy a movie and dinner at our Center or discover what’s open in town. Free for Denver residents. $35 for non residents. Medicaid waiver restrictions may apply. \nRegister Online
URL:https://www.activityoptions.com/event/saturday-night-club-snl-5/
LOCATION:Activity Options Community Center (Arvada)\, 7401 W 59th Ave\, Arvada\, Colorado\, 80003
ATTACH;FMTTYPE=image/png:https://www.activityoptions.com/wp-content/uploads/2021/04/SNL-sq.png
ORGANIZER;CN="Activity Options LLC /Project World PBC":MAILTO:signup@activityoptions.com
END:VEVENT
BEGIN:VEVENT
DTSTART;TZID=UTC:20210709T160000
DTEND;TZID=UTC:20210709T210000
DTSTAMP:20260424T150751
CREATED:20210615T060409Z
LAST-MODIFIED:20210615T060409Z
UID:10000264-1625846400-1625864400@www.activityoptions.com
SUMMARY:• Downtown Denver Night on the Town
DESCRIPTION:Ride the light rail downtown\, explore the mall and LODO and eat at the Cheesecake Factory. Free for Denver residents. $1 for non residents. Medicaid waiver restrictions may apply. \nRegister Online
URL:https://www.activityoptions.com/event/downtown-denver-night-on-the-town/
LOCATION:Downtown Denver\, Denver\, Colorado
ATTACH;FMTTYPE=image/png:https://www.activityoptions.com/wp-content/uploads/2021/03/DenverCheesecake.png
ORGANIZER;CN="Activity Options LLC /Project World PBC":MAILTO:signup@activityoptions.com
GEO:39.7392358;-104.990251
END:VEVENT
END:VCALENDAR