BEGIN:VCALENDAR
VERSION:2.0
PRODID:-//Activity Options - ECPv6.15.20//NONSGML v1.0//EN
CALSCALE:GREGORIAN
METHOD:PUBLISH
X-WR-CALNAME:Activity Options
X-ORIGINAL-URL:https://www.activityoptions.com
X-WR-CALDESC:Events for Activity Options
REFRESH-INTERVAL;VALUE=DURATION:PT1H
X-Robots-Tag:noindex
X-PUBLISHED-TTL:PT1H
BEGIN:VTIMEZONE
TZID:UTC
BEGIN:STANDARD
TZOFFSETFROM:+0000
TZOFFSETTO:+0000
TZNAME:UTC
DTSTART:20190101T000000
END:STANDARD
END:VTIMEZONE
BEGIN:VEVENT
DTSTART;TZID=UTC:20210501T180000
DTEND;TZID=UTC:20210501T193000
DTSTAMP:20260424T012253
CREATED:20210410T023136Z
LAST-MODIFIED:20210410T023136Z
UID:10000236-1619892000-1619897400@www.activityoptions.com
SUMMARY:• Online Gaming & Prizes
DESCRIPTION:Join War of the Worlds online game. Log into zoom from your home or with friends at the West Center and play in teams with the chance to win prizes! Free for Denver residents. $1 for non residents\, Medicaid waiver restrictions may apply. \nRegister Online
URL:https://www.activityoptions.com/event/online-gaming-prizes/
LOCATION:Activity Options West Community Center\, 1315 Nelson\, Unit 3\, Lakewood\, CO\, 80215
ORGANIZER;CN="Activity Options LLC /Project World PBC":MAILTO:signup@activityoptions.com
GEO:39.7376326;-105.1172671
X-APPLE-STRUCTURED-LOCATION;VALUE=URI;X-ADDRESS=Activity Options West Community Center 1315 Nelson Unit 3 Lakewood CO 80215;X-APPLE-RADIUS=500;X-TITLE=1315 Nelson\, Unit 3:geo:-105.1172671,39.7376326
END:VEVENT
BEGIN:VEVENT
DTSTART;TZID=UTC:20210430T170000
DTEND;TZID=UTC:20210430T220000
DTSTAMP:20260424T012253
CREATED:20210329T061827Z
LAST-MODIFIED:20210329T061827Z
UID:10000233-1619802000-1619820000@www.activityoptions.com
SUMMARY:• Downtown Denver Night Out!
DESCRIPTION:Ride the light rail downtown\, explore the mall and LODO and eat at the Cheesecake Factory. Free for Denver residents. $1 for non residents. \nRegister Online\n 
URL:https://www.activityoptions.com/event/downtown-denver-night-out/
LOCATION:Downtown Denver\, Denver\, Colorado
ATTACH;FMTTYPE=image/png:https://www.activityoptions.com/wp-content/uploads/2021/03/DenverCheesecake.png
ORGANIZER;CN="Activity Options LLC /Project World PBC":MAILTO:signup@activityoptions.com
GEO:39.7392358;-104.990251
END:VEVENT
BEGIN:VEVENT
DTSTART;TZID=UTC:20210428T173000
DTEND;TZID=UTC:20210428T193000
DTSTAMP:20260424T012253
CREATED:20210329T051618Z
LAST-MODIFIED:20210329T051618Z
UID:10000231-1619631000-1619638200@www.activityoptions.com
SUMMARY:• Coffee Club Wednesday
DESCRIPTION:Join our small group to hang out at a local coffee and tea spot for conversation\, relaxation and smiles. Includes snack. Free for Denver residents. $39 for non residents. \nRegister Online
URL:https://www.activityoptions.com/event/coffee-club-wednesday/
LOCATION:Activity Options West Community Center\, 1315 Nelson\, Unit 3\, Lakewood\, CO\, 80215
ATTACH;FMTTYPE=image/jpeg:https://www.activityoptions.com/wp-content/uploads/2017/12/Coffee-Club-sq.jpg
ORGANIZER;CN="Activity Options LLC /Project World PBC":MAILTO:signup@activityoptions.com
GEO:39.7376326;-105.1172671
X-APPLE-STRUCTURED-LOCATION;VALUE=URI;X-ADDRESS=Activity Options West Community Center 1315 Nelson Unit 3 Lakewood CO 80215;X-APPLE-RADIUS=500;X-TITLE=1315 Nelson\, Unit 3:geo:-105.1172671,39.7376326
END:VEVENT
BEGIN:VEVENT
DTSTART;TZID=UTC:20210424T080000
DTEND;TZID=UTC:20210425T200000
DTSTAMP:20260424T012253
CREATED:20210410T061509Z
LAST-MODIFIED:20210410T061509Z
UID:10000123-1619251200-1619380800@www.activityoptions.com
SUMMARY:• Glenwood Springs Overnight
DESCRIPTION:Experience the scenic drive to Glenwood and enjoy the Iron Mountain Hot Springs and Adventure Center. Free for Denver residents. $299 for non residents\, Medicaid waiver restrictions may apply. \nRegister Online
URL:https://www.activityoptions.com/event/glenwood-springs-overnight/
LOCATION:Glenwood Springs\, Colorado\, Glenwood Springs\, Colorado
ATTACH;FMTTYPE=image/jpeg:https://www.activityoptions.com/wp-content/uploads/2018/07/Iron-Mountain-Caverns-Adventure.jpg
ORGANIZER;CN="Activity Options LLC /Project World PBC":MAILTO:signup@activityoptions.com
GEO:39.5505376;-107.3247762
END:VEVENT
BEGIN:VEVENT
DTSTART;TZID=UTC:20210423T160000
DTEND;TZID=UTC:20210423T200000
DTSTAMP:20260424T012253
CREATED:20210329T051106Z
LAST-MODIFIED:20210329T051115Z
UID:10000229-1619193600-1619208000@www.activityoptions.com
SUMMARY:• Wild Game Bowling and Dinner
DESCRIPTION:Our favorite bowling alley has reopened!! Two hours of bowling or video arcade and dinner at this Bergen Park boutique entertainment center. Free for Denver residents. $99 for non residents. \nRegister Online
URL:https://www.activityoptions.com/event/wild-game-bowling-and-dinner/
LOCATION:Wild Game\, 1204 Bergen Pkwy\, Evergreen\, CO\, 80439
ATTACH;FMTTYPE=image/jpeg:https://www.activityoptions.com/wp-content/uploads/2017/12/Wild-Game-sq-1.jpg
ORGANIZER;CN="Activity Options LLC /Project World PBC":MAILTO:signup@activityoptions.com
GEO:39.6925253;-105.3546392
X-APPLE-STRUCTURED-LOCATION;VALUE=URI;X-ADDRESS=Wild Game 1204 Bergen Pkwy Evergreen CO 80439;X-APPLE-RADIUS=500;X-TITLE=1204 Bergen Pkwy:geo:-105.3546392,39.6925253
END:VEVENT
BEGIN:VEVENT
DTSTART;TZID=UTC:20210418T173000
DTEND;TZID=UTC:20210418T190000
DTSTAMP:20260424T012253
CREATED:20210329T050541Z
LAST-MODIFIED:20210329T050541Z
UID:10000227-1618767000-1618772400@www.activityoptions.com
SUMMARY:• International Monster Hunt Online Party!
DESCRIPTION:Join the Zoom party game and travel the world in teams locating famous monsters. Can access from home or join us at the Center with dinner. Free for Denver residents. $89 for non residents. \nRegister Online
URL:https://www.activityoptions.com/event/international-monster-hunt-online-party/
LOCATION:Activity Options West Community Center\, 1315 Nelson\, Unit 3\, Lakewood\, CO\, 80215
ORGANIZER;CN="Activity Options LLC /Project World PBC":MAILTO:signup@activityoptions.com
GEO:39.7376326;-105.1172671
X-APPLE-STRUCTURED-LOCATION;VALUE=URI;X-ADDRESS=Activity Options West Community Center 1315 Nelson Unit 3 Lakewood CO 80215;X-APPLE-RADIUS=500;X-TITLE=1315 Nelson\, Unit 3:geo:-105.1172671,39.7376326
END:VEVENT
BEGIN:VEVENT
DTSTART;TZID=UTC:20210416T163000
DTEND;TZID=UTC:20210416T220000
DTSTAMP:20260424T012253
CREATED:20210329T043110Z
LAST-MODIFIED:20210329T043110Z
UID:10000223-1618590600-1618610400@www.activityoptions.com
SUMMARY:• Bingo and Dinner
DESCRIPTION:Early dinner at the Spaghetti Factory followed by Bingo at The Bingo CO. in Arvada. Free for Denver residents. $79 for non residents. \nRegister Online
URL:https://www.activityoptions.com/event/bingo-and-dinner/
LOCATION:The BINGO Company\, 6520 Wadsworth Blvd Ste 100\, Arvada\, Colorado\, 80003
ATTACH;FMTTYPE=image/png:https://www.activityoptions.com/wp-content/uploads/2020/01/BINGOco.png
ORGANIZER;CN="Activity Options LLC /Project World PBC":MAILTO:signup@activityoptions.com
END:VEVENT
BEGIN:VEVENT
DTSTART;TZID=UTC:20210411T083000
DTEND;TZID=UTC:20210411T133000
DTSTAMP:20260424T012253
CREATED:20210329T045559Z
LAST-MODIFIED:20210329T045559Z
UID:10000225-1618129800-1618147800@www.activityoptions.com
SUMMARY:• Indian Hot Springs Pool and Lunch
DESCRIPTION:Soak in this tropical paradise near Idaho Springs while winter carries on outside. Lunch afterwards. Free for Denver residents. $79 for non residents. \nRegister Online
URL:https://www.activityoptions.com/event/indian-hot-springs-pool-and-lunch/
LOCATION:Indian Hot Springs\, 302 Soda Creek Rd\, Idaho Springs\, CO\, 80452
ATTACH;FMTTYPE=image/jpeg:https://www.activityoptions.com/wp-content/uploads/2018/02/Indiam-Hot-Springs-sq.jpg
ORGANIZER;CN="Activity Options LLC /Project World PBC":MAILTO:signup@activityoptions.com
GEO:39.7392563;-105.512617
X-APPLE-STRUCTURED-LOCATION;VALUE=URI;X-ADDRESS=Indian Hot Springs 302 Soda Creek Rd Idaho Springs CO 80452;X-APPLE-RADIUS=500;X-TITLE=302 Soda Creek Rd:geo:-105.512617,39.7392563
END:VEVENT
BEGIN:VEVENT
DTSTART;TZID=UTC:20210410T170000
DTEND;TZID=UTC:20210410T220000
DTSTAMP:20260424T012253
CREATED:20210329T045255Z
LAST-MODIFIED:20210410T050831Z
UID:10000224-1618074000-1618092000@www.activityoptions.com
SUMMARY:• Saturday Night Club (SNL)
DESCRIPTION:Join Saturday Night Club (SNL) and enjoy the company of friends. Enjoy a movie and dinner at our Center or discover what’s open in town. Free for Denver residents. $35 for non residents. \nRegister Online
URL:https://www.activityoptions.com/event/snl-movie-club-2/
LOCATION:Activity Options West Community Center\, 1315 Nelson\, Unit 3\, Lakewood\, CO\, 80215
ATTACH;FMTTYPE=image/png:https://www.activityoptions.com/wp-content/uploads/2021/04/SNL-sq.png
ORGANIZER;CN="Activity Options LLC /Project World PBC":MAILTO:signup@activityoptions.com
GEO:39.7376326;-105.1172671
X-APPLE-STRUCTURED-LOCATION;VALUE=URI;X-ADDRESS=Activity Options West Community Center 1315 Nelson Unit 3 Lakewood CO 80215;X-APPLE-RADIUS=500;X-TITLE=1315 Nelson\, Unit 3:geo:-105.1172671,39.7376326
END:VEVENT
BEGIN:VEVENT
DTSTART;TZID=UTC:20210404T140000
DTEND;TZID=UTC:20210404T190000
DTSTAMP:20260424T012253
CREATED:20210329T042108Z
LAST-MODIFIED:20210329T042108Z
UID:10000222-1617544800-1617562800@www.activityoptions.com
SUMMARY:• Denver Aquarium and Dinner at Maggiano's
DESCRIPTION:Ride the light rail downtown to the Denver Aquarium and then celebrate spring (or Easter) with a family style Italian meal. Free for Denver residents. \nRegister Online
URL:https://www.activityoptions.com/event/denver-aquarium-and-dinner-at-maggianos/
LOCATION:Denver Downtown Aquarium\, 700 Water St\, Denver\, CO\, 80211
ATTACH;FMTTYPE=image/jpeg:https://www.activityoptions.com/wp-content/uploads/2017/12/Aquarium-sq.jpg
ORGANIZER;CN="Activity Options LLC /Project World PBC":MAILTO:signup@activityoptions.com
GEO:39.7518275;-105.0139233
X-APPLE-STRUCTURED-LOCATION;VALUE=URI;X-ADDRESS=Denver Downtown Aquarium 700 Water St Denver CO 80211;X-APPLE-RADIUS=500;X-TITLE=700 Water St:geo:-105.0139233,39.7518275
END:VEVENT
BEGIN:VEVENT
DTSTART;TZID=UTC:20210403T170000
DTEND;TZID=UTC:20210403T220000
DTSTAMP:20260424T012253
CREATED:20210329T041223Z
LAST-MODIFIED:20210329T043138Z
UID:10000221-1617469200-1617487200@www.activityoptions.com
SUMMARY:• SNL Movie Club
DESCRIPTION:Join Saturday Night Club (SNL) and enjoy the company of friends.Enjoy a movie and dinner at our Center or discover what’s open in town. Free for Denver residents. \nRegister Online
URL:https://www.activityoptions.com/event/snl-movie-club/
LOCATION:Activity Options West Community Center\, 1315 Nelson\, Unit 3\, Lakewood\, CO\, 80215
ATTACH;FMTTYPE=image/jpeg:https://www.activityoptions.com/wp-content/uploads/2018/07/SNL-Movie-Night-sq.jpg
ORGANIZER;CN="Activity Options LLC /Project World PBC":MAILTO:signup@activityoptions.com
GEO:39.7376326;-105.1172671
X-APPLE-STRUCTURED-LOCATION;VALUE=URI;X-ADDRESS=Activity Options West Community Center 1315 Nelson Unit 3 Lakewood CO 80215;X-APPLE-RADIUS=500;X-TITLE=1315 Nelson\, Unit 3:geo:-105.1172671,39.7376326
END:VEVENT
BEGIN:VEVENT
DTSTART;TZID=UTC:20201227T080000
DTEND;TZID=UTC:20201227T200000
DTSTAMP:20260424T012253
CREATED:20200820T172727Z
LAST-MODIFIED:20201109T083342Z
UID:10000105-1609056000-1609099200@www.activityoptions.com
SUMMARY:• TBD based on what is open
DESCRIPTION:Sure to be fun\, whatever it is! Waiting to schedule this one until we know more of what is available. Stay tuned! Free for Denver residents. $TBD for non residents. Medicaid waiver restrictions may apply.
URL:https://www.activityoptions.com/event/%e2%80%a2-tbd-based-open/2020-12-27/
LOCATION:Colorado
ATTACH;FMTTYPE=image/png:https://www.activityoptions.com/wp-content/uploads/2020/08/TBDevent.png
ORGANIZER;CN="Activity Options LLC /Project World PBC":MAILTO:signup@activityoptions.com
END:VEVENT
BEGIN:VEVENT
DTSTART;TZID=UTC:20201226T170000
DTEND;TZID=UTC:20201226T220000
DTSTAMP:20260424T012253
CREATED:20191120T050734Z
LAST-MODIFIED:20201109T080523Z
UID:10000062-1609002000-1609020000@www.activityoptions.com
SUMMARY:• Saturday Movie Night
DESCRIPTION:Join Saturday Night Club (SNL) and enjoy the company of friends.Enjoy a movie and dinner at our Center or discover what’s open in town. Free for Denver residents. $10 for non residents. \nRegister Online
URL:https://www.activityoptions.com/event/%e2%80%a2-saturday-movie-night/2020-12-26/
LOCATION:Local Theater
ATTACH;FMTTYPE=image/jpeg:https://www.activityoptions.com/wp-content/uploads/2018/07/SNL-Movie-Night-sq.jpg
ORGANIZER;CN="Activity Options LLC /Project World PBC":MAILTO:signup@activityoptions.com
END:VEVENT
BEGIN:VEVENT
DTSTART;TZID=UTC:20201223T173000
DTEND;TZID=UTC:20201223T203000
DTSTAMP:20260424T012253
CREATED:20191120T040243Z
LAST-MODIFIED:20201109T083128Z
UID:10000017-1608744600-1608755400@www.activityoptions.com
SUMMARY:• Wednesday Coffee Club
DESCRIPTION:Join our small group to hang out at a local coffee and tea spot for conversation\, relaxation and smiles. Includes snack. Free for Denver residents. $25 for non residents\, Medicaid waiver restrictions may apply. \nRegister Online
URL:https://www.activityoptions.com/event/%e2%80%a2-wednesday-coffee-club/2020-12-23/
LOCATION:Local Cafe
ATTACH;FMTTYPE=image/jpeg:https://www.activityoptions.com/wp-content/uploads/2017/12/Coffee-Club-sq.jpg
ORGANIZER;CN="Activity Options LLC /Project World PBC":MAILTO:signup@activityoptions.com
END:VEVENT
BEGIN:VEVENT
DTSTART;TZID=UTC:20201222T190000
DTEND;TZID=UTC:20201222T210000
DTSTAMP:20260424T012253
CREATED:20201213T164243Z
LAST-MODIFIED:20201214T065934Z
UID:10000220-1608663600-1608670800@www.activityoptions.com
SUMMARY:• Online access to Hip Hop Ballet\, DCPA
DESCRIPTION:Free to attend! Enjoy this holiday favorite Streaming Live from the comfort of home. This is a single use access to watch during the live streaming performance only\, show starts at 7pm MST. Register to receive a streaming access code.\n\n\nRegister Online\n 
URL:https://www.activityoptions.com/event/online-access-to-hip-hop-ballet-dcpa/
LOCATION:Online Streaming
ORGANIZER;CN="Activity Options LLC /Project World PBC":MAILTO:signup@activityoptions.com
END:VEVENT
BEGIN:VEVENT
DTSTART;TZID=UTC:20201219T180000
DTEND;TZID=UTC:20201219T193000
DTSTAMP:20260424T012253
CREATED:20201213T163015Z
LAST-MODIFIED:20201214T065520Z
UID:10000219-1608400800-1608406200@www.activityoptions.com
SUMMARY:• Online access to Moscow Ballet
DESCRIPTION:Free to attend! Enjoy this holiday favorite Streaming Live from the comfort of home. One ticket per household. Watch the performance as many times as you like between December 19 at 8 p.m. ET and January 1 11:59 p.m. ET. Feel free to buy more tickets if you would like to gift the stream to someone else! Register to receive a streaming access code. \nRegister Online
URL:https://www.activityoptions.com/event/online-access-to-moscow-ballet/
LOCATION:Online Streaming
ORGANIZER;CN="Activity Options LLC /Project World PBC":MAILTO:signup@activityoptions.com
END:VEVENT
BEGIN:VEVENT
DTSTART;TZID=UTC:20201219T150000
DTEND;TZID=UTC:20201219T210000
DTSTAMP:20260424T012253
CREATED:20201109T082341Z
LAST-MODIFIED:20201109T082341Z
UID:10000218-1608390000-1608411600@www.activityoptions.com
SUMMARY:• Georgetown Railroad Lighted Forest
DESCRIPTION:Ride the Georgetown Train through the enchanted lighted forest and celebrate the coming of Christmas. Possible visit from Santa and caroling. Dinner afterwards. Free for Denver residents. $129 for non residents. Medicaid waiver restrictions may apply. \nRegister Online
URL:https://www.activityoptions.com/event/georgetown-railroad-lighted-forest/
LOCATION:Georgetown Loop Railroad\, 646\, Loop Dr\, Georgetown\, CO\, 80444
ATTACH;FMTTYPE=image/jpeg:https://www.activityoptions.com/wp-content/uploads/2017/12/Georgetown-Holiday-Train-sq.jpg
ORGANIZER;CN="Activity Options LLC /Project World PBC":MAILTO:signup@activityoptions.com
GEO:39.699731;-105.7078463
X-APPLE-STRUCTURED-LOCATION;VALUE=URI;X-ADDRESS=Georgetown Loop Railroad 646 Loop Dr Georgetown CO 80444;X-APPLE-RADIUS=500;X-TITLE=646\, Loop Dr:geo:-105.7078463,39.699731
END:VEVENT
BEGIN:VEVENT
DTSTART;TZID=UTC:20201212T170000
DTEND;TZID=UTC:20201212T220000
DTSTAMP:20260424T012253
CREATED:20191120T050734Z
LAST-MODIFIED:20201109T080523Z
UID:10000061-1607792400-1607810400@www.activityoptions.com
SUMMARY:• Saturday Movie Night
DESCRIPTION:Join Saturday Night Club (SNL) and enjoy the company of friends.Enjoy a movie and dinner at our Center or discover what’s open in town. Free for Denver residents. $10 for non residents. \nRegister Online
URL:https://www.activityoptions.com/event/%e2%80%a2-saturday-movie-night/2020-12-12/
LOCATION:Local Theater
ATTACH;FMTTYPE=image/jpeg:https://www.activityoptions.com/wp-content/uploads/2018/07/SNL-Movie-Night-sq.jpg
ORGANIZER;CN="Activity Options LLC /Project World PBC":MAILTO:signup@activityoptions.com
END:VEVENT
BEGIN:VEVENT
DTSTART;TZID=UTC:20201211T150000
DTEND;TZID=UTC:20201211T200000
DTSTAMP:20260424T012253
CREATED:20201109T081813Z
LAST-MODIFIED:20201109T081813Z
UID:10000210-1607698800-1607716800@www.activityoptions.com
SUMMARY:• Zoo Lights and Spaghetti Factory
DESCRIPTION:Early dinner at the historic Spaghetti Factory and a Holiday Light tour at either the Denver Zoo\, Botanic Gardens and/or City house tour\, depending on weather. Free for Denver residents. $49 for non residents. Medicaid waiver restrictions may apply. \nRegister Online
URL:https://www.activityoptions.com/event/zoo-lights-and-spaghetti-factory/
LOCATION:Spaghetti Factory\, 1215 18th St\, Denver\, CO\, 80202
ATTACH;FMTTYPE=image/jpeg:https://www.activityoptions.com/wp-content/uploads/2017/12/spaghetti-Holiday-Lights-sq.jpg
ORGANIZER;CN="Activity Options LLC /Project World PBC":MAILTO:signup@activityoptions.com
GEO:39.7508253;-104.9941081
X-APPLE-STRUCTURED-LOCATION;VALUE=URI;X-ADDRESS=Spaghetti Factory 1215 18th St Denver CO 80202;X-APPLE-RADIUS=500;X-TITLE=1215 18th St:geo:-104.9941081,39.7508253
END:VEVENT
BEGIN:VEVENT
DTSTART;TZID=UTC:20201205T170000
DTEND;TZID=UTC:20201205T220000
DTSTAMP:20260424T012253
CREATED:20191120T050734Z
LAST-MODIFIED:20201109T080523Z
UID:10000060-1607187600-1607205600@www.activityoptions.com
SUMMARY:• Saturday Movie Night
DESCRIPTION:Join Saturday Night Club (SNL) and enjoy the company of friends.Enjoy a movie and dinner at our Center or discover what’s open in town. Free for Denver residents. $10 for non residents. \nRegister Online
URL:https://www.activityoptions.com/event/%e2%80%a2-saturday-movie-night/2020-12-05/
LOCATION:Local Theater
ATTACH;FMTTYPE=image/jpeg:https://www.activityoptions.com/wp-content/uploads/2018/07/SNL-Movie-Night-sq.jpg
ORGANIZER;CN="Activity Options LLC /Project World PBC":MAILTO:signup@activityoptions.com
END:VEVENT
BEGIN:VEVENT
DTSTART;TZID=UTC:20201205T140000
DTEND;TZID=UTC:20201205T170000
DTSTAMP:20260424T012253
CREATED:20201109T075949Z
LAST-MODIFIED:20201109T080033Z
UID:10000208-1607176800-1607187600@www.activityoptions.com
SUMMARY:• Cooking Class 5 - Holiday Cookie Baking
DESCRIPTION:Christmas Bake Off! Learn how to make your bake your favorite holiday cookies and other treats. Free for Denver residents. $24 for non residents. Medicaid waiver restrictions may apply. \nRegister Online\n 
URL:https://www.activityoptions.com/event/cooking-class/
LOCATION:Activity Options GroWest Community Center
ATTACH;FMTTYPE=image/png:https://www.activityoptions.com/wp-content/uploads/2020/11/CookingClass5.png
ORGANIZER;CN="Activity Options LLC /Project World PBC":MAILTO:signup@activityoptions.com
END:VEVENT
BEGIN:VEVENT
DTSTART;TZID=UTC:20201205T080000
DTEND;TZID=UTC:20201206T170000
DTSTAMP:20260424T012253
CREATED:20200808T043336Z
LAST-MODIFIED:20200830T033910Z
UID:10000098-1607155200-1607274000@www.activityoptions.com
SUMMARY:• Summit County Winter Adventure
DESCRIPTION:Drive to Frisco Colorado and enjoy the winter wonders of this amazing area. Activities will depend on whether but will include a Sleigh Ride in Breckenridge to dinner and a western show\, sledding\, hot tubing\, shopping\, gondola ride and more. Free for Denver residents. $399 for non residents. Medicaid waiver restrictions may apply. \nRegister Online
URL:https://www.activityoptions.com/event/%e2%80%a2-summit-county-winter-adventure-2/
LOCATION:Summit County Colorado\, Colorado
ATTACH;FMTTYPE=image/png:https://www.activityoptions.com/wp-content/uploads/2019/10/SummitCountyDayTrip.png
ORGANIZER;CN="Activity Options LLC /Project World PBC":MAILTO:signup@activityoptions.com
GEO:39.5500507;-105.7820674
END:VEVENT
BEGIN:VEVENT
DTSTART;TZID=UTC:20201204T170000
DTEND;TZID=UTC:20201204T220000
DTSTAMP:20260424T012253
CREATED:20201109T074849Z
LAST-MODIFIED:20201109T074849Z
UID:10000206-1607101200-1607119200@www.activityoptions.com
SUMMARY:• Downtown Denver Christmas Adventure!
DESCRIPTION:Join the holiday fun in Downtown Denver. Ride in a horse drawn carriage to see the lights followed by dinner with friends at the Cheesecake Factory. Free for Denver residents. $179 for non residents. Medicaid waiver restrictions may apply. \nRegister Online
URL:https://www.activityoptions.com/event/downtown-denver-christmas-adventure/
LOCATION:Downtown Denver\, Denver\, Colorado
ATTACH;FMTTYPE=image/png:https://www.activityoptions.com/wp-content/uploads/2019/10/DowntownChristmasAdventure.png
ORGANIZER;CN="Activity Options LLC /Project World PBC":MAILTO:signup@activityoptions.com
GEO:39.7392358;-104.990251
END:VEVENT
BEGIN:VEVENT
DTSTART;TZID=UTC:20201204T170000
DTEND;TZID=UTC:20201204T210000
DTSTAMP:20260424T012253
CREATED:20201006T054351Z
LAST-MODIFIED:20201127T010123Z
UID:10000203-1607101200-1607115600@www.activityoptions.com
SUMMARY:• Activity Options Annual Family Gratitude Dinner
DESCRIPTION:DATE & VENUE CHANGE: Join us for our 4th Annual Gratitude Dinner. Meals will. be delivered to the home. A suprise ZOOM mEetup at 7:00pm. We hope you will join us\, the more the merrier! \nRegister Online
URL:https://www.activityoptions.com/event/activity-options-annual-family-gratitude-dinner/
LOCATION:Colorado
ATTACH;FMTTYPE=image/png:https://www.activityoptions.com/wp-content/uploads/2020/10/Annual-AO-Thanksgiving.png
ORGANIZER;CN="Activity Options LLC /Project World PBC":MAILTO:signup@activityoptions.com
END:VEVENT
BEGIN:VEVENT
DTSTART;TZID=UTC:20201128T170000
DTEND;TZID=UTC:20201128T220000
DTSTAMP:20260424T012253
CREATED:20191120T050734Z
LAST-MODIFIED:20201109T080523Z
UID:10000059-1606582800-1606600800@www.activityoptions.com
SUMMARY:• Saturday Movie Night
DESCRIPTION:Join Saturday Night Club (SNL) and enjoy the company of friends.Enjoy a movie and dinner at our Center or discover what’s open in town. Free for Denver residents. $10 for non residents. \nRegister Online
URL:https://www.activityoptions.com/event/%e2%80%a2-saturday-movie-night/2020-11-28/
LOCATION:Local Theater
ATTACH;FMTTYPE=image/jpeg:https://www.activityoptions.com/wp-content/uploads/2018/07/SNL-Movie-Night-sq.jpg
ORGANIZER;CN="Activity Options LLC /Project World PBC":MAILTO:signup@activityoptions.com
END:VEVENT
BEGIN:VEVENT
DTSTART;TZID=UTC:20201127T163000
DTEND;TZID=UTC:20201127T220000
DTSTAMP:20260424T012253
CREATED:20200128T195643Z
LAST-MODIFIED:20201006T051848Z
UID:10000159-1606494600-1606514400@www.activityoptions.com
SUMMARY:• Dinner and BINGO!
DESCRIPTION:Join the games at The Bingo Company in Arvada. Assistance provided if needed. Dinner included. Free for Denver residents. $69 for non residents\, Medicaid waiver restrictions may apply. \nRegister Online
URL:https://www.activityoptions.com/event/%e2%80%a2dinner-and-bingo/2020-11-27/
LOCATION:The BINGO Company\, 6520 Wadsworth Blvd Ste 100\, Arvada\, Colorado\, 80003
ATTACH;FMTTYPE=image/png:https://www.activityoptions.com/wp-content/uploads/2020/01/BINGOco.png
ORGANIZER;CN="Activity Options LLC /Project World PBC":MAILTO:signup@activityoptions.com
END:VEVENT
BEGIN:VEVENT
DTSTART;TZID=UTC:20201125T173000
DTEND;TZID=UTC:20201125T203000
DTSTAMP:20260424T012253
CREATED:20191120T040243Z
LAST-MODIFIED:20201109T083128Z
UID:10000016-1606325400-1606336200@www.activityoptions.com
SUMMARY:• Wednesday Coffee Club
DESCRIPTION:Join our small group to hang out at a local coffee and tea spot for conversation\, relaxation and smiles. Includes snack. Free for Denver residents. $25 for non residents\, Medicaid waiver restrictions may apply. \nRegister Online
URL:https://www.activityoptions.com/event/%e2%80%a2-wednesday-coffee-club/2020-11-25/
LOCATION:Local Cafe
ATTACH;FMTTYPE=image/jpeg:https://www.activityoptions.com/wp-content/uploads/2017/12/Coffee-Club-sq.jpg
ORGANIZER;CN="Activity Options LLC /Project World PBC":MAILTO:signup@activityoptions.com
END:VEVENT
BEGIN:VEVENT
DTSTART;TZID=UTC:20201121T170000
DTEND;TZID=UTC:20201121T220000
DTSTAMP:20260424T012253
CREATED:20191120T050734Z
LAST-MODIFIED:20201109T080523Z
UID:10000058-1605978000-1605996000@www.activityoptions.com
SUMMARY:• Saturday Movie Night
DESCRIPTION:Join Saturday Night Club (SNL) and enjoy the company of friends.Enjoy a movie and dinner at our Center or discover what’s open in town. Free for Denver residents. $10 for non residents. \nRegister Online
URL:https://www.activityoptions.com/event/%e2%80%a2-saturday-movie-night/2020-11-21/
LOCATION:Local Theater
ATTACH;FMTTYPE=image/jpeg:https://www.activityoptions.com/wp-content/uploads/2018/07/SNL-Movie-Night-sq.jpg
ORGANIZER;CN="Activity Options LLC /Project World PBC":MAILTO:signup@activityoptions.com
END:VEVENT
BEGIN:VEVENT
DTSTART;TZID=UTC:20201121T140000
DTEND;TZID=UTC:20201121T170000
DTSTAMP:20260424T012253
CREATED:20201006T055300Z
LAST-MODIFIED:20201006T055300Z
UID:10000204-1605967200-1605978000@www.activityoptions.com
SUMMARY:• Cooking Class 4 - Thanksgiving on a Budget
DESCRIPTION:Prepare a Thanksgiving meal on a budget. Learn to make some great traditional recipes. Plan your meal and cook it up! Free for Denver residents. $24 for non residents. Medicaid waiver restrictions may apply. \nRegister Online
URL:https://www.activityoptions.com/event/cooking-class-4-thanksgiving-on-a-budget/
LOCATION:Activity Options GroWest Community Center
ATTACH;FMTTYPE=image/png:https://www.activityoptions.com/wp-content/uploads/2020/10/CookingClass4-1.png
ORGANIZER;CN="Activity Options LLC /Project World PBC":MAILTO:signup@activityoptions.com
END:VEVENT
BEGIN:VEVENT
DTSTART;TZID=UTC:20201115T080000
DTEND;TZID=UTC:20201115T200000
DTSTAMP:20260424T012253
CREATED:20200820T172727Z
LAST-MODIFIED:20201109T083342Z
UID:10000104-1605427200-1605470400@www.activityoptions.com
SUMMARY:• TBD based on what is open
DESCRIPTION:Sure to be fun\, whatever it is! Waiting to schedule this one until we know more of what is available. Stay tuned! Free for Denver residents. $TBD for non residents. Medicaid waiver restrictions may apply.
URL:https://www.activityoptions.com/event/%e2%80%a2-tbd-based-open/2020-11-15/
LOCATION:Colorado
ATTACH;FMTTYPE=image/png:https://www.activityoptions.com/wp-content/uploads/2020/08/TBDevent.png
ORGANIZER;CN="Activity Options LLC /Project World PBC":MAILTO:signup@activityoptions.com
END:VEVENT
END:VCALENDAR