BEGIN:VCALENDAR
VERSION:2.0
PRODID:-//Activity Options - ECPv6.15.20//NONSGML v1.0//EN
CALSCALE:GREGORIAN
METHOD:PUBLISH
X-WR-CALNAME:Activity Options
X-ORIGINAL-URL:https://www.activityoptions.com
X-WR-CALDESC:Events for Activity Options
REFRESH-INTERVAL;VALUE=DURATION:PT1H
X-Robots-Tag:noindex
X-PUBLISHED-TTL:PT1H
BEGIN:VTIMEZONE
TZID:UTC
BEGIN:STANDARD
TZOFFSETFROM:+0000
TZOFFSETTO:+0000
TZNAME:UTC
DTSTART:20210101T000000
END:STANDARD
END:VTIMEZONE
BEGIN:VEVENT
DTSTART;TZID=UTC:20220614T170000
DTEND;TZID=UTC:20220614T210000
DTSTAMP:20260423T224107
CREATED:20220416T065045Z
LAST-MODIFIED:20220416T065045Z
UID:10000230-1655226000-1655240400@www.activityoptions.com
SUMMARY:• Rocky Mtn. Pro Wrestling Tuesday night games
DESCRIPTION:Attend the weekly games of Rocky Mountain Pro Wrestling and learn the ins and out of wrestling. Free for Denver residents. $35 for non residents. Medicaid waiver restrictions may apply. \nRegister Online
URL:https://www.activityoptions.com/event/rocky-mtn-pro-wrestling-tuesday-night-games-3/
LOCATION:Rocky Mountain Pro and Al Snow Wrestling Academy\, 2170 W Yale Ave\, Englewood\, CO\, 80110
ATTACH;FMTTYPE=image/png:https://www.activityoptions.com/wp-content/uploads/2022/04/RMProWresstling.png
ORGANIZER;CN="Activity Options LLC /Project World PBC":MAILTO:signup@activityoptions.com
END:VEVENT
BEGIN:VEVENT
DTSTART;TZID=UTC:20220611T170000
DTEND;TZID=UTC:20220611T230000
DTSTAMP:20260423T224107
CREATED:20220416T064643Z
LAST-MODIFIED:20220416T064643Z
UID:10000228-1654966800-1654988400@www.activityoptions.com
SUMMARY:• Boulder Dinner Theater
DESCRIPTION:See the Broadway hit live”The SpongeBob Musical” over dinner at the BDT Stage. Free for Denver residents. $79 for non residents. Medicaid waiver restrictions may apply. \nRegister Online
URL:https://www.activityoptions.com/event/boulder-dinner-theater/
LOCATION:Boulder Dinner Theater\, 5501 Arapahoe Ave\, Boulder\, CO\, 80303\, United States
ORGANIZER;CN="Activity Options LLC /Project World PBC":MAILTO:signup@activityoptions.com
END:VEVENT
BEGIN:VEVENT
DTSTART;TZID=UTC:20220610T180000
DTEND;TZID=UTC:20220610T210000
DTSTAMP:20260423T224107
CREATED:20220416T063533Z
LAST-MODIFIED:20220416T063533Z
UID:10000226-1654884000-1654894800@www.activityoptions.com
SUMMARY:• Hip Hop Party with Live Music
DESCRIPTION:Join the party at the West Community Center with family friendly hip hop music performed by “Mr Kneel in the Wilderness”. Free for Denver residents & Free for non residents. \nRegister Online
URL:https://www.activityoptions.com/event/hip-hop-party-with-live-music/
LOCATION:Activity Options Community Center (Arvada)\, 7401 W 59th Ave\, Arvada\, Colorado\, 80003
ATTACH;FMTTYPE=image/png:https://www.activityoptions.com/wp-content/uploads/2022/04/MrKneel.png
ORGANIZER;CN="Activity Options LLC /Project World PBC":MAILTO:signup@activityoptions.com
END:VEVENT
BEGIN:VEVENT
DTSTART;TZID=UTC:20220605T130000
DTEND;TZID=UTC:20220605T180000
DTSTAMP:20260423T224107
CREATED:20220416T062939Z
LAST-MODIFIED:20220416T062939Z
UID:10000364-1654434000-1654452000@www.activityoptions.com
SUMMARY:• Meow Wolf Museum
DESCRIPTION:Exlpore this amazing futuristic art museum and be amazed!   Lots of sounds\, lights\, colors and mystery. Free for Denver residents. $125 for non residents. Medicaid waiver restrictions may apply. \nRegister Online
URL:https://www.activityoptions.com/event/meow-wolf-museum-2/
LOCATION:Meow Wolf Denver\, 1338 1st St\, Denver\, CO\, 80204\, United States
ORGANIZER;CN="Activity Options LLC /Project World PBC":MAILTO:signup@activityoptions.com
END:VEVENT
BEGIN:VEVENT
DTSTART;TZID=UTC:20220604T170000
DTEND;TZID=UTC:20220604T220000
DTSTAMP:20260423T224107
CREATED:20220416T062555Z
LAST-MODIFIED:20220416T062555Z
UID:10000363-1654362000-1654380000@www.activityoptions.com
SUMMARY:• Saturday Night Club (SNL)
DESCRIPTION:Join Saturday Night Club (SNL) and enjoy the company of friends.Enjoy a movie and dinner at our Center or discover what’s open in town. Free for Denver residents. $25 for non residents. Medicaid waiver restrictions may apply. \nRegister Online
URL:https://www.activityoptions.com/event/saturday-night-club-snl-17/
LOCATION:Activity Options Community Center (Arvada)\, 7401 W 59th Ave\, Arvada\, Colorado\, 80003
ATTACH;FMTTYPE=image/png:https://www.activityoptions.com/wp-content/uploads/2021/04/SNL-sq.png
ORGANIZER;CN="Activity Options LLC /Project World PBC":MAILTO:signup@activityoptions.com
END:VEVENT
BEGIN:VEVENT
DTSTART;TZID=UTC:20220604T070000
DTEND;TZID=UTC:20220607T190000
DTSTAMP:20260423T224107
CREATED:20220322T153147Z
LAST-MODIFIED:20220408T023217Z
UID:10000349-1654326000-1654628400@www.activityoptions.com
SUMMARY:• Snow Mountain Ranch Trip
DESCRIPTION:Stay at this favorite destination resort in a mountain condo while exploring the Ranch and area.  Horse back riding\, swimming\, mini zip line\, summer tubing\, boating and more.  Visit Grand Lake and possibly trail Ridge Road. Free for Denver residents. $750 for non residents. Medicaid waiver restrictions may apply. \nRegister Online
URL:https://www.activityoptions.com/event/snow-mountain-ranch-trip/
LOCATION:Snow Mountain Ranch\, 1101 Co Rd 53\, Granby\, CO\, 80446
ATTACH;FMTTYPE=image/jpeg:https://www.activityoptions.com/wp-content/uploads/2017/12/Snow-Mountain-Ranch-sq.jpg
ORGANIZER;CN="Activity Options LLC /Project World PBC":MAILTO:signup@activityoptions.com
GEO:39.9923312;-105.9266908
X-APPLE-STRUCTURED-LOCATION;VALUE=URI;X-ADDRESS=Snow Mountain Ranch 1101 Co Rd 53 Granby CO 80446;X-APPLE-RADIUS=500;X-TITLE=1101 Co Rd 53:geo:-105.9266908,39.9923312
END:VEVENT
BEGIN:VEVENT
DTSTART;TZID=UTC:20220530T110000
DTEND;TZID=UTC:20220530T150000
DTSTAMP:20260423T224107
CREATED:20220416T061427Z
LAST-MODIFIED:20220416T061427Z
UID:10000362-1653908400-1653922800@www.activityoptions.com
SUMMARY:• Memorial Day Party
DESCRIPTION:Bring in summer at this annual party at the West Community Center in Arvada. Food\, games and fun! Free for Denver residents. $25 for non residents. Medicaid waiver restrictions may apply. \nRegister Online
URL:https://www.activityoptions.com/event/memorial-day-party-2/
LOCATION:Activity Options Community Center (Arvada)\, 7401 W 59th Ave\, Arvada\, Colorado\, 80003
ATTACH;FMTTYPE=image/png:https://www.activityoptions.com/wp-content/uploads/2022/04/Memorial-Day.png
ORGANIZER;CN="Activity Options LLC /Project World PBC":MAILTO:signup@activityoptions.com
END:VEVENT
BEGIN:VEVENT
DTSTART;TZID=UTC:20220528T170000
DTEND;TZID=UTC:20220528T220000
DTSTAMP:20260423T224107
CREATED:20220416T043446Z
LAST-MODIFIED:20220416T043446Z
UID:10000357-1653757200-1653775200@www.activityoptions.com
SUMMARY:• Cats! Live at Buell Theater
DESCRIPTION:See this classic favorite live at the Buell Theater. Includes dinner. Free for Denver residents. $129 for non residents. Medicaid waiver restrictions may apply. \nRegister Online
URL:https://www.activityoptions.com/event/cats-live-at-buell-theater/
LOCATION:Denver Center for the Performing Arts\, 1101 13th St\, Denver\, CO\, 80204
ORGANIZER;CN="Activity Options LLC /Project World PBC":MAILTO:signup@activityoptions.com
GEO:39.7453475;-104.998331
X-APPLE-STRUCTURED-LOCATION;VALUE=URI;X-ADDRESS=Denver Center for the Performing Arts 1101 13th St Denver CO 80204;X-APPLE-RADIUS=500;X-TITLE=1101 13th St:geo:-104.998331,39.7453475
END:VEVENT
BEGIN:VEVENT
DTSTART;TZID=UTC:20220527T160000
DTEND;TZID=UTC:20220527T200000
DTSTAMP:20260423T224107
CREATED:20220416T042942Z
LAST-MODIFIED:20220416T060206Z
UID:10000356-1653667200-1653681600@www.activityoptions.com
SUMMARY:• Monthly Dinner Group
DESCRIPTION:Dinner together with friends at a favorite restaurant.  This month\, dine at Spaghetti Factory. Free for Denver residents. $49 for non residents. Medicaid waiver restrictions may apply. \nRegister Online
URL:https://www.activityoptions.com/event/monthly-dinner-group-2/
LOCATION:Cinzzetti’s Italian Market\, 281 W 104th Ave\, Northglenn\, CO\, 80234\, United States
ATTACH;FMTTYPE=image/png:https://www.activityoptions.com/wp-content/uploads/2022/03/Dinner-Group.png
ORGANIZER;CN="Activity Options LLC /Project World PBC":MAILTO:signup@activityoptions.com
END:VEVENT
BEGIN:VEVENT
DTSTART;TZID=UTC:20220525T173000
DTEND;TZID=UTC:20220525T193000
DTSTAMP:20260423T224107
CREATED:20220416T042324Z
LAST-MODIFIED:20220416T042324Z
UID:10000355-1653499800-1653507000@www.activityoptions.com
SUMMARY:• Coffee Club
DESCRIPTION:Join our small group to hang out at a local coffee and tea spot for conversation\, relaxation and smiles. Includes snack. Free for Denver residents. $39 for non residents. Medicaid waiver restrictions may apply. \nRegister Online\n 
URL:https://www.activityoptions.com/event/coffee-club-11/
LOCATION:Activity Options Community Center (Arvada)\, 7401 W 59th Ave\, Arvada\, Colorado\, 80003
ATTACH;FMTTYPE=image/jpeg:https://www.activityoptions.com/wp-content/uploads/2017/12/Coffee-Club-sq.jpg
ORGANIZER;CN="Activity Options LLC /Project World PBC":MAILTO:signup@activityoptions.com
END:VEVENT
BEGIN:VEVENT
DTSTART;TZID=UTC:20220524T170000
DTEND;TZID=UTC:20220524T210000
DTSTAMP:20260423T224107
CREATED:20220416T055604Z
LAST-MODIFIED:20220416T055604Z
UID:10000361-1653411600-1653426000@www.activityoptions.com
SUMMARY:• Rocky Mtn. Pro Wrestling Tuesday night games
DESCRIPTION:Attend the weekly games of Rocky Mountain Pro Wrestling and learn the ins and out of wrestling. Free for Denver residents. $35 for non residents. Medicaid waiver restrictions may apply. \nRegister Online
URL:https://www.activityoptions.com/event/rocky-mtn-pro-wrestling-tuesday-night-games-2/
LOCATION:Rocky Mountain Pro and Al Snow Wrestling Academy\, 2170 W Yale Ave\, Englewood\, CO\, 80110
ATTACH;FMTTYPE=image/png:https://www.activityoptions.com/wp-content/uploads/2022/04/RMProWresstling.png
ORGANIZER;CN="Activity Options LLC /Project World PBC":MAILTO:signup@activityoptions.com
END:VEVENT
BEGIN:VEVENT
DTSTART;TZID=UTC:20220521T070000
DTEND;TZID=UTC:20220523T190000
DTSTAMP:20260423T224107
CREATED:20220420T030629Z
LAST-MODIFIED:20220420T030629Z
UID:10000244-1653116400-1653332400@www.activityoptions.com
SUMMARY:• Glenwood\, Snowmass
DESCRIPTION:Bring in summer with a visit to Glenwood Springs and soak at Iron Mtn Hot Springs\, visit the Adventure Caverns\, Maroon Bells and Aspen. Free for Denver residents. $750 for non residents. Medicaid waiver restrictions may apply. \nRegister Online\n 
URL:https://www.activityoptions.com/event/glenwood-snowmass/
LOCATION:Glenwood Springs\, Colorado\, Glenwood Springs\, Colorado
ATTACH;FMTTYPE=image/jpeg:https://www.activityoptions.com/wp-content/uploads/2018/07/Iron-Mountain-Caverns-Adventure.jpg
ORGANIZER;CN="Activity Options LLC /Project World PBC":MAILTO:signup@activityoptions.com
GEO:39.5505376;-107.3247762
END:VEVENT
BEGIN:VEVENT
DTSTART;TZID=UTC:20220520T163000
DTEND;TZID=UTC:20220520T220000
DTSTAMP:20260423T224107
CREATED:20220416T040449Z
LAST-MODIFIED:20220416T040449Z
UID:10000353-1653064200-1653084000@www.activityoptions.com
SUMMARY:• CSO and Cleo Parker Robinson
DESCRIPTION:For five decades\, “One Spirit\, Many Voices” has resonated through the heart and soul of Cleo Parker Robinson Dance Ensemble’s storied accomplishments and continues to stand as a mantra to this day. A celebrated artist and cultural leader on the international stage\, Parker Robinson has been a champion of the arts for nearly half a century. Free for Denver residents. $179 for non residents. Medicaid waiver restrictions may apply.
URL:https://www.activityoptions.com/event/cso-and-cleo-parker-robinson/
LOCATION:Colorado Symphony Orchastra at Boettcher Concert Hall\, 1000 14th St\, Denver\, CO\, 80202
ATTACH;FMTTYPE=image/png:https://www.activityoptions.com/wp-content/uploads/2022/04/CleoParker.png
ORGANIZER;CN="Activity Options LLC /Project World PBC":MAILTO:signup@activityoptions.com
GEO:39.7453479;-104.9980736
X-APPLE-STRUCTURED-LOCATION;VALUE=URI;X-ADDRESS=Colorado Symphony Orchastra at Boettcher Concert Hall 1000 14th St Denver CO 80202;X-APPLE-RADIUS=500;X-TITLE=1000 14th St:geo:-104.9980736,39.7453479
END:VEVENT
BEGIN:VEVENT
DTSTART;TZID=UTC:20220520T160000
DTEND;TZID=UTC:20220520T210000
DTSTAMP:20260423T224107
CREATED:20220416T035951Z
LAST-MODIFIED:20220416T035951Z
UID:10000352-1653062400-1653080400@www.activityoptions.com
SUMMARY:• Horse Back Riding at Bear Creek Lake Park
DESCRIPTION:Join an experienced wrangler for a trail ride. No experience necessary but must be able to sit upright on a horse and hold the reins. This is not therapy riding! Includes lunch in Morrison or other local spots. Free for Denver residents. $99 for non residents. Medicaid waiver restrictions may apply.
URL:https://www.activityoptions.com/event/horse-back-riding-at-bear-creek-lake-park-5/
LOCATION:Bear Creek Lake Park\, 15600 W Morrison Rd\, Lakewood\, CO\, 80228
ATTACH;FMTTYPE=image/jpeg:https://www.activityoptions.com/wp-content/uploads/2018/03/Horseback-sq.jpg
ORGANIZER;CN="Activity Options LLC /Project World PBC":MAILTO:signup@activityoptions.com
GEO:39.653228;-105.1760166
X-APPLE-STRUCTURED-LOCATION;VALUE=URI;X-ADDRESS=Bear Creek Lake Park 15600 W Morrison Rd Lakewood CO 80228;X-APPLE-RADIUS=500;X-TITLE=15600 W Morrison Rd:geo:-105.1760166,39.653228
END:VEVENT
BEGIN:VEVENT
DTSTART;TZID=UTC:20220515T110000
DTEND;TZID=UTC:20220515T180000
DTSTAMP:20260423T224107
CREATED:20220416T054637Z
LAST-MODIFIED:20220416T054637Z
UID:10000360-1652612400-1652637600@www.activityoptions.com
SUMMARY:• Rockies vs. Kansas City
DESCRIPTION:Cheer on the Rockies at Coors Field. Includes a meal. Free for Denver residents. $99 for non residents. Medicaid waiver restrictions may apply. \nRegister Online
URL:https://www.activityoptions.com/event/rockies-vs-kansas-city/
LOCATION:COORS FIELD\, 2001 Blake St\, Denver\, CO\, 80205
ATTACH;FMTTYPE=image/png:https://www.activityoptions.com/wp-content/uploads/2022/04/Rockies-Royals.png
ORGANIZER;CN="Activity Options LLC /Project World PBC":MAILTO:signup@activityoptions.com
GEO:39.7559779;-104.9933491
X-APPLE-STRUCTURED-LOCATION;VALUE=URI;X-ADDRESS=COORS FIELD 2001 Blake St Denver CO 80205;X-APPLE-RADIUS=500;X-TITLE=2001 Blake St:geo:-104.9933491,39.7559779
END:VEVENT
BEGIN:VEVENT
DTSTART;TZID=UTC:20220514T180000
DTEND;TZID=UTC:20220514T210000
DTSTAMP:20260423T224107
CREATED:20220416T053800Z
LAST-MODIFIED:20220416T053800Z
UID:10000359-1652551200-1652562000@www.activityoptions.com
SUMMARY:• Dinner and Karaoke Night
DESCRIPTION:Hit the stage and join the fun and show your musical talent or just watch. Dinner prepared by cooking class. Free for Denver residents. $15 for non residents. Medicaid waiver restrictions may apply. \nRegister Online
URL:https://www.activityoptions.com/event/dinner-and-karaoke-night/
LOCATION:Activity Options Community Center (Arvada)\, 7401 W 59th Ave\, Arvada\, Colorado\, 80003
ATTACH;FMTTYPE=image/png:https://www.activityoptions.com/wp-content/uploads/2022/04/Karaoke.png
ORGANIZER;CN="Activity Options LLC /Project World PBC":MAILTO:signup@activityoptions.com
END:VEVENT
BEGIN:VEVENT
DTSTART;TZID=UTC:20220514T140000
DTEND;TZID=UTC:20220514T170000
DTSTAMP:20260423T224107
CREATED:20220416T041302Z
LAST-MODIFIED:20220416T045342Z
UID:10000354-1652536800-1652547600@www.activityoptions.com
SUMMARY:• Cooking Class
DESCRIPTION:Menu to be determined. Learn new cooking skills and enjoy your hard work. Free for Denver residents. $15 for non residents. Medicaid waiver restrictions may apply. \nRegister Online
URL:https://www.activityoptions.com/event/cooking-class-3/
LOCATION:Activity Options Community Center (Arvada)\, 7401 W 59th Ave\, Arvada\, Colorado\, 80003
ATTACH;FMTTYPE=image/png:https://www.activityoptions.com/wp-content/uploads/2022/04/CookingClassMay.png
ORGANIZER;CN="Activity Options LLC /Project World PBC":MAILTO:signup@activityoptions.com
END:VEVENT
BEGIN:VEVENT
DTSTART;TZID=UTC:20220513T170000
DTEND;TZID=UTC:20220513T230000
DTSTAMP:20260423T224107
CREATED:20220416T034915Z
LAST-MODIFIED:20220416T034915Z
UID:10000351-1652461200-1652482800@www.activityoptions.com
SUMMARY:• Bingo and Dinner
DESCRIPTION:Early dinner at the Red Robin followed by Bingo at The Bingo CO. in Arvada. Free for Denver residents. $79 for non residents. Medicaid waiver restrictions may apply. \nRegister Online\n 
URL:https://www.activityoptions.com/event/bingo-and-dinner-6/
LOCATION:The BINGO Company\, 6520 Wadsworth Blvd Ste 100\, Arvada\, Colorado\, 80003
ATTACH;FMTTYPE=image/png:https://www.activityoptions.com/wp-content/uploads/2021/05/Bingo-Red-Robin.png
ORGANIZER;CN="Activity Options LLC /Project World PBC":MAILTO:signup@activityoptions.com
END:VEVENT
BEGIN:VEVENT
DTSTART;TZID=UTC:20220510T170000
DTEND;TZID=UTC:20220510T210000
DTSTAMP:20260423T224108
CREATED:20220416T052442Z
LAST-MODIFIED:20220416T052442Z
UID:10000358-1652202000-1652216400@www.activityoptions.com
SUMMARY:• Rocky Mtn. Pro Wrestling Tuesday night games
DESCRIPTION:Attend the weekly games of Rocky Mountain Pro Wrestling and learn the ins and out of wrestling. Free for Denver residents. $35 for non residents. Medicaid waiver restrictions may apply. \nRegister Online
URL:https://www.activityoptions.com/event/rocky-mtn-pro-wrestling-tuesday-night-games/
LOCATION:Rocky Mountain Pro and Al Snow Wrestling Academy\, 2170 W Yale Ave\, Englewood\, CO\, 80110
ATTACH;FMTTYPE=image/png:https://www.activityoptions.com/wp-content/uploads/2022/04/RMProWresstling.png
ORGANIZER;CN="Activity Options LLC /Project World PBC":MAILTO:signup@activityoptions.com
END:VEVENT
BEGIN:VEVENT
DTSTART;TZID=UTC:20220507T170000
DTEND;TZID=UTC:20220507T220000
DTSTAMP:20260423T224108
CREATED:20220416T034434Z
LAST-MODIFIED:20220416T044914Z
UID:10000350-1651942800-1651960800@www.activityoptions.com
SUMMARY:• Saturday Night Club (SNL)
DESCRIPTION:Join Saturday Night Club (SNL) and enjoy the company of friends.Enjoy a movie and dinner at our Center or discover what’s open in town. Free for Denver residents. $25 for non residents. Medicaid waiver restrictions may apply. \nRegister Online
URL:https://www.activityoptions.com/event/saturday-night-club-snl-16/
LOCATION:Activity Options Community Center (Arvada)\, 7401 W 59th Ave\, Arvada\, Colorado\, 80003
ATTACH;FMTTYPE=image/png:https://www.activityoptions.com/wp-content/uploads/2021/04/SNL-sq.png
ORGANIZER;CN="Activity Options LLC /Project World PBC":MAILTO:signup@activityoptions.com
END:VEVENT
BEGIN:VEVENT
DTSTART;TZID=UTC:20220502T000000
DTEND;TZID=UTC:20220506T233000
DTSTAMP:20260423T224108
CREATED:20220309T084547Z
LAST-MODIFIED:20220309T084547Z
UID:10000346-1651449600-1651879800@www.activityoptions.com
SUMMARY:• Southern California Trip to San Diego and LA
DESCRIPTION:Fly into San Diego and out of John Wayne Airport\, spending 2 nights on Mission Bay in San Diego and 2 nights in Anaheim. Visit the San Diego Zoo\, Marina\, Coronado Island\, La Jolla\, Disney Land and/or California and Warner Brothers Studios in Burbank. First preference given to travelers who have not gone on this trip with Activity Options before. Free for Denver residents. $2\,399 for non residents. Medicaid waiver restrictions may apply. \nRegister Online
URL:https://www.activityoptions.com/event/southern-california-trip-to-san-diego-and-la/
LOCATION:Southern California\, CA
ATTACH;FMTTYPE=image/png:https://www.activityoptions.com/wp-content/uploads/2022/03/SoCal-Trip.png
ORGANIZER;CN="Activity Options LLC /Project World PBC":MAILTO:signup@activityoptions.com
END:VEVENT
BEGIN:VEVENT
DTSTART;TZID=UTC:20220430T110000
DTEND;TZID=UTC:20220430T150000
DTSTAMP:20260423T224108
CREATED:20220318T025357Z
LAST-MODIFIED:20220318T025357Z
UID:10000348-1651316400-1651330800@www.activityoptions.com
SUMMARY:• The Art of Banksy
DESCRIPTION:See the largest exhibit of original Banksy art ever assembled. Banksy is known as one of the most influential and talked artists in modern artist. Free for Denver residents. $75 for non residents. Medicaid waiver restrictions may apply. \nRegister Online
URL:https://www.activityoptions.com/event/the-art-of-banksy/
LOCATION:Denver Sports Castle\, 1000 Broadway\, Denver\, CO\, 80203\, United States
ORGANIZER;CN="Activity Options LLC /Project World PBC":MAILTO:signup@activityoptions.com
END:VEVENT
BEGIN:VEVENT
DTSTART;TZID=UTC:20220424T110000
DTEND;TZID=UTC:20220424T170000
DTSTAMP:20260423T224108
CREATED:20220318T015324Z
LAST-MODIFIED:20220318T015324Z
UID:10000347-1650798000-1650819600@www.activityoptions.com
SUMMARY:• "Lift Every Voice" Musicurious Program at Boettcher Theater
DESCRIPTION:See and hear this unique collaboration celebrating the common human spirit with poetry\, dance and music. A message of unity and social justice. Free for Denver residents. $59 for non residents. Medicaid waiver restrictions may apply. \nRegister Online
URL:https://www.activityoptions.com/event/lift-every-voice-musicurious-program-at-boettcher-theater/
LOCATION:Colorado Symphony Orchastra at Boettcher Concert Hall\, 1000 14th St\, Denver\, CO\, 80202
ATTACH;FMTTYPE=image/png:https://www.activityoptions.com/wp-content/uploads/2022/03/Musicurios.png
ORGANIZER;CN="Activity Options LLC /Project World PBC":MAILTO:signup@activityoptions.com
GEO:39.7453479;-104.9980736
X-APPLE-STRUCTURED-LOCATION;VALUE=URI;X-ADDRESS=Colorado Symphony Orchastra at Boettcher Concert Hall 1000 14th St Denver CO 80202;X-APPLE-RADIUS=500;X-TITLE=1000 14th St:geo:-104.9980736,39.7453479
END:VEVENT
BEGIN:VEVENT
DTSTART;TZID=UTC:20220423T170000
DTEND;TZID=UTC:20220423T220000
DTSTAMP:20260423T224108
CREATED:20220309T065518Z
LAST-MODIFIED:20220318T012909Z
UID:10000217-1650733200-1650751200@www.activityoptions.com
SUMMARY:• Saturday Night Club (SNL)
DESCRIPTION:Join Saturday Night Club (SNL) and enjoy the company of friends. Enjoy a movie and dinner at our Center or discover what’s open in town. Free for Denver residents. $25 for non residents. Medicaid waiver restrictions may apply. \nRegister Online
URL:https://www.activityoptions.com/event/saturday-night-club-snl-15/
LOCATION:Activity Options Community Center (Arvada)\, 7401 W 59th Ave\, Arvada\, Colorado\, 80003
ATTACH;FMTTYPE=image/png:https://www.activityoptions.com/wp-content/uploads/2021/04/SNL-sq.png
ORGANIZER;CN="Activity Options LLC /Project World PBC":MAILTO:signup@activityoptions.com
END:VEVENT
BEGIN:VEVENT
DTSTART;TZID=UTC:20220422T170000
DTEND;TZID=UTC:20220422T210000
DTSTAMP:20260423T224108
CREATED:20220309T064957Z
LAST-MODIFIED:20220309T064957Z
UID:10000216-1650646800-1650661200@www.activityoptions.com
SUMMARY:• Monthly Dinner Group
DESCRIPTION:Dinner this month at the Spaghetti Factory in Westminster. Free for Denver residents. $59 for non residents. Medicaid waiver restrictions may apply. \nRegister Online
URL:https://www.activityoptions.com/event/monthly-dinner-group/
LOCATION:The Old Spaghetii Factory Westminster\, 9145 Sheridan Boulevard\, Westminster\, CO\, 80031
ATTACH;FMTTYPE=image/png:https://www.activityoptions.com/wp-content/uploads/2022/03/Dinner-Group.png
ORGANIZER;CN="Activity Options LLC /Project World PBC":MAILTO:signup@activityoptions.com
END:VEVENT
BEGIN:VEVENT
DTSTART;TZID=UTC:20220416T140000
DTEND;TZID=UTC:20220416T170000
DTSTAMP:20260423T224108
CREATED:20220309T063337Z
LAST-MODIFIED:20220309T063337Z
UID:10000215-1650117600-1650128400@www.activityoptions.com
SUMMARY:• Cooking Class
DESCRIPTION:Menu to be determined. Learn new cooking skills and enjoy your hard work. Free for Denver residents. $15 for non residents. Medicaid waiver restrictions may apply. \nRegister Online
URL:https://www.activityoptions.com/event/cooking-class-2/
LOCATION:Activity Options Community Center (Arvada)\, 7401 W 59th Ave\, Arvada\, Colorado\, 80003
ATTACH;FMTTYPE=image/png:https://www.activityoptions.com/wp-content/uploads/2022/03/CookingClassApril.png
ORGANIZER;CN="Activity Options LLC /Project World PBC":MAILTO:signup@activityoptions.com
END:VEVENT
BEGIN:VEVENT
DTSTART;TZID=UTC:20220415T170000
DTEND;TZID=UTC:20220415T230000
DTSTAMP:20260423T224108
CREATED:20220309T062603Z
LAST-MODIFIED:20220309T062603Z
UID:10000214-1650042000-1650063600@www.activityoptions.com
SUMMARY:• BINGO and Dinner
DESCRIPTION:Early dinner at the Red Robin followed by Bingo at The Bingo Company in Arvada. Free for Denver residents. $59 for non residents. Medicaid waiver restrictions may apply. \nRegister Online
URL:https://www.activityoptions.com/event/bingo-and-dinner-5/
LOCATION:The BINGO Company\, 6520 Wadsworth Blvd Ste 100\, Arvada\, Colorado\, 80003
ATTACH;FMTTYPE=image/png:https://www.activityoptions.com/wp-content/uploads/2021/05/Bingo-Red-Robin.png
ORGANIZER;CN="Activity Options LLC /Project World PBC":MAILTO:signup@activityoptions.com
END:VEVENT
BEGIN:VEVENT
DTSTART;TZID=UTC:20220410T120000
DTEND;TZID=UTC:20220410T180000
DTSTAMP:20260423T224108
CREATED:20220309T062125Z
LAST-MODIFIED:20220309T062125Z
UID:10000213-1649592000-1649613600@www.activityoptions.com
SUMMARY:• Nuggets vs. LA Lakers
DESCRIPTION:Don’t miss this game! Live at Ball Arena. Free for Denver residents. $ 179 for non residents. Medicaid waiver restrictions may apply. \nRegister Online
URL:https://www.activityoptions.com/event/nuggets-vs-la-lakers/
LOCATION:Ball Arena
ATTACH;FMTTYPE=image/png:https://www.activityoptions.com/wp-content/uploads/2022/03/Nuggets-Lakers.png
ORGANIZER;CN="Activity Options LLC /Project World PBC":MAILTO:signup@activityoptions.com
END:VEVENT
BEGIN:VEVENT
DTSTART;TZID=UTC:20220409T170000
DTEND;TZID=UTC:20220409T220000
DTSTAMP:20260423T224108
CREATED:20220309T061033Z
LAST-MODIFIED:20220318T012835Z
UID:10000212-1649523600-1649541600@www.activityoptions.com
SUMMARY:• Saturday Night Club (SNL)
DESCRIPTION:Join Saturday Night Club (SNL) and enjoy the company of friends.Enjoy a movie and dinner at our Center or discover what’s open in town. Free for Denver residents. $25 for non residents. Medic aid waiver restrictions may apply. \nRegister Online
URL:https://www.activityoptions.com/event/saturday-night-club-snl-14/
LOCATION:Activity Options Community Center (Arvada)\, 7401 W 59th Ave\, Arvada\, Colorado\, 80003
ATTACH;FMTTYPE=image/png:https://www.activityoptions.com/wp-content/uploads/2021/04/SNL-sq.png
ORGANIZER;CN="Activity Options LLC /Project World PBC":MAILTO:signup@activityoptions.com
END:VEVENT
BEGIN:VEVENT
DTSTART;TZID=UTC:20220408T170000
DTEND;TZID=UTC:20220408T220000
DTSTAMP:20260423T224108
CREATED:20220309T060611Z
LAST-MODIFIED:20220309T060611Z
UID:10000211-1649437200-1649455200@www.activityoptions.com
SUMMARY:• Disney on Ice
DESCRIPTION:Live at the Coliseum. Free for Denver residents. $99 for non residents. Medicaid waiver restrictions may apply. \nRegister Online\n 
URL:https://www.activityoptions.com/event/disney-on-ice/
LOCATION:Denver Coliseum\, 4600 Humboldt St\, Denver\, CO\, 80216\, United States
ORGANIZER;CN="Activity Options LLC /Project World PBC":MAILTO:signup@activityoptions.com
END:VEVENT
END:VCALENDAR