BEGIN:VCALENDAR
VERSION:2.0
PRODID:-//Activity Options - ECPv6.15.20//NONSGML v1.0//EN
CALSCALE:GREGORIAN
METHOD:PUBLISH
X-WR-CALNAME:Activity Options
X-ORIGINAL-URL:https://www.activityoptions.com
X-WR-CALDESC:Events for Activity Options
REFRESH-INTERVAL;VALUE=DURATION:PT1H
X-Robots-Tag:noindex
X-PUBLISHED-TTL:PT1H
BEGIN:VTIMEZONE
TZID:UTC
BEGIN:STANDARD
TZOFFSETFROM:+0000
TZOFFSETTO:+0000
TZNAME:UTC
DTSTART:20210101T000000
END:STANDARD
END:VTIMEZONE
BEGIN:VEVENT
DTSTART;TZID=UTC:20230128T160000
DTEND;TZID=UTC:20230128T210000
DTSTAMP:20260423T210826
CREATED:20230115T081158Z
LAST-MODIFIED:20230115T081158Z
UID:10000418-1674921600-1674939600@www.activityoptions.com
SUMMARY:• Monthly Dinner Group
DESCRIPTION:Join friends for dinner at Olde Spaghetti Factory. Free for Denver residents and Respite. $59 for private pay. \nRegister Online
URL:https://www.activityoptions.com/event/monthly-dinner-group-6/
LOCATION:Spaghetti Factory\, 1215 18th St\, Denver\, CO\, 80202
ATTACH;FMTTYPE=image/png:https://www.activityoptions.com/wp-content/uploads/2022/03/Dinner-Group.png
ORGANIZER;CN="Activity Options LLC /Project World PBC":MAILTO:signup@activityoptions.com
GEO:39.7508253;-104.9941081
X-APPLE-STRUCTURED-LOCATION;VALUE=URI;X-ADDRESS=Spaghetti Factory 1215 18th St Denver CO 80202;X-APPLE-RADIUS=500;X-TITLE=1215 18th St:geo:-104.9941081,39.7508253
END:VEVENT
BEGIN:VEVENT
DTSTART;TZID=UTC:20230127T160000
DTEND;TZID=UTC:20230127T220000
DTSTAMP:20260423T210826
CREATED:20230115T080344Z
LAST-MODIFIED:20230115T080344Z
UID:10000417-1674835200-1674856800@www.activityoptions.com
SUMMARY:• Denver Pioneer Hockey vs. SCC
DESCRIPTION:Join the DU hockey team as they fight off SCC at Magness Arena. Free for Denver residents and Respite. $149 for private pay. \nRegister Online
URL:https://www.activityoptions.com/event/denver-pioneer-hockey-vs-scc/
LOCATION:Magnus Arena\, Denver
ORGANIZER;CN="Activity Options LLC /Project World PBC":MAILTO:signup@activityoptions.com
END:VEVENT
BEGIN:VEVENT
DTSTART;TZID=UTC:20230122T110000
DTEND;TZID=UTC:20230122T170000
DTSTAMP:20260423T210826
CREATED:20230115T075022Z
LAST-MODIFIED:20230115T075022Z
UID:10000416-1674385200-1674406800@www.activityoptions.com
SUMMARY:• Draft Horse/Mule Competition - Stock Show
DESCRIPTION:Attend an afternoon performance of mule and draft horse competition at the National Rodeo Complex. Visit the stock show grounds and find some cowboy grub. Free for Denver resident and Respite. $149 for private pay. \nRegister Online
URL:https://www.activityoptions.com/event/draft-horse-mule-competition-stock-show/
LOCATION:National Rodeo Complex\, 4655 Humboldt St\, Denver\, CO\, 80216
ORGANIZER;CN="Activity Options LLC /Project World PBC":MAILTO:signup@activityoptions.com
END:VEVENT
BEGIN:VEVENT
DTSTART;TZID=UTC:20230121T170000
DTEND;TZID=UTC:20230121T220000
DTSTAMP:20260423T210826
CREATED:20230115T072518Z
LAST-MODIFIED:20230115T072518Z
UID:10000415-1674320400-1674338400@www.activityoptions.com
SUMMARY:• Saturday Night Live SNL
DESCRIPTION:Join Saturday Night Club (SNL) and enjoy the company of friends. Dinner and movie at our Center or discover what’s open in town. Free for Denver residents and Respite. $25 for private pay. \nRegister Online
URL:https://www.activityoptions.com/event/saturday-night-live-snl-3/
LOCATION:Activity Options Community Center (Arvada)\, 7401 W 59th Ave\, Arvada\, Colorado\, 80003
ATTACH;FMTTYPE=image/png:https://www.activityoptions.com/wp-content/uploads/2021/04/SNL-sq.png
ORGANIZER;CN="Activity Options LLC /Project World PBC":MAILTO:signup@activityoptions.com
END:VEVENT
BEGIN:VEVENT
DTSTART;TZID=UTC:20230121T130000
DTEND;TZID=UTC:20230121T160000
DTSTAMP:20260423T210826
CREATED:20230115T071713Z
LAST-MODIFIED:20230115T071713Z
UID:10000414-1674306000-1674316800@www.activityoptions.com
SUMMARY:• Cooking Class
DESCRIPTION:Learn how to make some simple recipes you can do at home. Everyone participates on some level\, then chow down!! free for Denver residents and Respite. $59 for private pay. \nRegister Online
URL:https://www.activityoptions.com/event/cooking-class-7/
LOCATION:Activity Options Community Center (Arvada)\, 7401 W 59th Ave\, Arvada\, Colorado\, 80003
ATTACH;FMTTYPE=image/png:https://www.activityoptions.com/wp-content/uploads/2022/03/CookingClassApril.png
ORGANIZER;CN="Activity Options LLC /Project World PBC":MAILTO:signup@activityoptions.com
END:VEVENT
BEGIN:VEVENT
DTSTART;TZID=UTC:20230120T080000
DTEND;TZID=UTC:20230120T160000
DTSTAMP:20260423T210826
CREATED:20230115T070638Z
LAST-MODIFIED:20230115T070638Z
UID:10000413-1674201600-1674230400@www.activityoptions.com
SUMMARY:• Skiing or Snowboarding at Loveland
DESCRIPTION:Hit the slopes and enjoy the great Colorado conditions at Loveland Ski Area. Rental equipment\, lunch and transportation included. Must have some experience as lessons are not provided\, but don’t worry. You’ll be with an experienced guide who can help navigate the details. Free for Denver residents and Respite. $250 for private pay. \nRegister Online
URL:https://www.activityoptions.com/event/skiing-or-snowboarding-at-loveland-4/
LOCATION:Loveland & Keystone\, Colorado
ATTACH;FMTTYPE=image/png:https://www.activityoptions.com/wp-content/uploads/2022/01/Ski-Snowboard.png
ORGANIZER;CN="Activity Options LLC /Project World PBC":MAILTO:signup@activityoptions.com
GEO:39.5500507;-105.7820674
END:VEVENT
BEGIN:VEVENT
DTSTART;TZID=UTC:20230119T170000
DTEND;TZID=UTC:20230119T210000
DTSTAMP:20260423T210826
CREATED:20230115T051233Z
LAST-MODIFIED:20230115T051233Z
UID:10000412-1674147600-1674162000@www.activityoptions.com
SUMMARY:• Rocky Mountain Pro Wrestling
DESCRIPTION:Attend this local performance and see the local greats duke it out. Free for Denver residents and Respite. $59 for private pay. \nRegister Online\n 
URL:https://www.activityoptions.com/event/rocky-mountain-pro-wrestling/
LOCATION:Rocky Mountain Pro and Al Snow Wrestling Academy\, 2170 W Yale Ave\, Englewood\, CO\, 80110
ATTACH;FMTTYPE=image/png:https://www.activityoptions.com/wp-content/uploads/2022/04/RMProWresstling.png
ORGANIZER;CN="Activity Options LLC /Project World PBC":MAILTO:signup@activityoptions.com
END:VEVENT
BEGIN:VEVENT
DTSTART;TZID=UTC:20230107T170000
DTEND;TZID=UTC:20230107T210000
DTSTAMP:20260423T210826
CREATED:20221206T050534Z
LAST-MODIFIED:20221206T050534Z
UID:10000411-1673110800-1673125200@www.activityoptions.com
SUMMARY:• Hip Hop Party! at West Community Center
DESCRIPTION:Join Saturday Night Club (SNL) and enjoy the company of friends. Special Guest Mr. Kneel In the Wilderness and as always food and fun. Free for Denver residents. $29 for non residents. \nRegister Online
URL:https://www.activityoptions.com/event/hip-hop-party-at-west-community-center/
LOCATION:Activity Options Community Center (Arvada)\, 7401 W 59th Ave\, Arvada\, Colorado\, 80003
ATTACH;FMTTYPE=image/png:https://www.activityoptions.com/wp-content/uploads/2022/04/MrKneel.png
ORGANIZER;CN="Activity Options LLC /Project World PBC":MAILTO:signup@activityoptions.com
END:VEVENT
BEGIN:VEVENT
DTSTART;TZID=UTC:20221231T170000
DTEND;TZID=UTC:20221231T200000
DTSTAMP:20260423T210826
CREATED:20221116T110131Z
LAST-MODIFIED:20221116T110131Z
UID:10000285-1672506000-1672516800@www.activityoptions.com
SUMMARY:• New Year's Eve Party!
DESCRIPTION:Party down with friends to celebrate the end of a great year and bring in the new. Exact activity will depend on how many people want to go\, but in any event\, it will be fun\, festive and delicious! Free for Denver Residents. $39 for non residents. \nRegister Online
URL:https://www.activityoptions.com/event/new-years-eve-party/
LOCATION:Activity Options Community Center (Arvada)\, 7401 W 59th Ave\, Arvada\, Colorado\, 80003
ATTACH;FMTTYPE=image/png:https://www.activityoptions.com/wp-content/uploads/2022/11/HNY2023.png
ORGANIZER;CN="Activity Options LLC /Project World PBC":MAILTO:signup@activityoptions.com
END:VEVENT
BEGIN:VEVENT
DTSTART;TZID=UTC:20221230T160000
DTEND;TZID=UTC:20221230T220000
DTSTAMP:20260423T210826
CREATED:20221116T105044Z
LAST-MODIFIED:20221130T033637Z
UID:10000283-1672416000-1672437600@www.activityoptions.com
SUMMARY:• Top Golf Party!!
DESCRIPTION:You don’t have to know how to swing a club to join us for a Top Golf Party! Come and enjoy this unique venue. $89 for non residents. \nRegister Online
URL:https://www.activityoptions.com/event/bowling-and-dinner-6/
LOCATION:Top Golf Denver\, 10601 E Easter Ave\, Centennial\, CO\, 80112\, United States
ATTACH;FMTTYPE=image/png:https://www.activityoptions.com/wp-content/uploads/2022/04/TopGolf.png
ORGANIZER;CN="Activity Options LLC /Project World PBC":MAILTO:signup@activityoptions.com
END:VEVENT
BEGIN:VEVENT
DTSTART;TZID=UTC:20221223T170000
DTEND;TZID=UTC:20221223T210000
DTSTAMP:20260423T210826
CREATED:20221116T104235Z
LAST-MODIFIED:20221204T232606Z
UID:10000281-1671814800-1671829200@www.activityoptions.com
SUMMARY:• CSO presents Elf!
DESCRIPTION:See this memorable Christmas classic on the big screen with live music performed by the Colorado Symphony Orchestra. Free for Denver residents. $99 for non residents. \nRegister Online
URL:https://www.activityoptions.com/event/cso-presents-elf/
LOCATION:Colorado Symphony Orchastra at Boettcher Concert Hall\, 1000 14th St\, Denver\, CO\, 80202
ORGANIZER;CN="Activity Options LLC /Project World PBC":MAILTO:signup@activityoptions.com
GEO:39.7453479;-104.9980736
X-APPLE-STRUCTURED-LOCATION;VALUE=URI;X-ADDRESS=Colorado Symphony Orchastra at Boettcher Concert Hall 1000 14th St Denver CO 80202;X-APPLE-RADIUS=500;X-TITLE=1000 14th St:geo:-104.9980736,39.7453479
END:VEVENT
BEGIN:VEVENT
DTSTART;TZID=UTC:20221218T110000
DTEND;TZID=UTC:20221218T170000
DTSTAMP:20260423T210826
CREATED:20221116T103532Z
LAST-MODIFIED:20221116T103532Z
UID:10000279-1671361200-1671382800@www.activityoptions.com
SUMMARY:• Bronco Party at West Community Center
DESCRIPTION:Pick your team and party with your friends at the West Community Center Broncos vs.Carolina Panthers. Free for Denver residents. $29 for non residents. \nRegister Online
URL:https://www.activityoptions.com/event/bronco-party-at-west-community-center-2/
LOCATION:Activity Options Community Center (Arvada)\, 7401 W 59th Ave\, Arvada\, Colorado\, 80003
ATTACH;FMTTYPE=image/png:https://www.activityoptions.com/wp-content/uploads/2022/01/Broncos-Football-1.png
ORGANIZER;CN="Activity Options LLC /Project World PBC":MAILTO:signup@activityoptions.com
END:VEVENT
BEGIN:VEVENT
DTSTART;TZID=UTC:20221217T170000
DTEND;TZID=UTC:20221217T210000
DTSTAMP:20260423T210826
CREATED:20221116T103135Z
LAST-MODIFIED:20221206T052248Z
UID:10000277-1671296400-1671310800@www.activityoptions.com
SUMMARY:• Family Holiday Party at Cinzetti's!
DESCRIPTION:Let’s spread the holiday Cheer! Enjoy Friends and god food at Cinzetti’s Italian Buffet. Free for Denver residents. $39 for non residents. \nRegister Online
URL:https://www.activityoptions.com/event/monthly-dinner-group-holiday-party/
LOCATION:Cinzzetti’s Italian Market\, 281 W 104th Ave\, Northglenn\, CO\, 80234\, United States
ATTACH;FMTTYPE=image/png:https://www.activityoptions.com/wp-content/uploads/2022/11/Cinzettis.png
ORGANIZER;CN="Activity Options LLC /Project World PBC":MAILTO:signup@activityoptions.com
END:VEVENT
BEGIN:VEVENT
DTSTART;TZID=UTC:20221216T080000
DTEND;TZID=UTC:20221216T160000
DTSTAMP:20260423T210826
CREATED:20221130T032814Z
LAST-MODIFIED:20221130T032814Z
UID:10000410-1671177600-1671206400@www.activityoptions.com
SUMMARY:• Skiing or Snowboarding at Loveland
DESCRIPTION:Hit the slopes and enjoy the great Colorado conditions at Loveland Ski Area. Rental equipment\, lunch and transportation included. Must have some experience as lessons are not provided\, but don’t worry. You’ll be with an experienced guide who can help navigate the details. Free for Denver residents. $250 for non residents. \nRegister Online\n 
URL:https://www.activityoptions.com/event/skiing-or-snowboarding-at-loveland-3/
LOCATION:Loveland & Keystone\, Colorado
ATTACH;FMTTYPE=image/png:https://www.activityoptions.com/wp-content/uploads/2022/01/Ski-Snowboard.png
ORGANIZER;CN="Activity Options LLC /Project World PBC":MAILTO:signup@activityoptions.com
GEO:39.5500507;-105.7820674
END:VEVENT
BEGIN:VEVENT
DTSTART;TZID=UTC:20221215T170000
DTEND;TZID=UTC:20221215T210000
DTSTAMP:20260423T210826
CREATED:20221116T102503Z
LAST-MODIFIED:20221116T102503Z
UID:10000275-1671123600-1671138000@www.activityoptions.com
SUMMARY:• Rocky Mtn. Pro Wrestling Thursday Nights
DESCRIPTION:Attend the weekly games of Rocky Mountain Pro Wrestling and learn the ins and outs of wrestling. Free for Denver residents. $49 for non residents. \nRegister Online
URL:https://www.activityoptions.com/event/rocky-mtn-pro-wrestling-thursday-nights-3/
LOCATION:Rocky Mountain Pro and Al Snow Wrestling Academy\, 2170 W Yale Ave\, Englewood\, CO\, 80110
ATTACH;FMTTYPE=image/png:https://www.activityoptions.com/wp-content/uploads/2022/04/RMProWresstling.png
ORGANIZER;CN="Activity Options LLC /Project World PBC":MAILTO:signup@activityoptions.com
END:VEVENT
BEGIN:VEVENT
DTSTART;TZID=UTC:20221211T140000
DTEND;TZID=UTC:20221211T190000
DTSTAMP:20260423T210826
CREATED:20221130T031922Z
LAST-MODIFIED:20221130T031922Z
UID:10000289-1670767200-1670785200@www.activityoptions.com
SUMMARY:• Dave and Busters Arcade Private Party
DESCRIPTION:Join us for a private buffet at this fun center with access to game play and bowling. Free or Denver residents. $99 for non residents. \nRegister Online
URL:https://www.activityoptions.com/event/dave-and-busters-arcade-private-party/
LOCATION:Activity Options Community Center (Arvada)\, 7401 W 59th Ave\, Arvada\, Colorado\, 80003
ATTACH;FMTTYPE=image/png:https://www.activityoptions.com/wp-content/uploads/2022/11/DaveBustersParty.png
ORGANIZER;CN="Activity Options LLC /Project World PBC":MAILTO:signup@activityoptions.com
END:VEVENT
BEGIN:VEVENT
DTSTART;TZID=UTC:20221210T170000
DTEND;TZID=UTC:20221210T220000
DTSTAMP:20260423T210826
CREATED:20221116T102004Z
LAST-MODIFIED:20221116T102004Z
UID:10000273-1670691600-1670709600@www.activityoptions.com
SUMMARY:• CSO A Colorado Christmas
DESCRIPTION:Sing along with Santa and the Colorado Symphony Orchestra to holiday favorites. Free for Denver Residents. $39 for non residents. \nRegister Online
URL:https://www.activityoptions.com/event/cso-a-colorado-christmas/
LOCATION:Colorado Symphony Orchastra at Boettcher Concert Hall\, 1000 14th St\, Denver\, CO\, 80202
ATTACH;FMTTYPE=image/png:https://www.activityoptions.com/wp-content/uploads/2022/11/CSOcoloradochristmas.png
ORGANIZER;CN="Activity Options LLC /Project World PBC":MAILTO:signup@activityoptions.com
GEO:39.7453479;-104.9980736
X-APPLE-STRUCTURED-LOCATION;VALUE=URI;X-ADDRESS=Colorado Symphony Orchastra at Boettcher Concert Hall 1000 14th St Denver CO 80202;X-APPLE-RADIUS=500;X-TITLE=1000 14th St:geo:-104.9980736,39.7453479
END:VEVENT
BEGIN:VEVENT
DTSTART;TZID=UTC:20221208T170000
DTEND;TZID=UTC:20221208T230000
DTSTAMP:20260423T210826
CREATED:20221116T101210Z
LAST-MODIFIED:20221116T101210Z
UID:10000271-1670518800-1670540400@www.activityoptions.com
SUMMARY:• K-Love Christmas Concert
DESCRIPTION:Thursday night concert at Buell featuring Matt Crowder\, Matt Maher and Jordan St. Cry. Free for Denver resodents. $129 for non residents. \nRegister Online
URL:https://www.activityoptions.com/event/k-love-christmas-concert/
LOCATION:Denver Center for the Performing Arts\, 1101 13th St\, Denver\, CO\, 80204
ORGANIZER;CN="Activity Options LLC /Project World PBC":MAILTO:signup@activityoptions.com
GEO:39.7453475;-104.998331
X-APPLE-STRUCTURED-LOCATION;VALUE=URI;X-ADDRESS=Denver Center for the Performing Arts 1101 13th St Denver CO 80204;X-APPLE-RADIUS=500;X-TITLE=1101 13th St:geo:-104.998331,39.7453475
END:VEVENT
BEGIN:VEVENT
DTSTART;TZID=UTC:20221204T120000
DTEND;TZID=UTC:20221204T170000
DTSTAMP:20260423T210826
CREATED:20221116T100435Z
LAST-MODIFIED:20221116T100435Z
UID:10000409-1670155200-1670173200@www.activityoptions.com
SUMMARY:• Immersive Nutcracker
DESCRIPTION:Experience the magic of the Nutcracker – A Winter Miracle in a surround\, immersive theater. Includes dinner. Free for Denver residents. $129 for non residents. \nRegister Online
URL:https://www.activityoptions.com/event/immersive-nutcracker/
LOCATION:Downtown Denver\, Denver\, Colorado
ORGANIZER;CN="Activity Options LLC /Project World PBC":MAILTO:signup@activityoptions.com
GEO:39.7392358;-104.990251
END:VEVENT
BEGIN:VEVENT
DTSTART;TZID=UTC:20221203T170000
DTEND;TZID=UTC:20221203T210000
DTSTAMP:20260423T210826
CREATED:20221116T095327Z
LAST-MODIFIED:20221116T095327Z
UID:10000408-1670086800-1670101200@www.activityoptions.com
SUMMARY:• Saturday Night Club (SNL)
DESCRIPTION:Join Saturday Night Club (SNL) and enjoy the company of friends.Enjoy a movie and dinner at our Center or discover what’s open in town. Free for Denver residents. $29 for non residents. \nRegister Online
URL:https://www.activityoptions.com/event/saturday-night-club-snl-21/
LOCATION:Activity Options Community Center (Arvada)\, 7401 W 59th Ave\, Arvada\, Colorado\, 80003
ATTACH;FMTTYPE=image/png:https://www.activityoptions.com/wp-content/uploads/2021/04/SNL-sq.png
ORGANIZER;CN="Activity Options LLC /Project World PBC":MAILTO:signup@activityoptions.com
END:VEVENT
BEGIN:VEVENT
DTSTART;TZID=UTC:20221202T170000
DTEND;TZID=UTC:20221202T210000
DTSTAMP:20260423T210826
CREATED:20221116T094840Z
LAST-MODIFIED:20221116T094840Z
UID:10000407-1670000400-1670014800@www.activityoptions.com
SUMMARY:Blossom of Lights at Botanic Gardens
DESCRIPTION:Tour the Denver Botanic Gardens and enjoy the ever better holiday lights and bring in the holidays! Free for Denver residents. $39 for non residents. \nRegister Online
URL:https://www.activityoptions.com/event/blossom-of-lights-at-botanic-gardens/
LOCATION:Denver Botanical Gardens\, 1007 York Street\, Denver\, CO\, 80206\, United States
ATTACH;FMTTYPE=image/png:https://www.activityoptions.com/wp-content/uploads/2022/11/BlossomLights.png
ORGANIZER;CN="Activity Options LLC /Project World PBC":MAILTO:signup@activityoptions.com
GEO:39.7320129;-104.9601049
X-APPLE-STRUCTURED-LOCATION;VALUE=URI;X-ADDRESS=Denver Botanical Gardens 1007 York Street Denver CO 80206 United States;X-APPLE-RADIUS=500;X-TITLE=1007 York Street:geo:-104.9601049,39.7320129
END:VEVENT
BEGIN:VEVENT
DTSTART;TZID=UTC:20221201T170000
DTEND;TZID=UTC:20221201T210000
DTSTAMP:20260423T210826
CREATED:20221130T030912Z
LAST-MODIFIED:20221130T030912Z
UID:10000287-1669914000-1669928400@www.activityoptions.com
SUMMARY:• Rocky Mtn. Pro Wrestling Thursday Nights
DESCRIPTION:Attend the weekly games of Rocky Mountain Pro Wrestling and learn the ins and outs of wrestling. Free for Denver residents. $49 for non residents. \nRegister Onlne\n 
URL:https://www.activityoptions.com/event/rocky-mtn-pro-wrestling-thursday-nights-4/
LOCATION:Rocky Mountain Pro and Al Snow Wrestling Academy\, 2170 W Yale Ave\, Englewood\, CO\, 80110
ATTACH;FMTTYPE=image/png:https://www.activityoptions.com/wp-content/uploads/2022/04/RMProWresstling.png
ORGANIZER;CN="Activity Options LLC /Project World PBC":MAILTO:signup@activityoptions.com
END:VEVENT
BEGIN:VEVENT
DTSTART;TZID=UTC:20221127T110000
DTEND;TZID=UTC:20221127T170000
DTSTAMP:20260423T210826
CREATED:20220930T050010Z
LAST-MODIFIED:20220930T050010Z
UID:10000405-1669546800-1669568400@www.activityoptions.com
SUMMARY:• Broncos Party
DESCRIPTION:Pick your team and party with your friends at the West Community Center. Free for Denver residents. $ 29 for non residents. Medicaid waiver restrictions may apply. \nRegister Online
URL:https://www.activityoptions.com/event/broncos-party-3/
LOCATION:Activity Options Community Center (Arvada)\, 7401 W 59th Ave\, Arvada\, Colorado\, 80003
ATTACH;FMTTYPE=image/png:https://www.activityoptions.com/wp-content/uploads/2022/01/Broncos-Football-1.png
ORGANIZER;CN="Activity Options LLC /Project World PBC":MAILTO:signup@activityoptions.com
END:VEVENT
BEGIN:VEVENT
DTSTART;TZID=UTC:20221126T170000
DTEND;TZID=UTC:20221126T230000
DTSTAMP:20260423T210826
CREATED:20220930T045204Z
LAST-MODIFIED:20220930T045204Z
UID:10000404-1669482000-1669503600@www.activityoptions.com
SUMMARY:• Home Alone the Movie with CSO
DESCRIPTION:Join the CSO at Boettcher Theater and see the movie\, “Home Alone”\, as never before.Sounds track played live by the CSO. Free for Denver residents. $99 for non residents. Medicaid waiver restrictions may apply. \nRegister Online
URL:https://www.activityoptions.com/event/home-alone-the-movie-with-cso/
LOCATION:Colorado Symphony Orchastra at Boettcher Concert Hall\, 1000 14th St\, Denver\, CO\, 80202
ORGANIZER;CN="Activity Options LLC /Project World PBC":MAILTO:signup@activityoptions.com
GEO:39.7453479;-104.9980736
X-APPLE-STRUCTURED-LOCATION;VALUE=URI;X-ADDRESS=Colorado Symphony Orchastra at Boettcher Concert Hall 1000 14th St Denver CO 80202;X-APPLE-RADIUS=500;X-TITLE=1000 14th St:geo:-104.9980736,39.7453479
END:VEVENT
BEGIN:VEVENT
DTSTART;TZID=UTC:20221125T170000
DTEND;TZID=UTC:20221125T230000
DTSTAMP:20260423T210826
CREATED:20221116T093845Z
LAST-MODIFIED:20221116T093845Z
UID:10000406-1669395600-1669417200@www.activityoptions.com
SUMMARY:• Cirque du Soleil Spirit of Christmas
DESCRIPTION:Bring in the magic of the holidays with the Cirque du Soleil performance at the Gaylord Rockies. View the Christmas lights and displays before and after. Free for Denver residents. $159 for non residents. \nRegister Online\n 
URL:https://www.activityoptions.com/event/cirque-du-soleil-spirit-of-christmas/
LOCATION:Gaylord Hotel\, 6700 N Gaylord Rockies Blvd\, Aurora\, CO\, 80019\, United States
ORGANIZER;CN="Activity Options LLC /Project World PBC":MAILTO:signup@activityoptions.com
END:VEVENT
BEGIN:VEVENT
DTSTART;TZID=UTC:20221119T170000
DTEND;TZID=UTC:20221119T210000
DTSTAMP:20260423T210826
CREATED:20220815T171346Z
LAST-MODIFIED:20221102T213615Z
UID:10000258-1668877200-1668891600@www.activityoptions.com
SUMMARY:Changed to SNL!!
DESCRIPTION:Let’s have a good time! Join Saturday Night Club (SNL) and enjoy the company of friends. Enjoy a movie and dinner at our Center or discover what’s open in town. Free for Denver residents. $35 for non residents. \nRegister Online\n 
URL:https://www.activityoptions.com/event/annual-gratitude-party-at-forney-transportation-museum-free-for-all-to-attend/
LOCATION:Activity Options Community Center (Arvada)\, 7401 W 59th Ave\, Arvada\, Colorado\, 80003
ATTACH;FMTTYPE=image/png:https://www.activityoptions.com/wp-content/uploads/2021/04/SNL-sq.png
ORGANIZER;CN="Activity Options LLC /Project World PBC":MAILTO:signup@activityoptions.com
END:VEVENT
BEGIN:VEVENT
DTSTART;TZID=UTC:20221117T170000
DTEND;TZID=UTC:20221117T213000
DTSTAMP:20260423T210826
CREATED:20220930T040900Z
LAST-MODIFIED:20221008T053709Z
UID:10000403-1668704400-1668720600@www.activityoptions.com
SUMMARY:• Rocky Mtn. Pro Wrestling Thursday Nights
DESCRIPTION:Attend the weekly games of Rocky Mountain Pro Wrestling and learn the ins and outs of wrestling. Free for Denver residents. $59 for non residents. Medicaid waiver restrictions may apply. \nRegister Online
URL:https://www.activityoptions.com/event/rocky-mtn-pro-wrestling-thursday-nights-2/
LOCATION:Rocky Mountain Pro and Al Snow Wrestling Academy\, 2170 W Yale Ave\, Englewood\, CO\, 80110
ATTACH;FMTTYPE=image/png:https://www.activityoptions.com/wp-content/uploads/2022/04/RMProWresstling.png
ORGANIZER;CN="Activity Options LLC /Project World PBC":MAILTO:signup@activityoptions.com
END:VEVENT
BEGIN:VEVENT
DTSTART;TZID=UTC:20221112T160000
DTEND;TZID=UTC:20221112T200000
DTSTAMP:20260423T210826
CREATED:20220930T040403Z
LAST-MODIFIED:20220930T040403Z
UID:10000402-1668268800-1668283200@www.activityoptions.com
SUMMARY:• Hillsong and Chris Tomlin Live\, LIMITED TICKETS!
DESCRIPTION:Make the drive up the Loveland to see and hear Hillsong and Chris Tomlin live at the Budweiser Center. Dinner on the way. Free for Denver residents. $149 for non residents. Medicaid waiver restrictions may apply. \nRegister Online
URL:https://www.activityoptions.com/event/hillsong-and-chris-tomlin-live-limited-tickets/
LOCATION:Budweiser Theater\, 5290 Arena Cir\, Loveland\, Colorado\, 80538
ORGANIZER;CN="Activity Options LLC /Project World PBC":MAILTO:signup@activityoptions.com
END:VEVENT
BEGIN:VEVENT
DTSTART;TZID=UTC:20221111T173000
DTEND;TZID=UTC:20221111T220000
DTSTAMP:20260423T210826
CREATED:20220930T035552Z
LAST-MODIFIED:20220930T035552Z
UID:10000401-1668187800-1668204000@www.activityoptions.com
SUMMARY:• BINGO and Dinner
DESCRIPTION:Early dinner followed by Bingo at The Bingo Company in Arvada. Free for Denver residents. $99 for non residents. Medicaid waiver restrictions may apply. \nRegister Online
URL:https://www.activityoptions.com/event/bingo-and-dinner-9/
LOCATION:The BINGO Company\, 6520 Wadsworth Blvd Ste 100\, Arvada\, Colorado\, 80003
ATTACH;FMTTYPE=image/png:https://www.activityoptions.com/wp-content/uploads/2020/01/BINGOco.png
ORGANIZER;CN="Activity Options LLC /Project World PBC":MAILTO:signup@activityoptions.com
END:VEVENT
BEGIN:VEVENT
DTSTART;TZID=UTC:20221106T080000
DTEND;TZID=UTC:20221106T140000
DTSTAMP:20260423T210826
CREATED:20220930T035152Z
LAST-MODIFIED:20220930T035152Z
UID:10000400-1667721600-1667743200@www.activityoptions.com
SUMMARY:• Indian Hot Springs
DESCRIPTION:Soak in the calming waters of the Indian Hot Springs in Idaho Springs. Lunch in Idaho Springs. Free for Denver residents. $79 for non residents. Medicaid waiver restrictions may apply. \nRegister Online
URL:https://www.activityoptions.com/event/indian-hot-springs-2/
LOCATION:Indian Hot Springs\, 302 Soda Creek Rd\, Idaho Springs\, CO\, 80452
ATTACH;FMTTYPE=image/jpeg:https://www.activityoptions.com/wp-content/uploads/2018/02/Indiam-Hot-Springs-sq.jpg
ORGANIZER;CN="Activity Options LLC /Project World PBC":MAILTO:signup@activityoptions.com
GEO:39.7392563;-105.512617
X-APPLE-STRUCTURED-LOCATION;VALUE=URI;X-ADDRESS=Indian Hot Springs 302 Soda Creek Rd Idaho Springs CO 80452;X-APPLE-RADIUS=500;X-TITLE=302 Soda Creek Rd:geo:-105.512617,39.7392563
END:VEVENT
END:VCALENDAR