BEGIN:VCALENDAR
VERSION:2.0
PRODID:-//Activity Options - ECPv6.15.20//NONSGML v1.0//EN
CALSCALE:GREGORIAN
METHOD:PUBLISH
X-WR-CALNAME:Activity Options
X-ORIGINAL-URL:https://www.activityoptions.com
X-WR-CALDESC:Events for Activity Options
REFRESH-INTERVAL;VALUE=DURATION:PT1H
X-Robots-Tag:noindex
X-PUBLISHED-TTL:PT1H
BEGIN:VTIMEZONE
TZID:UTC
BEGIN:STANDARD
TZOFFSETFROM:+0000
TZOFFSETTO:+0000
TZNAME:UTC
DTSTART:20210101T000000
END:STANDARD
END:VTIMEZONE
BEGIN:VEVENT
DTSTART;TZID=UTC:20220909T170000
DTEND;TZID=UTC:20220909T230000
DTSTAMP:20260424T012409
CREATED:20220813T152306Z
LAST-MODIFIED:20220813T152306Z
UID:10000252-1662742800-1662764400@www.activityoptions.com
SUMMARY:• BINGO and Dinner
DESCRIPTION:Early dinner followed by Bingo at The Bingo Company in Arvada. Free for Denver residents. $99 for non residents. Medicaid waiver restrictions may apply. \nRegister Online\n 
URL:https://www.activityoptions.com/event/bingo-and-dinner-8/
LOCATION:The BINGO Company\, 6520 Wadsworth Blvd Ste 100\, Arvada\, Colorado\, 80003
ATTACH;FMTTYPE=image/png:https://www.activityoptions.com/wp-content/uploads/2020/01/BINGOco.png
ORGANIZER;CN="Activity Options LLC /Project World PBC":MAILTO:signup@activityoptions.com
END:VEVENT
BEGIN:VEVENT
DTSTART;TZID=UTC:20220905T110000
DTEND;TZID=UTC:20220905T160000
DTSTAMP:20260424T012409
CREATED:20220813T151618Z
LAST-MODIFIED:20220813T151647Z
UID:10000390-1662375600-1662393600@www.activityoptions.com
SUMMARY:• Labor Day Party
DESCRIPTION:Celebrate the end of suer with fun\, games and food at the West Community Center. Free for Denver residents. $59 for non residents. Medicaid waiver restrictions may apply. \nRegister Online\n 
URL:https://www.activityoptions.com/event/labor-day-party/
LOCATION:Activity Options Community Center (Arvada)\, 7401 W 59th Ave\, Arvada\, Colorado\, 80003
ATTACH;FMTTYPE=image/png:https://www.activityoptions.com/wp-content/uploads/2022/08/LaborDayParty.png
ORGANIZER;CN="Activity Options LLC /Project World PBC":MAILTO:signup@activityoptions.com
END:VEVENT
BEGIN:VEVENT
DTSTART;TZID=UTC:20220903T170000
DTEND;TZID=UTC:20220903T210000
DTSTAMP:20260424T012409
CREATED:20220813T150729Z
LAST-MODIFIED:20220827T042322Z
UID:10000389-1662224400-1662238800@www.activityoptions.com
SUMMARY:• Saturday Night Club SNL
DESCRIPTION:Join Saturday Night Club (SNL) and enjoy the company of friends.Enjoy a movie and dinner at our Center or discover what’s open in town. Free for Denver residents. $59 for non residents. Medicaid waiver restrictions may apply. \nRegister Online
URL:https://www.activityoptions.com/event/karaoke/
LOCATION:Activity Options Community Center (Arvada)\, 7401 W 59th Ave\, Arvada\, Colorado\, 80003
ATTACH;FMTTYPE=image/png:https://www.activityoptions.com/wp-content/uploads/2021/04/SNL-sq.png
ORGANIZER;CN="Activity Options LLC /Project World PBC":MAILTO:signup@activityoptions.com
END:VEVENT
BEGIN:VEVENT
DTSTART;TZID=UTC:20220828T080000
DTEND;TZID=UTC:20220828T170000
DTSTAMP:20260424T012409
CREATED:20220706T021247Z
LAST-MODIFIED:20220715T213244Z
UID:10000388-1661673600-1661706000@www.activityoptions.com
SUMMARY:• Pontoon Boating on Dillon Reservoir
DESCRIPTION:Enjoy the best of this beautiful mountain area. Ride a pontoon boat on Dillon Reservoir and explore the area. Free for Denver residents. $129 for non residents\, contact us for private pay discounts if needed. Medicaid waiver restrictions may apply. \nRegister Online
URL:https://www.activityoptions.com/event/pontoon-boating-on-dillon-reservoir/
LOCATION:Dillon Reservoir
ATTACH;FMTTYPE=image/png:https://www.activityoptions.com/wp-content/uploads/2022/07/PontoonDillon.png
ORGANIZER;CN="Activity Options LLC /Project World PBC":MAILTO:signup@activityoptions.com
END:VEVENT
BEGIN:VEVENT
DTSTART;TZID=UTC:20220827T110000
DTEND;TZID=UTC:20220827T180000
DTSTAMP:20260424T012409
CREATED:20220706T014747Z
LAST-MODIFIED:20220715T213258Z
UID:10000387-1661598000-1661623200@www.activityoptions.com
SUMMARY:• Cirque du Soleil Ovo at Budweiser Events Center
DESCRIPTION:Be amazed by this Cirque du Soleil creation featuring the world and movements of insects. Meal included. Free for Denver residents. $129 for non residents\, contact us for private pay discounts if needed. Medicaid waiver restrictions may apply. \nRegister Online
URL:https://www.activityoptions.com/event/cirque-du-soleil-ovo-at-budweiser-events-center/
LOCATION:Ball Arena
ORGANIZER;CN="Activity Options LLC /Project World PBC":MAILTO:signup@activityoptions.com
END:VEVENT
BEGIN:VEVENT
DTSTART;TZID=UTC:20220823T170000
DTEND;TZID=UTC:20220823T210000
DTSTAMP:20260424T012409
CREATED:20220706T013650Z
LAST-MODIFIED:20220715T213312Z
UID:10000386-1661274000-1661288400@www.activityoptions.com
SUMMARY:• Rocky Mtn. Pro Wrestling Tuesday night games
DESCRIPTION:Attend the weekly games of Rocky Mountain Pro Wrestling and learn the ins and outs of wrestling. Free for Denver residents. $40 for non residents\, contact us for private pay discounts if needed. Medicaid waiver restrictions may apply. \nRegister Online
URL:https://www.activityoptions.com/event/rocky-mtn-pro-wrestling-tuesday-night-games-6/
LOCATION:Rocky Mountain Pro and Al Snow Wrestling Academy\, 2170 W Yale Ave\, Englewood\, CO\, 80110
ATTACH;FMTTYPE=image/png:https://www.activityoptions.com/wp-content/uploads/2022/04/RMProWresstling.png
ORGANIZER;CN="Activity Options LLC /Project World PBC":MAILTO:signup@activityoptions.com
END:VEVENT
BEGIN:VEVENT
DTSTART;TZID=UTC:20220820T160000
DTEND;TZID=UTC:20220820T230000
DTSTAMP:20260424T012409
CREATED:20220706T013216Z
LAST-MODIFIED:20220715T213329Z
UID:10000385-1661011200-1661036400@www.activityoptions.com
SUMMARY:• Chuck Wagon Dinner at Flying W Ranch in Colorado Springs
DESCRIPTION:Celebrate the re-opening of this historic ranch that was destroyed by fire a few years ago. Enjoy a chuckwagon dinner and Original Western Musical Show. Free for Denver residents. $129 for non residents\, contact us for private pay discounts if needed. Medicaid waiver restrictions may apply. \nRegister Online
URL:https://www.activityoptions.com/event/chuck-wagon-dinner-at-flying-w-ranch-in-colorado-springs/
LOCATION:Flying W Ranch\, 3330 Chuckwagon Rd\, Colorado Springs\, CO\, 80919
ATTACH;FMTTYPE=image/png:https://www.activityoptions.com/wp-content/uploads/2022/07/FlyingW.png
ORGANIZER;CN="Activity Options LLC /Project World PBC":MAILTO:signup@activityoptions.com
END:VEVENT
BEGIN:VEVENT
DTSTART;TZID=UTC:20220819T170000
DTEND;TZID=UTC:20220819T220000
DTSTAMP:20260424T012409
CREATED:20220706T012306Z
LAST-MODIFIED:20220715T213346Z
UID:10000384-1660928400-1660946400@www.activityoptions.com
SUMMARY:• Top Golf Party
DESCRIPTION:You don’t have to know how to swing a club to join us for the\, first ever\, Top Golf Party! Come and enjoy this unique venue. Free for Denver residents. $49 for non residents\, contact us for private pay discounts if needed. Medicaid waiver restrictions may apply. \nRegister Online
URL:https://www.activityoptions.com/event/top-golf-party-2/
LOCATION:Top Golf Denver\, 10601 E Easter Ave\, Centennial\, CO\, 80112\, United States
ATTACH;FMTTYPE=image/png:https://www.activityoptions.com/wp-content/uploads/2022/04/TopGolf.png
ORGANIZER;CN="Activity Options LLC /Project World PBC":MAILTO:signup@activityoptions.com
END:VEVENT
BEGIN:VEVENT
DTSTART;TZID=UTC:20220814T110000
DTEND;TZID=UTC:20220814T160000
DTSTAMP:20260424T012409
CREATED:20220706T011856Z
LAST-MODIFIED:20220715T213402Z
UID:10000383-1660474800-1660492800@www.activityoptions.com
SUMMARY:• Swim Day at Splash Aquatic Park in Golden
DESCRIPTION:Enjoy a day in the sun and water at Golden’s water park\, SPLASH. Free for Denver residents. $79 for non residents\, contact us for private pay discounts if needed. Medicaid waiver restrictions may apply. \nRegister Online
URL:https://www.activityoptions.com/event/swim-day-at-splash-aquatic-park-in-golden/
LOCATION:Splash Water Park\, 3151 Illinois Street\, Golden\, CO\, 80401
ATTACH;FMTTYPE=image/png:https://www.activityoptions.com/wp-content/uploads/2022/07/Splash.png
ORGANIZER;CN="Activity Options LLC /Project World PBC":MAILTO:signup@activityoptions.com
END:VEVENT
BEGIN:VEVENT
DTSTART;TZID=UTC:20220812T070000
DTEND;TZID=UTC:20220813T190000
DTSTAMP:20260424T012409
CREATED:20220610T001501Z
LAST-MODIFIED:20220715T213422Z
UID:10000379-1660287600-1660417200@www.activityoptions.com
SUMMARY:• Mountain Trail Ride TRIP
DESCRIPTION:Hop on a trail horse and ride to the falls near Mt. Princeton Hot Springs. This will be a 5-6 hours ride. Must be experienced. We’ll spend the night before at a hotel in Salida in order to get an early start. Home Saturday evening after the ride. Free for Denver residents. $399 for nonresidents\, contact us for private pay discounts if needed. Medicaid waiver restrictions may apply. \nRegister Online\n 
URL:https://www.activityoptions.com/event/mountain-trail-ride-trip/
LOCATION:Salida Colorado
ATTACH;FMTTYPE=image/png:https://www.activityoptions.com/wp-content/uploads/2022/06/SalidaBiking.png
ORGANIZER;CN="Activity Options LLC /Project World PBC":MAILTO:signup@activityoptions.com
END:VEVENT
BEGIN:VEVENT
DTSTART;TZID=UTC:20220809T170000
DTEND;TZID=UTC:20220809T210000
DTSTAMP:20260424T012409
CREATED:20220706T010828Z
LAST-MODIFIED:20220715T213537Z
UID:10000382-1660064400-1660078800@www.activityoptions.com
SUMMARY:• Rocky Mtn. Pro Wrestling Tuesday night games
DESCRIPTION:Attend the weekly games of Rocky Mountain Pro Wrestling and learn the ins and outs of wrestling. Free for Denver residents $40 for non residents\, contact us for private pay discounts if needed. Register online. \nRegister Online
URL:https://www.activityoptions.com/event/rocky-mtn-pro-wrestling-tuesday-night-games-5/
LOCATION:Rocky Mountain Pro and Al Snow Wrestling Academy\, 2170 W Yale Ave\, Englewood\, CO\, 80110
ATTACH;FMTTYPE=image/png:https://www.activityoptions.com/wp-content/uploads/2022/04/RMProWresstling.png
ORGANIZER;CN="Activity Options LLC /Project World PBC":MAILTO:signup@activityoptions.com
END:VEVENT
BEGIN:VEVENT
DTSTART;TZID=UTC:20220806T170000
DTEND;TZID=UTC:20220806T220000
DTSTAMP:20260424T012409
CREATED:20220706T010322Z
LAST-MODIFIED:20220715T213617Z
UID:10000381-1659805200-1659823200@www.activityoptions.com
SUMMARY:• Saturday Night Club (SNL)
DESCRIPTION:Join Saturday Night Club (SNL) and enjoy the company of friends. Enjoy a movie and dinner at our Center or discover what’s open in town. Free for Denver residents $25 for non residents\, contact us for private pay discounts if needed. Medicaid waiver restrictions may apply. \nRegister Online
URL:https://www.activityoptions.com/event/saturday-night-club-snl-19/
LOCATION:Activity Options Community Center (Arvada)\, 7401 W 59th Ave\, Arvada\, Colorado\, 80003
ATTACH;FMTTYPE=image/png:https://www.activityoptions.com/wp-content/uploads/2021/04/SNL-sq.png
ORGANIZER;CN="Activity Options LLC /Project World PBC":MAILTO:signup@activityoptions.com
END:VEVENT
BEGIN:VEVENT
DTSTART;TZID=UTC:20220805T170000
DTEND;TZID=UTC:20220805T230000
DTSTAMP:20260424T012409
CREATED:20220706T005829Z
LAST-MODIFIED:20220715T213656Z
UID:10000380-1659718800-1659740400@www.activityoptions.com
SUMMARY:• KLOVE Live at Red Rocks
DESCRIPTION:Outdoor concert at world famous Red Rocks featuring Tauren Wells\, Matthew West\, Mac Powell\, Cory Asbury. Free for Denver residents $129 for non residents\, contact us for private pay discounts if needed. Medicaid waiver restrictions may apply. \nRegister Online\n 
URL:https://www.activityoptions.com/event/klove-live-at-red-rocks/
LOCATION:Red Rocks
ATTACH;FMTTYPE=image/png:https://www.activityoptions.com/wp-content/uploads/2022/07/Klove.png
ORGANIZER;CN="Activity Options LLC /Project World PBC":MAILTO:signup@activityoptions.com
END:VEVENT
BEGIN:VEVENT
DTSTART;TZID=UTC:20220731T070000
DTEND;TZID=UTC:20220803T190000
DTSTAMP:20260424T012409
CREATED:20220429T171754Z
LAST-MODIFIED:20220715T213715Z
UID:10000365-1659250800-1659553200@www.activityoptions.com
SUMMARY:• Black Canyon of Gunnison Camping Trip
DESCRIPTION:Experience the beauty and wonder from the south rim campground. Explore the area\, possible fishing. Free for Denver residents. $599 for non-residents\, contact us for private pay discounts if needed. Medicaid waiver restrictions may apply. \nRegister Online\n 
URL:https://www.activityoptions.com/event/black-canyon-of-gunnison-camping-trip/
LOCATION:Gunnison\, Colorado
ATTACH;FMTTYPE=image/png:https://www.activityoptions.com/wp-content/uploads/2022/04/Camping-Gunnison.png
ORGANIZER;CN="Activity Options LLC /Project World PBC":MAILTO:signup@activityoptions.com
END:VEVENT
BEGIN:VEVENT
DTSTART;TZID=UTC:20220730T170000
DTEND;TZID=UTC:20220730T220000
DTSTAMP:20260424T012409
CREATED:20220607T160441Z
LAST-MODIFIED:20220715T213735Z
UID:10000375-1659200400-1659218400@www.activityoptions.com
SUMMARY:• Saturday Night Club (SNL)
DESCRIPTION:Join Saturday Night Club (SNL) and enjoy the company of friends.Enjoy a movie and dinner at our Center or discover what’s open in town. Free for Denver residents. $25 for non residents\, contact us for private pay discounts if needed. Medicaid waiver restrictions may apply. \nRegister Online
URL:https://www.activityoptions.com/event/saturday-night-club-snl-18/
LOCATION:Activity Options Community Center (Arvada)\, 7401 W 59th Ave\, Arvada\, Colorado\, 80003
ATTACH;FMTTYPE=image/png:https://www.activityoptions.com/wp-content/uploads/2021/04/SNL-sq.png
ORGANIZER;CN="Activity Options LLC /Project World PBC":MAILTO:signup@activityoptions.com
END:VEVENT
BEGIN:VEVENT
DTSTART;TZID=UTC:20220726T170000
DTEND;TZID=UTC:20220726T210000
DTSTAMP:20260424T012409
CREATED:20220607T160004Z
LAST-MODIFIED:20220715T213755Z
UID:10000374-1658854800-1658869200@www.activityoptions.com
SUMMARY:• Rocky Mountain Pro Wrestling Tuesday night games
DESCRIPTION:Attend the weekly games of Rocky Mountain Pro Wrestling and learn the ins and outs of wrestling. Free for Denver residents. $40 for non residents\, contact us for private pay discounts if needed. Medicaid waiver restrictions may apply. \nRegister Online
URL:https://www.activityoptions.com/event/rocky-mountain-pro-wrestling-tuesday-night-games-2/
LOCATION:Rocky Mountain Pro and Al Snow Wrestling Academy\, 2170 W Yale Ave\, Englewood\, CO\, 80110
ATTACH;FMTTYPE=image/png:https://www.activityoptions.com/wp-content/uploads/2022/04/RMProWresstling.png
ORGANIZER;CN="Activity Options LLC /Project World PBC":MAILTO:signup@activityoptions.com
END:VEVENT
BEGIN:VEVENT
DTSTART;TZID=UTC:20220724T073000
DTEND;TZID=UTC:20220724T153000
DTSTAMP:20260424T012409
CREATED:20220607T155501Z
LAST-MODIFIED:20220715T213817Z
UID:10000373-1658647800-1658676600@www.activityoptions.com
SUMMARY:• Rafting on Clear Creek
DESCRIPTION:Splash through the easy waters of Clear Creek on a 2 hour rafting trip. Followed by lunch. Free for Denver residents. $159 for non residents\, contact us for private pay discounts if needed. Medicaid waiver restrictions may apply. \nRegister Online
URL:https://www.activityoptions.com/event/rafting-on-clear-creek/
LOCATION:Colorado Outdoors\, CO
ATTACH;FMTTYPE=image/png:https://www.activityoptions.com/wp-content/uploads/2022/06/Rafting.png
ORGANIZER;CN="Activity Options LLC /Project World PBC":MAILTO:signup@activityoptions.com
GEO:39.5500507;-105.7820674
END:VEVENT
BEGIN:VEVENT
DTSTART;TZID=UTC:20220722T163000
DTEND;TZID=UTC:20220722T220000
DTSTAMP:20260424T012409
CREATED:20220607T154329Z
LAST-MODIFIED:20220715T213838Z
UID:10000372-1658507400-1658527200@www.activityoptions.com
SUMMARY:• Monthly Dinner Group
DESCRIPTION:Dinner together with friends at a favorite restaurant. Restaurant downtown Denver. Free for Denver residents. $69 for non residents\, contact us for private pay discounts if needed. Medicaid waiver restrictions may apply. \nRegister Online
URL:https://www.activityoptions.com/event/monthly-dinner-group-4/
LOCATION:Activity Options Community Center (Arvada)\, 7401 W 59th Ave\, Arvada\, Colorado\, 80003
ATTACH;FMTTYPE=image/png:https://www.activityoptions.com/wp-content/uploads/2022/03/Dinner-Group.png
ORGANIZER;CN="Activity Options LLC /Project World PBC":MAILTO:signup@activityoptions.com
END:VEVENT
BEGIN:VEVENT
DTSTART;TZID=UTC:20220716T110000
DTEND;TZID=UTC:20220716T180000
DTSTAMP:20260424T012409
CREATED:20220607T153925Z
LAST-MODIFIED:20220715T213901Z
UID:10000371-1657969200-1657994400@www.activityoptions.com
SUMMARY:• Rockies at Coors Field
DESCRIPTION:See the Rockies play the Pittsburg Pirates at Coors Field. Free for Denver residents. $99 for non residents\, contact us for private pay discounts if needed. Medicaid waiver restrictions may apply. \nRegister Online
URL:https://www.activityoptions.com/event/rockies-at-coors-field/
LOCATION:COORS FIELD\, 2001 Blake St\, Denver\, CO\, 80205
ATTACH;FMTTYPE=image/png:https://www.activityoptions.com/wp-content/uploads/2022/06/Rockies.png
ORGANIZER;CN="Activity Options LLC /Project World PBC":MAILTO:signup@activityoptions.com
GEO:39.7559779;-104.9933491
X-APPLE-STRUCTURED-LOCATION;VALUE=URI;X-ADDRESS=COORS FIELD 2001 Blake St Denver CO 80205;X-APPLE-RADIUS=500;X-TITLE=2001 Blake St:geo:-104.9933491,39.7559779
END:VEVENT
BEGIN:VEVENT
DTSTART;TZID=UTC:20220715T160000
DTEND;TZID=UTC:20220715T210000
DTSTAMP:20260424T012409
CREATED:20220607T153237Z
LAST-MODIFIED:20220607T153237Z
UID:10000370-1657900800-1657918800@www.activityoptions.com
SUMMARY:• Horse Back Riding at Cherry Creek Stables
DESCRIPTION:Join an experienced wrangler for a trail ride. No experience necessary but must be able to sit upright on a horse and hold the reins. This is not therapy riding! Includes lunch in Morrison or other local spots. Free for Denver residents. $99 for non residents. Medicaid waiver restrictions may apply. \nRegister Online
URL:https://www.activityoptions.com/event/horse-back-riding-at-cherry-creek-stables-2/
LOCATION:Cherry Creek Stables
ATTACH;FMTTYPE=image/jpeg:https://www.activityoptions.com/wp-content/uploads/2018/03/Horseback-sq.jpg
ORGANIZER;CN="Activity Options LLC /Project World PBC":MAILTO:signup@activityoptions.com
END:VEVENT
BEGIN:VEVENT
DTSTART;TZID=UTC:20220712T170000
DTEND;TZID=UTC:20220712T210000
DTSTAMP:20260424T012409
CREATED:20220607T152757Z
LAST-MODIFIED:20220607T152757Z
UID:10000369-1657645200-1657659600@www.activityoptions.com
SUMMARY:• Rocky Mountain Pro Wrestling Tuesday night games
DESCRIPTION:Attend the weekly games of Rocky Mountain Pro Wrestling and learn the ins and out of wrestling. Free for Denver residents. $35 for non residents. Medicaid waiver restrictions may apply. \nRegister Online
URL:https://www.activityoptions.com/event/rocky-mountain-pro-wrestling-tuesday-night-games/
LOCATION:Rocky Mountain Pro and Al Snow Wrestling Academy\, 2170 W Yale Ave\, Englewood\, CO\, 80110
ATTACH;FMTTYPE=image/png:https://www.activityoptions.com/wp-content/uploads/2022/04/RMProWresstling.png
ORGANIZER;CN="Activity Options LLC /Project World PBC":MAILTO:signup@activityoptions.com
END:VEVENT
BEGIN:VEVENT
DTSTART;TZID=UTC:20220709T150000
DTEND;TZID=UTC:20220709T210000
DTSTAMP:20260424T012409
CREATED:20220607T152308Z
LAST-MODIFIED:20220607T152308Z
UID:10000368-1657378800-1657400400@www.activityoptions.com
SUMMARY:• Lakeside Amusement Park
DESCRIPTION:Picnic and rides at this iconic amusement park in North Denver. Free for Denver residents. $79 for non residents. Medicaid waiver restrictions may apply. \nRegister Online\n 
URL:https://www.activityoptions.com/event/lakeside-amusement-park/
LOCATION:Lakeside Amusement Park\, 4601 Sheridan Boulevard\, Denver\, CO\, 80212\, United States
ATTACH;FMTTYPE=image/jpeg:https://www.activityoptions.com/wp-content/uploads/2018/07/Lakeside.jpg
ORGANIZER;CN="Activity Options LLC /Project World PBC":MAILTO:signup@activityoptions.com
GEO:39.7792034;-105.0543345
X-APPLE-STRUCTURED-LOCATION;VALUE=URI;X-ADDRESS=Lakeside Amusement Park 4601 Sheridan Boulevard Denver CO 80212 United States;X-APPLE-RADIUS=500;X-TITLE=4601 Sheridan Boulevard:geo:-105.0543345,39.7792034
END:VEVENT
BEGIN:VEVENT
DTSTART;TZID=UTC:20220708T180000
DTEND;TZID=UTC:20220708T210000
DTSTAMP:20260424T012409
CREATED:20220607T151844Z
LAST-MODIFIED:20220607T151844Z
UID:10000367-1657303200-1657314000@www.activityoptions.com
SUMMARY:• BINGO!
DESCRIPTION:Early dinner followed by Bingo at The Bingo Company in Arvada. Free for Denver residents. $59 for non residents. Medicaid waiver restrictions may apply. \nRegister Online\n 
URL:https://www.activityoptions.com/event/bingo-6/
LOCATION:The BINGO Company\, 6520 Wadsworth Blvd Ste 100\, Arvada\, Colorado\, 80003
ATTACH;FMTTYPE=image/png:https://www.activityoptions.com/wp-content/uploads/2020/01/BINGOco.png
ORGANIZER;CN="Activity Options LLC /Project World PBC":MAILTO:signup@activityoptions.com
END:VEVENT
BEGIN:VEVENT
DTSTART;TZID=UTC:20220704T170000
DTEND;TZID=UTC:20220704T230000
DTSTAMP:20260424T012409
CREATED:20220609T235721Z
LAST-MODIFIED:20220610T003627Z
UID:10000378-1656954000-1656975600@www.activityoptions.com
SUMMARY:• 4th of JULY!!! Colorado Rapids soccer game and Fireworks!
DESCRIPTION:Celebrate the 4th at the Colorado Rapids game followed by fireworks at Dick’s Sporting Goods Park. Free for Denver residents. $89 for non residents. Medicaid waiver restrictions may apply. \nRegister Online
URL:https://www.activityoptions.com/event/colorado-rapids-soccer-game-and-fireworks/
LOCATION:Dick’s Sporting Goods Park\, 6000 Victory Way\, Commerce City\, CO\, 80022
ATTACH;FMTTYPE=image/png:https://www.activityoptions.com/wp-content/uploads/2021/06/4th-July-2021.png
ORGANIZER;CN="Activity Options LLC /Project World PBC":MAILTO:signup@activityoptions.com
GEO:39.8056867;-104.8918117
X-APPLE-STRUCTURED-LOCATION;VALUE=URI;X-ADDRESS=Dick’s Sporting Goods Park 6000 Victory Way Commerce City CO 80022;X-APPLE-RADIUS=500;X-TITLE=6000 Victory Way:geo:-104.8918117,39.8056867
END:VEVENT
BEGIN:VEVENT
DTSTART;TZID=UTC:20220702T180000
DTEND;TZID=UTC:20220702T210000
DTSTAMP:20260424T012409
CREATED:20220607T144315Z
LAST-MODIFIED:20220607T144315Z
UID:10000366-1656784800-1656795600@www.activityoptions.com
SUMMARY:• Karaoke Night
DESCRIPTION:Hit the stage and join the fun and show your musical talent or just watch. Dinner included. Free for Denver residents. $20 for non residents. Medicaid waiver restrictions may apply. \nRegister Online\n 
URL:https://www.activityoptions.com/event/karaoke-night/
LOCATION:Activity Options Community Center (Arvada)\, 7401 W 59th Ave\, Arvada\, Colorado\, 80003
ATTACH;FMTTYPE=image/png:https://www.activityoptions.com/wp-content/uploads/2022/04/Karaoke.png
ORGANIZER;CN="Activity Options LLC /Project World PBC":MAILTO:signup@activityoptions.com
END:VEVENT
BEGIN:VEVENT
DTSTART;TZID=UTC:20220628T170000
DTEND;TZID=UTC:20220628T210000
DTSTAMP:20260424T012409
CREATED:20220416T074438Z
LAST-MODIFIED:20220416T074438Z
UID:10000242-1656435600-1656450000@www.activityoptions.com
SUMMARY:• Rocky Mtn. Pro Wrestling Tuesday night games
DESCRIPTION:Attend the weekly games of Rocky Mountain Pro Wrestling and learn the ins and out of wrestling. Free for Denver residents. $35 for non residents. Medicaid waiver restrictions may apply. \nRegister Online
URL:https://www.activityoptions.com/event/rocky-mtn-pro-wrestling-tuesday-night-games-4/
LOCATION:Rocky Mountain Pro and Al Snow Wrestling Academy\, 2170 W Yale Ave\, Englewood\, CO\, 80110
ATTACH;FMTTYPE=image/png:https://www.activityoptions.com/wp-content/uploads/2022/04/RMProWresstling.png
ORGANIZER;CN="Activity Options LLC /Project World PBC":MAILTO:signup@activityoptions.com
END:VEVENT
BEGIN:VEVENT
DTSTART;TZID=UTC:20220626T090000
DTEND;TZID=UTC:20220626T170000
DTSTAMP:20260424T012409
CREATED:20220416T074043Z
LAST-MODIFIED:20220416T074043Z
UID:10000240-1656234000-1656262800@www.activityoptions.com
SUMMARY:• Day at the Dillon Reservoir and Summit County
DESCRIPTION:Enjoy the best of this beautiful mountain area.  Ride the pontoon boats on Dillon Reservoir and explore the area. Free for Denver residents. $tbd for non residents. Medicaid waiver restrictions may apply. \nRegister Online
URL:https://www.activityoptions.com/event/day-at-the-dillon-reservoir-and-summit-county/
LOCATION:Dillon Reservoir
ATTACH;FMTTYPE=image/png:https://www.activityoptions.com/wp-content/uploads/2020/08/Summer-Day-Lake-Dillon.png
ORGANIZER;CN="Activity Options LLC /Project World PBC":MAILTO:signup@activityoptions.com
END:VEVENT
BEGIN:VEVENT
DTSTART;TZID=UTC:20220624T163000
DTEND;TZID=UTC:20220624T220000
DTSTAMP:20260424T012409
CREATED:20220416T073158Z
LAST-MODIFIED:20220416T073158Z
UID:10000238-1656088200-1656108000@www.activityoptions.com
SUMMARY:• Monthly Dinner Group
DESCRIPTION:Dinner together with friends at a favorite restaurant in downtown Denver. Free for Denver residents. $49 for non residents. Medicaid waiver restrictions may apply. \nRegister Online
URL:https://www.activityoptions.com/event/monthly-dinner-group-3/
LOCATION:Downtown Denver\, Denver\, Colorado
ATTACH;FMTTYPE=image/png:https://www.activityoptions.com/wp-content/uploads/2022/03/Dinner-Group.png
ORGANIZER;CN="Activity Options LLC /Project World PBC":MAILTO:signup@activityoptions.com
GEO:39.7392358;-104.990251
END:VEVENT
BEGIN:VEVENT
DTSTART;TZID=UTC:20220624T160000
DTEND;TZID=UTC:20220624T210000
DTSTAMP:20260424T012409
CREATED:20220416T072705Z
LAST-MODIFIED:20220416T072705Z
UID:10000235-1656086400-1656104400@www.activityoptions.com
SUMMARY:• Horse Back Riding at Cherry Creek Stables
DESCRIPTION:Join an experienced wrangler for a trail ride.  No experience necessary but must be able to sit upright on a horse and hold the reins.  This is not therapy riding!  Includes lunch in Morrison or other local spots. Free for Denver residents. $99 for non resiidents. Medicaid waiver restrictions may apply. \nRegister Online
URL:https://www.activityoptions.com/event/horse-back-riding-at-cherry-creek-stables/
LOCATION:Cherry Creek Stables
ATTACH;FMTTYPE=image/jpeg:https://www.activityoptions.com/wp-content/uploads/2018/03/Horseback-sq.jpg
ORGANIZER;CN="Activity Options LLC /Project World PBC":MAILTO:signup@activityoptions.com
END:VEVENT
BEGIN:VEVENT
DTSTART;TZID=UTC:20220622T173000
DTEND;TZID=UTC:20220622T193000
DTSTAMP:20260424T012409
CREATED:20220416T072151Z
LAST-MODIFIED:20220416T072151Z
UID:10000234-1655919000-1655926200@www.activityoptions.com
SUMMARY:• Coffee Club
DESCRIPTION:Join our small group to hang out at a local coffee and tea spot for conversation\, relaxation and smiles. Includes snack. Free for Denver residents. $39 for non residents. Medicaid waiver restrictions may apply. \nRegister Online\n 
URL:https://www.activityoptions.com/event/coffee-club-12/
LOCATION:Activity Options Community Center (Arvada)\, 7401 W 59th Ave\, Arvada\, Colorado\, 80003
ATTACH;FMTTYPE=image/jpeg:https://www.activityoptions.com/wp-content/uploads/2017/12/Coffee-Club-sq.jpg
ORGANIZER;CN="Activity Options LLC /Project World PBC":MAILTO:signup@activityoptions.com
END:VEVENT
END:VCALENDAR