BEGIN:VCALENDAR
VERSION:2.0
PRODID:-//Activity Options - ECPv6.15.20//NONSGML v1.0//EN
CALSCALE:GREGORIAN
METHOD:PUBLISH
X-WR-CALNAME:Activity Options
X-ORIGINAL-URL:https://www.activityoptions.com
X-WR-CALDESC:Events for Activity Options
REFRESH-INTERVAL;VALUE=DURATION:PT1H
X-Robots-Tag:noindex
X-PUBLISHED-TTL:PT1H
BEGIN:VTIMEZONE
TZID:UTC
BEGIN:STANDARD
TZOFFSETFROM:+0000
TZOFFSETTO:+0000
TZNAME:UTC
DTSTART:20220101T000000
END:STANDARD
END:VTIMEZONE
BEGIN:VEVENT
DTSTART;TZID=UTC:20231216T163000
DTEND;TZID=UTC:20231216T213000
DTSTAMP:20260423T203521
CREATED:20231119T034504Z
LAST-MODIFIED:20231119T034504Z
UID:10000542-1702744200-1702762200@www.activityoptions.com
SUMMARY:•HOLIDAY PARTY! Monthly Dinner Group
DESCRIPTION:Let’s spread the holiday Cheer! Enjoy Friends and good food at Cinzetti’s Italian Buffet. Party is from 5:30-7:30. Free for Denver residents and Colorado Respite. Private pay $39. We hope to see you there! \nRegister Online\n 
URL:https://www.activityoptions.com/event/holiday-party-monthly-dinner-group/
LOCATION:Activity Options Community Center (Arvada)\, 7401 W 59th Ave\, Arvada\, Colorado\, 80003
ATTACH;FMTTYPE=image/png:https://www.activityoptions.com/wp-content/uploads/2023/11/holiday-party-2023.png
ORGANIZER;CN="Activity Options LLC /Project World PBC":MAILTO:signup@activityoptions.com
END:VEVENT
BEGIN:VEVENT
DTSTART;TZID=UTC:20231215T170000
DTEND;TZID=UTC:20231215T230000
DTSTAMP:20260423T203521
CREATED:20231119T031315Z
LAST-MODIFIED:20231119T043026Z
UID:10000541-1702659600-1702681200@www.activityoptions.com
SUMMARY:• K-Love Christmas Concert
DESCRIPTION:Let’s celebrate the holiday spirit! Friday night Christmas concert. Free for Denver residents and Colorado Respite. Private pay $129. \nRegister Online
URL:https://www.activityoptions.com/event/k-love-christmas-concert-2/
LOCATION:Blue Arena\, Loveland CO\, 5290 Arena Ci\, Loveland\, CO\, 80538\, United States
ATTACH;FMTTYPE=image/png:https://www.activityoptions.com/wp-content/uploads/2023/11/k-love2023.png
ORGANIZER;CN="Activity Options LLC /Project World PBC":MAILTO:signup@activityoptions.com
END:VEVENT
BEGIN:VEVENT
DTSTART;TZID=UTC:20231210T110000
DTEND;TZID=UTC:20231210T170000
DTSTAMP:20260423T203521
CREATED:20231119T025417Z
LAST-MODIFIED:20231119T025417Z
UID:10000540-1702206000-1702227600@www.activityoptions.com
SUMMARY:• Bronco Party at West Community Center
DESCRIPTION:Pick your team and party with your friends at the West Community Center Broncos vs.Carolina Panthers. Free for Denver residents and Colorado Respite. Private pay $29. \nRegister Online
URL:https://www.activityoptions.com/event/bronco-party-at-west-community-center-3/
LOCATION:Activity Options Community Center (Arvada)\, 7401 W 59th Ave\, Arvada\, Colorado\, 80003
ATTACH;FMTTYPE=image/png:https://www.activityoptions.com/wp-content/uploads/2022/01/Broncos-Football-1.png
ORGANIZER;CN="Activity Options LLC /Project World PBC":MAILTO:signup@activityoptions.com
END:VEVENT
BEGIN:VEVENT
DTSTART;TZID=UTC:20231209T070000
DTEND;TZID=UTC:20231210T190000
DTSTAMP:20260423T203521
CREATED:20230205T233705Z
LAST-MODIFIED:20231027T152754Z
UID:10000452-1702105200-1702234800@www.activityoptions.com
SUMMARY:•Great Wolf Water Park
DESCRIPTION:Splash in the warm water and enjoy the water features and game park. Free for Denver residents and Colorado Respite. Private pay cost $435. \nRegister Online\n 
URL:https://www.activityoptions.com/event/great-wolf-water-park/
LOCATION:Great Wolf Water Park\, 9494 Federal Drive\, Colorado Springs\, CO\, 80921\, United States
ATTACH;FMTTYPE=image/jpeg:https://www.activityoptions.com/wp-content/uploads/2019/01/GreatWolf.jpg
ORGANIZER;CN="Activity Options LLC /Project World PBC":MAILTO:signup@activityoptions.com
END:VEVENT
BEGIN:VEVENT
DTSTART;TZID=UTC:20231208T170000
DTEND;TZID=UTC:20231208T220000
DTSTAMP:20260423T203521
CREATED:20231118T215014Z
LAST-MODIFIED:20231118T215014Z
UID:10000538-1702054800-1702072800@www.activityoptions.com
SUMMARY:•CSO Colorado Christmas
DESCRIPTION:Sing along with Santa and the Colorado Symphony Orchestra to holiday favorites. Free for Denver residents and Colorado Respite. Private pay $99. \nRegister Online\n 
URL:https://www.activityoptions.com/event/cso-colorado-christmas/
LOCATION:Colorado Symphony Orchastra at Boettcher Concert Hall\, 1000 14th St\, Denver\, CO\, 80202
ATTACH;FMTTYPE=image/png:https://www.activityoptions.com/wp-content/uploads/2023/11/CSOchristmas2023.png
ORGANIZER;CN="Activity Options LLC /Project World PBC":MAILTO:signup@activityoptions.com
GEO:39.7453479;-104.9980736
X-APPLE-STRUCTURED-LOCATION;VALUE=URI;X-ADDRESS=Colorado Symphony Orchastra at Boettcher Concert Hall 1000 14th St Denver CO 80202;X-APPLE-RADIUS=500;X-TITLE=1000 14th St:geo:-104.9980736,39.7453479
END:VEVENT
BEGIN:VEVENT
DTSTART;TZID=UTC:20231203T120000
DTEND;TZID=UTC:20231203T180000
DTSTAMP:20260423T203521
CREATED:20231124T060624Z
LAST-MODIFIED:20231124T080032Z
UID:10000546-1701604800-1701626400@www.activityoptions.com
SUMMARY:•MEOW WOLF
DESCRIPTION:Be amazed at this art in motion museum followed up by dinner at Cheesecake Factory. Free for Denver residents and Colorado Respite. Private pay $99. \nRegister Online\n 
URL:https://www.activityoptions.com/event/meow-wolf/
LOCATION:Meow Wolf Denver\, 1338 1st St\, Denver\, CO\, 80204\, United States
ATTACH;FMTTYPE=image/png:https://www.activityoptions.com/wp-content/uploads/2023/11/MeowWolfDenver.png
ORGANIZER;CN="Activity Options LLC /Project World PBC":MAILTO:signup@activityoptions.com
END:VEVENT
BEGIN:VEVENT
DTSTART;TZID=UTC:20231202T170000
DTEND;TZID=UTC:20231202T210000
DTSTAMP:20260423T203521
CREATED:20231119T025018Z
LAST-MODIFIED:20231119T025018Z
UID:10000539-1701536400-1701550800@www.activityoptions.com
SUMMARY:•Saturday Night Club
DESCRIPTION:Join Saturday Night Club (SNL) and enjoy the company of friends.Enjoy a movie and dinner at our Center or discover what’s open in town. Free for Denver residents and Colorado Respite. Private pay $29. \nRegister Online
URL:https://www.activityoptions.com/event/saturday-night-club/
LOCATION:Activity Options Community Center (Arvada)\, 7401 W 59th Ave\, Arvada\, Colorado\, 80003
ATTACH;FMTTYPE=image/png:https://www.activityoptions.com/wp-content/uploads/2021/04/SNL-sq.png
ORGANIZER;CN="Activity Options LLC /Project World PBC":MAILTO:signup@activityoptions.com
END:VEVENT
BEGIN:VEVENT
DTSTART;TZID=UTC:20231130T160000
DTEND;TZID=UTC:20231130T210000
DTSTAMP:20260423T203521
CREATED:20230919T072651Z
LAST-MODIFIED:20230919T081418Z
UID:10000536-1701360000-1701378000@www.activityoptions.com
SUMMARY:•Pro Wrestling LIVE!
DESCRIPTION:Attend the weekly games of Rocky Mountain Pro Wrestling and learn the ins and outs of wrestling. Free for Denver residents and Colorado Respite. Private pay $49. \nRegister Online
URL:https://www.activityoptions.com/event/pro-wrestling-live/
LOCATION:Rocky Mountain Pro and Al Snow Wrestling Academy\, 2170 W Yale Ave\, Englewood\, CO\, 80110
ATTACH;FMTTYPE=image/png:https://www.activityoptions.com/wp-content/uploads/2023/08/PMRWrestlingThurs.png
ORGANIZER;CN="Activity Options LLC /Project World PBC":MAILTO:signup@activityoptions.com
END:VEVENT
BEGIN:VEVENT
DTSTART;TZID=UTC:20231126T110000
DTEND;TZID=UTC:20231126T170000
DTSTAMP:20260423T203521
CREATED:20230919T072157Z
LAST-MODIFIED:20230919T072157Z
UID:10000535-1700996400-1701018000@www.activityoptions.com
SUMMARY:•Broncos Party!
DESCRIPTION:Pick your team and party with your friends at the West Community Center. Free for Denver residents and Colorado Respite. Private pay $29. \nRegister Online
URL:https://www.activityoptions.com/event/broncos-party-4/
LOCATION:Activity Options Community Center (Arvada)\, 7401 W 59th Ave\, Arvada\, Colorado\, 80003
ATTACH;FMTTYPE=image/png:https://www.activityoptions.com/wp-content/uploads/2022/01/Broncos-Football-1.png
ORGANIZER;CN="Activity Options LLC /Project World PBC":MAILTO:signup@activityoptions.com
END:VEVENT
BEGIN:VEVENT
DTSTART;TZID=UTC:20231125T110000
DTEND;TZID=UTC:20231125T160000
DTSTAMP:20260423T203521
CREATED:20230919T071740Z
LAST-MODIFIED:20230919T080859Z
UID:10000534-1700910000-1700928000@www.activityoptions.com
SUMMARY:•Cooking Class
DESCRIPTION:Season 3 of cooking with the stars! (YOU). Plan\, shop\, prepare and cook seasonal favorites. Free for Denver residents and Colorado Respite. Private pay $35. \nRegister Online
URL:https://www.activityoptions.com/event/cooking-class-11/
LOCATION:Activity Options Community Center (Arvada)\, 7401 W 59th Ave\, Arvada\, Colorado\, 80003
ATTACH;FMTTYPE=image/png:https://www.activityoptions.com/wp-content/uploads/2022/09/CookingClass_Falll.png
ORGANIZER;CN="Activity Options LLC /Project World PBC":MAILTO:signup@activityoptions.com
END:VEVENT
BEGIN:VEVENT
DTSTART;TZID=UTC:20231124T170000
DTEND;TZID=UTC:20231124T230000
DTSTAMP:20260423T203521
CREATED:20230919T070853Z
LAST-MODIFIED:20230919T070853Z
UID:10000533-1700845200-1700866800@www.activityoptions.com
SUMMARY:•Home Alone the movie with CSO
DESCRIPTION:Join the CSO at Boettcher Theater and see the movie\, “Home Alone”\, as never before.Sounds track played live by the CSO. Free for Denver residents and Colorado Respite. Private pay $99. \nRegister Online
URL:https://www.activityoptions.com/event/home-alone-the-movie-with-cso-2/
LOCATION:Colorado Symphony Orchastra at Boettcher Concert Hall\, 1000 14th St\, Denver\, CO\, 80202
ATTACH;FMTTYPE=image/png:https://www.activityoptions.com/wp-content/uploads/2023/09/HomeAlone_CSO.png
ORGANIZER;CN="Activity Options LLC /Project World PBC":MAILTO:signup@activityoptions.com
GEO:39.7453479;-104.9980736
X-APPLE-STRUCTURED-LOCATION;VALUE=URI;X-ADDRESS=Colorado Symphony Orchastra at Boettcher Concert Hall 1000 14th St Denver CO 80202;X-APPLE-RADIUS=500;X-TITLE=1000 14th St:geo:-104.9980736,39.7453479
END:VEVENT
BEGIN:VEVENT
DTSTART;TZID=UTC:20231118T170000
DTEND;TZID=UTC:20231118T230000
DTSTAMP:20260423T203521
CREATED:20230919T065933Z
LAST-MODIFIED:20230919T065933Z
UID:10000532-1700326800-1700348400@www.activityoptions.com
SUMMARY:• Hip Hop Nutcracker
DESCRIPTION:Explore this updated take on the Nutcracker at Buell Theater. Free for Denver residents and Colorado Respite. Private pay $99. \nRegister online
URL:https://www.activityoptions.com/event/hip-hop-nutcracker/
LOCATION:Denver Center for the Performing Arts\, 1101 13th St\, Denver\, CO\, 80204
ATTACH;FMTTYPE=image/png:https://www.activityoptions.com/wp-content/uploads/2023/09/HipHop-Nutcrtacker.png
ORGANIZER;CN="Activity Options LLC /Project World PBC":MAILTO:signup@activityoptions.com
GEO:39.7453475;-104.998331
X-APPLE-STRUCTURED-LOCATION;VALUE=URI;X-ADDRESS=Denver Center for the Performing Arts 1101 13th St Denver CO 80204;X-APPLE-RADIUS=500;X-TITLE=1101 13th St:geo:-104.998331,39.7453475
END:VEVENT
BEGIN:VEVENT
DTSTART;TZID=UTC:20231118T050000
DTEND;TZID=UTC:20231118T210000
DTSTAMP:20260423T203521
CREATED:20230919T063837Z
LAST-MODIFIED:20230919T063837Z
UID:10000531-1700283600-1700341200@www.activityoptions.com
SUMMARY:•Gratitude Party Celebration
DESCRIPTION:Annual Gratitude Party at the Forney Museum. Friends and family invited. Free for all to attend. We hope to see you there! \nRegister Online\n 
URL:https://www.activityoptions.com/event/gratitude-party-celebration/
LOCATION:Forney Museum of Transportation\, 4303 Brighton Blvd\, Denver\, CO\, 80216\, United States
ATTACH;FMTTYPE=image/png:https://www.activityoptions.com/wp-content/uploads/2023/09/Gratitude2023.png
END:VEVENT
BEGIN:VEVENT
DTSTART;TZID=UTC:20231117T170000
DTEND;TZID=UTC:20231117T230000
DTSTAMP:20260423T203521
CREATED:20230919T053543Z
LAST-MODIFIED:20230919T053543Z
UID:10000530-1700240400-1700262000@www.activityoptions.com
SUMMARY:•Clements Center Dance Party
DESCRIPTION:Join old & new friends for the community dance at Celments Center. Free for Denver residents and Colorado Respite. Private pay $35. \nRegister Online
URL:https://www.activityoptions.com/event/clements-center-dance-party/
LOCATION:Clements Center\, 1580 Yarrow St\, Lakewood\, CO\, 80214\, United States
ATTACH;FMTTYPE=image/png:https://www.activityoptions.com/wp-content/uploads/2023/08/DanceParty.png
ORGANIZER;CN="Activity Options LLC /Project World PBC":MAILTO:signup@activityoptions.com
END:VEVENT
BEGIN:VEVENT
DTSTART;TZID=UTC:20231111T170000
DTEND;TZID=UTC:20231111T220000
DTSTAMP:20260423T203521
CREATED:20230919T051950Z
LAST-MODIFIED:20230919T051950Z
UID:10000529-1699722000-1699740000@www.activityoptions.com
SUMMARY:•Saturday Night Club SNL
DESCRIPTION:Join Saturday Night Club (SNL) and enjoy the company of friends. Enjoy a movie and dinner at our Center or discover what’s open in town. Free for Denver residents and Colorado Respite. Private pay $35. \nRegister Online
URL:https://www.activityoptions.com/event/saturday-night-club-snl-31/
LOCATION:Activity Options Community Center (Arvada)\, 7401 W 59th Ave\, Arvada\, Colorado\, 80003
ATTACH;FMTTYPE=image/png:https://www.activityoptions.com/wp-content/uploads/2021/04/SNL-sq.png
ORGANIZER;CN="Activity Options LLC /Project World PBC":MAILTO:signup@activityoptions.com
END:VEVENT
BEGIN:VEVENT
DTSTART;TZID=UTC:20231110T160000
DTEND;TZID=UTC:20231110T210000
DTSTAMP:20260423T203521
CREATED:20230919T050832Z
LAST-MODIFIED:20230919T050832Z
UID:10000528-1699632000-1699650000@www.activityoptions.com
SUMMARY:•Top Golf
DESCRIPTION:You don’t have to know how to swing a club to join us for a Top Golf Party! Come and enjoy this unique venue and the fresh evening air. Free for Denver residents and Colorado Respite. Private pay $65. \nRegister Online
URL:https://www.activityoptions.com/event/top-golf-4/
LOCATION:Top Golf Centennial\, 10601 E Easter Ave\, Centennial\, CO\, 80112\, United States
ATTACH;FMTTYPE=image/png:https://www.activityoptions.com/wp-content/uploads/2022/04/TopGolf.png
ORGANIZER;CN="Activity Options LLC /Project World PBC":MAILTO:signup@activityoptions.com
END:VEVENT
BEGIN:VEVENT
DTSTART;TZID=UTC:20231105T080000
DTEND;TZID=UTC:20231105T140000
DTSTAMP:20260423T203521
CREATED:20230919T050429Z
LAST-MODIFIED:20230919T050429Z
UID:10000527-1699171200-1699192800@www.activityoptions.com
SUMMARY:• Indian Hot Springs
DESCRIPTION:Soak in the calming waters of the Indian Hot Springs in Idaho Springs. Lunch in Idaho Springs. Free for Denver residents and Colorado Respite. Private pay $79. \nRegister Online
URL:https://www.activityoptions.com/event/indian-hot-springs-4/
LOCATION:Indian Hot Springs\, 302 Soda Creek Rd\, Idaho Springs\, CO\, 80452
ATTACH;FMTTYPE=image/jpeg:https://www.activityoptions.com/wp-content/uploads/2018/02/Indiam-Hot-Springs-sq.jpg
ORGANIZER;CN="Activity Options LLC /Project World PBC":MAILTO:signup@activityoptions.com
GEO:39.7392563;-105.512617
X-APPLE-STRUCTURED-LOCATION;VALUE=URI;X-ADDRESS=Indian Hot Springs 302 Soda Creek Rd Idaho Springs CO 80452;X-APPLE-RADIUS=500;X-TITLE=302 Soda Creek Rd:geo:-105.512617,39.7392563
END:VEVENT
BEGIN:VEVENT
DTSTART;TZID=UTC:20231104T160000
DTEND;TZID=UTC:20231104T233000
DTSTAMP:20260423T203521
CREATED:20230919T050038Z
LAST-MODIFIED:20230919T050038Z
UID:10000526-1699113600-1699140600@www.activityoptions.com
SUMMARY:Nuggets Basketball Game!
DESCRIPTION:LIMITED TICKETS to see the Colorado Nuggets play the Chicago Bulls at Ball Arena. Free for Denver residents and Colorado Respite. Private pay $TBD. \nRegister Online
URL:https://www.activityoptions.com/event/nuggets-basketball-game/
LOCATION:Ball Arena
ATTACH;FMTTYPE=image/png:https://www.activityoptions.com/wp-content/uploads/2023/09/NuggetsBball.png
ORGANIZER;CN="Activity Options LLC /Project World PBC":MAILTO:signup@activityoptions.com
END:VEVENT
BEGIN:VEVENT
DTSTART;TZID=UTC:20231103T170000
DTEND;TZID=UTC:20231103T210000
DTSTAMP:20260423T203521
CREATED:20230919T045008Z
LAST-MODIFIED:20230919T045008Z
UID:10000525-1699030800-1699045200@www.activityoptions.com
SUMMARY:•Dinner Club
DESCRIPTION:Join friends for the monthly feat at a local restaurant. Location to be announced. Free for Denver residents and Colorado Respite. Private pay $49. \nRegister Online
URL:https://www.activityoptions.com/event/dinner-club-2/
LOCATION:Activity Options Community Center (Arvada)\, 7401 W 59th Ave\, Arvada\, Colorado\, 80003
ATTACH;FMTTYPE=image/png:https://www.activityoptions.com/wp-content/uploads/2022/03/Dinner-Group.png
ORGANIZER;CN="Activity Options LLC /Project World PBC":MAILTO:signup@activityoptions.com
END:VEVENT
BEGIN:VEVENT
DTSTART;TZID=UTC:20231029T130000
DTEND;TZID=UTC:20231029T180000
DTSTAMP:20260423T203521
CREATED:20230913T233238Z
LAST-MODIFIED:20230913T233238Z
UID:10000524-1698584400-1698602400@www.activityoptions.com
SUMMARY:•Neustadt JAMM Festival - Sondheim on Sondeim
DESCRIPTION:Biographical performance portraying Steven Sondheim\, the genius of Broadway musical. Performed at the Jewish Community Center Theater. Free for Denver Residents and Colorado Respite. Private pay $99. \nRegister Online
URL:https://www.activityoptions.com/event/neustadt-jamm-festival-sondheim-on-sondeim/
LOCATION:Jewish Community Center\, 350 S Dahlia St\, Denver\, Colorado\, 80246
ATTACH;FMTTYPE=image/png:https://www.activityoptions.com/wp-content/uploads/2023/09/Sondheim.png
ORGANIZER;CN="Activity Options LLC /Project World PBC":MAILTO:signup@activityoptions.com
END:VEVENT
BEGIN:VEVENT
DTSTART;TZID=UTC:20231028T170000
DTEND;TZID=UTC:20231028T200000
DTSTAMP:20260423T203521
CREATED:20230913T232617Z
LAST-MODIFIED:20230913T232617Z
UID:10000523-1698512400-1698523200@www.activityoptions.com
SUMMARY:• Annual Halloween Party at AO West Community Center
DESCRIPTION:Join the fun at the Annual Halloween Party at the West Community Center. Costume contest\, games and prizes! Free for Denver and non Denver residents. Free for Denver residents and Colorado Respite. Private Pay is also FREE for this event. \nRegister Online
URL:https://www.activityoptions.com/event/annual-halloween-party-at-ao-west-community-center/
LOCATION:Activity Options Community Center (Arvada)\, 7401 W 59th Ave\, Arvada\, Colorado\, 80003
ATTACH;FMTTYPE=image/png:https://www.activityoptions.com/wp-content/uploads/2023/09/HalloweenParty2023.png
ORGANIZER;CN="Activity Options LLC /Project World PBC":MAILTO:signup@activityoptions.com
END:VEVENT
BEGIN:VEVENT
DTSTART;TZID=UTC:20231026T170000
DTEND;TZID=UTC:20231026T210000
DTSTAMP:20260423T203521
CREATED:20230913T232116Z
LAST-MODIFIED:20230913T232124Z
UID:10000522-1698339600-1698354000@www.activityoptions.com
SUMMARY:•LIVE Pro Wrestling
DESCRIPTION:Attend the weekly games of Rocky Mountain Pro Wrestling and learn the ins and outs of wrestling. Free for Denver residents and Colorado Respite. Private pay $35. \nRegister Online
URL:https://www.activityoptions.com/event/live-wrestling/
LOCATION:Rocky Mountain Pro and Al Snow Wrestling Academy\, 2170 W Yale Ave\, Englewood\, CO\, 80110
ATTACH;FMTTYPE=image/png:https://www.activityoptions.com/wp-content/uploads/2023/08/PMRWrestlingThurs.png
ORGANIZER;CN="Activity Options LLC /Project World PBC":MAILTO:signup@activityoptions.com
END:VEVENT
BEGIN:VEVENT
DTSTART;TZID=UTC:20231022T110000
DTEND;TZID=UTC:20231022T170000
DTSTAMP:20260423T203521
CREATED:20230913T230941Z
LAST-MODIFIED:20230913T230941Z
UID:10000521-1697972400-1697994000@www.activityoptions.com
SUMMARY:•Broncos Party at AO Community Center
DESCRIPTION:Pick your team and party with your friends at the West Community Center. Free for Denver residents and Colorado Respite. Private Pay $35. \nRegister Online
URL:https://www.activityoptions.com/event/broncos-party-at-ao-community-center/
LOCATION:Activity Options Community Center (Arvada)\, 7401 W 59th Ave\, Arvada\, Colorado\, 80003
ATTACH;FMTTYPE=image/png:https://www.activityoptions.com/wp-content/uploads/2022/01/Broncos-Football-1.png
ORGANIZER;CN="Activity Options LLC /Project World PBC":MAILTO:signup@activityoptions.com
END:VEVENT
BEGIN:VEVENT
DTSTART;TZID=UTC:20231021T170000
DTEND;TZID=UTC:20231021T210000
DTSTAMP:20260423T203521
CREATED:20230913T230219Z
LAST-MODIFIED:20230913T230219Z
UID:10000520-1697907600-1697922000@www.activityoptions.com
SUMMARY:• CSO Amadeus Live at Boettcher Concert Hall
DESCRIPTION:Amadeus Live celebrates the multi-Academy Award winning film\, AMADEUS which tells the incredible story of MOZART. Watch the full 1984 Motion Picture on a vast HD screen. Free for Denver Residents and Colorado Respite. Private pay $49. \nRegister Online
URL:https://www.activityoptions.com/event/cso-amadeus-live-at-boettcher-concert-hall/
LOCATION:Colorado Symphony Orchastra at Boettcher Concert Hall\, 1000 14th St\, Denver\, CO\, 80202
ATTACH;FMTTYPE=image/png:https://www.activityoptions.com/wp-content/uploads/2023/09/Amadeus.png
ORGANIZER;CN="Activity Options LLC /Project World PBC":MAILTO:signup@activityoptions.com
GEO:39.7453479;-104.9980736
X-APPLE-STRUCTURED-LOCATION;VALUE=URI;X-ADDRESS=Colorado Symphony Orchastra at Boettcher Concert Hall 1000 14th St Denver CO 80202;X-APPLE-RADIUS=500;X-TITLE=1000 14th St:geo:-104.9980736,39.7453479
END:VEVENT
BEGIN:VEVENT
DTSTART;TZID=UTC:20231021T070000
DTEND;TZID=UTC:20231025T190000
DTSTAMP:20260423T203521
CREATED:20230131T005515Z
LAST-MODIFIED:20230913T214729Z
UID:10000449-1697871600-1698260400@www.activityoptions.com
SUMMARY:TRAVEL•Orlando FL
DESCRIPTION:Spend your days visiting\, Harry Potter World\, DisneyWorld & Animal Kingdom! Free for Denver residents and Colorado Respite! Private Pay cost $2\,700 \nRegister Online\n 
URL:https://www.activityoptions.com/event/travelorlando-fl/
LOCATION:Orlando Florida
ATTACH;FMTTYPE=image/jpeg:https://www.activityoptions.com/wp-content/uploads/2019/01/Orlando.jpg
ORGANIZER;CN="Activity Options LLC /Project World PBC":MAILTO:signup@activityoptions.com
END:VEVENT
BEGIN:VEVENT
DTSTART;TZID=UTC:20231020T160000
DTEND;TZID=UTC:20231020T210000
DTSTAMP:20260423T203521
CREATED:20230913T225238Z
LAST-MODIFIED:20230913T225238Z
UID:10000519-1697817600-1697835600@www.activityoptions.com
SUMMARY:•Rec Center Dance
DESCRIPTION:Join old friends for the community dance back at Clements Center. Free for Denver residents and Colorado Respite. Private pay $35. \nRegister Online
URL:https://www.activityoptions.com/event/rec-center-dance/
LOCATION:Clements Center\, 1580 Yarrow St\, Lakewood\, CO\, 80214\, United States
ATTACH;FMTTYPE=image/png:https://www.activityoptions.com/wp-content/uploads/2023/08/DanceParty.png
ORGANIZER;CN="Activity Options LLC /Project World PBC":MAILTO:signup@activityoptions.com
END:VEVENT
BEGIN:VEVENT
DTSTART;TZID=UTC:20231014T170000
DTEND;TZID=UTC:20231014T220000
DTSTAMP:20260423T203521
CREATED:20230913T224552Z
LAST-MODIFIED:20230913T224552Z
UID:10000518-1697302800-1697320800@www.activityoptions.com
SUMMARY:•Saturday Night Club (SNL)
DESCRIPTION:Join Saturday Night Club (SNL) and enjoy the company of friends. Enjoy a movie and dinner at our Center or discover what’s open in town. Free for Denver residents and Colorado Respite. Private pay $35. \nRegister Online
URL:https://www.activityoptions.com/event/saturday-night-club-snl-30/
LOCATION:Activity Options Community Center (Arvada)\, 7401 W 59th Ave\, Arvada\, Colorado\, 80003
ATTACH;FMTTYPE=image/png:https://www.activityoptions.com/wp-content/uploads/2021/04/SNL-sq.png
ORGANIZER;CN="Activity Options LLC /Project World PBC":MAILTO:signup@activityoptions.com
END:VEVENT
BEGIN:VEVENT
DTSTART;TZID=UTC:20231013T160000
DTEND;TZID=UTC:20231013T210000
DTSTAMP:20260423T203521
CREATED:20230913T223523Z
LAST-MODIFIED:20230913T223523Z
UID:10000517-1697212800-1697230800@www.activityoptions.com
SUMMARY:Bowling Party
DESCRIPTION:Dinner and bowling at the new Celebrity Lanes in Centennial. Free for Denver residents and Colorado Respite. Private pay $99. \nRegister Online
URL:https://www.activityoptions.com/event/bowling-party/
LOCATION:Celebrity Lanes Centennial\, 15755 E Arapahoe Rd\, Centennial\, Colorado\, 80016
ATTACH;FMTTYPE=image/png:https://www.activityoptions.com/wp-content/uploads/2023/09/CelebLanes.png
ORGANIZER;CN="Activity Options LLC /Project World PBC":MAILTO:signup@activityoptions.com
END:VEVENT
BEGIN:VEVENT
DTSTART;TZID=UTC:20231007T070000
DTEND;TZID=UTC:20231009T190000
DTSTAMP:20260423T203521
CREATED:20230131T004527Z
LAST-MODIFIED:20230131T004527Z
UID:10000448-1696662000-1696878000@www.activityoptions.com
SUMMARY:TRAVEL•Glenwood Snowmass CO
DESCRIPTION:Train or road to Glenwood Iron Mountain Hot Springs and Aspen. Free for Denver residents and Colorado Respite. Private Pay cost $1\,200 \nRegister Online
URL:https://www.activityoptions.com/event/travelglenwood-snowmass-co/
LOCATION:Glenwood Springs\, Colorado\, Glenwood Springs\, Colorado
ATTACH;FMTTYPE=image/jpeg:https://www.activityoptions.com/wp-content/uploads/2018/07/Iron-Mountain-Caverns-Adventure.jpg
ORGANIZER;CN="Activity Options LLC /Project World PBC":MAILTO:signup@activityoptions.com
GEO:39.5505376;-107.3247762
END:VEVENT
BEGIN:VEVENT
DTSTART;TZID=UTC:20231006T170000
DTEND;TZID=UTC:20231006T230000
DTSTAMP:20260423T203521
CREATED:20230913T215931Z
LAST-MODIFIED:20230919T085741Z
UID:10000516-1696611600-1696633200@www.activityoptions.com
SUMMARY:• BINGO! and Dinner
DESCRIPTION:Early dinner followed by Bingo at The Bingo Company in Arvada. Free for Denver residents and Colorado Respite. Private pay $99 \nRegister Online\n 
URL:https://www.activityoptions.com/event/bingo-and-dinner-12/
LOCATION:The BINGO Company\, 6520 Wadsworth Blvd Ste 100\, Arvada\, Colorado\, 80003
ATTACH;FMTTYPE=image/png:https://www.activityoptions.com/wp-content/uploads/2020/01/BINGOco.png
ORGANIZER;CN="Activity Options LLC /Project World PBC":MAILTO:signup@activityoptions.com
END:VEVENT
END:VCALENDAR