BEGIN:VCALENDAR
VERSION:2.0
PRODID:-//Activity Options - ECPv6.15.20//NONSGML v1.0//EN
CALSCALE:GREGORIAN
METHOD:PUBLISH
X-WR-CALNAME:Activity Options
X-ORIGINAL-URL:https://www.activityoptions.com
X-WR-CALDESC:Events for Activity Options
REFRESH-INTERVAL;VALUE=DURATION:PT1H
X-Robots-Tag:noindex
X-PUBLISHED-TTL:PT1H
BEGIN:VTIMEZONE
TZID:UTC
BEGIN:STANDARD
TZOFFSETFROM:+0000
TZOFFSETTO:+0000
TZNAME:UTC
DTSTART:20220101T000000
END:STANDARD
END:VTIMEZONE
BEGIN:VEVENT
DTSTART;TZID=UTC:20230720T163000
DTEND;TZID=UTC:20230720T220000
DTSTAMP:20260423T222035
CREATED:20230605T202258Z
LAST-MODIFIED:20230605T202258Z
UID:10000491-1689870600-1689890400@www.activityoptions.com
SUMMARY:•Rocky Mtn. Pro Wrestling Thursday Night Games
DESCRIPTION:Attend the weekly games of Rocky Mountain Pro Wrestling and learn the ins and out of wrestling. Free for Denver residents and Colorado Respite. Private Pay $35. \nRegister Online
URL:https://www.activityoptions.com/event/rocky-mtn-pro-wrestling-thursday-night-games-3/
LOCATION:Rocky Mountain Pro and Al Snow Wrestling Academy\, 2170 W Yale Ave\, Englewood\, CO\, 80110
ATTACH;FMTTYPE=image/png:https://www.activityoptions.com/wp-content/uploads/2022/04/RMProWresstling.png
ORGANIZER;CN="Activity Options LLC /Project World PBC":MAILTO:signup@activityoptions.com
END:VEVENT
BEGIN:VEVENT
DTSTART;TZID=UTC:20230716T090000
DTEND;TZID=UTC:20230716T170000
DTSTAMP:20260423T222035
CREATED:20230605T201847Z
LAST-MODIFIED:20230605T201847Z
UID:10000490-1689498000-1689526800@www.activityoptions.com
SUMMARY:•Mountain Fishing
DESCRIPTION:Join Donna and friends for a fishing trip to the mountains. Free for Denver residents and Colorado Respite. Private Pay $59. \nRegister Online
URL:https://www.activityoptions.com/event/mountain-fishing/
LOCATION:Colorado Outdoors\, CO
ATTACH;FMTTYPE=image/png:https://www.activityoptions.com/wp-content/uploads/2023/06/MountFishing.png
ORGANIZER;CN="Activity Options LLC /Project World PBC":MAILTO:signup@activityoptions.com
GEO:39.5500507;-105.7820674
END:VEVENT
BEGIN:VEVENT
DTSTART;TZID=UTC:20230715T070000
DTEND;TZID=UTC:20230719T190000
DTSTAMP:20260423T222035
CREATED:20230131T001543Z
LAST-MODIFIED:20230605T211853Z
UID:10000445-1689404400-1689793200@www.activityoptions.com
SUMMARY:•TRAVEL Colorado Road Trip
DESCRIPTION:Road trip to So. Colorado. Day 1\, Great Sand Dunes\, and Hooper Pool with a stay at the only Drive in Movie Motel in the country. Day 2\, Wolf Creek Pass and stay in Pagosa Springs with a dunk in the mineral baths. Day 3\, Durango with a trip on the Iron Horse Train to Silverton and then on to Crested butte. Day 4\, home via cottonwood Pass. Travel in 12 passenger van. Wheelchair possible with ability to self-transfer. Free for Denver residents and Colorado Respite. Private pay cost $1200 \nRegister Online
URL:https://www.activityoptions.com/event/travelcolorado-road-trip/
LOCATION:Colorado
ATTACH;FMTTYPE=image/png:https://www.activityoptions.com/wp-content/uploads/2021/06/Roadtrip.png
ORGANIZER;CN="Activity Options LLC /Project World PBC":MAILTO:signup@activityoptions.com
END:VEVENT
BEGIN:VEVENT
DTSTART;TZID=UTC:20230714T090000
DTEND;TZID=UTC:20230714T170000
DTSTAMP:20260423T222035
CREATED:20230602T173250Z
LAST-MODIFIED:20230602T173250Z
UID:10000489-1689325200-1689354000@www.activityoptions.com
SUMMARY:•Horse Back Riding at Keystone Ranch
DESCRIPTION:Drive to Keystone Ranch and join an experienced wrangler for a trail ride in the mountain around Keystone. No experience necessary but must be able to sit upright on a horse and hold the reins. This is not therapy riding! Free for Denver residents and Colorado Respite. Private Pay $159. \nRegister Online
URL:https://www.activityoptions.com/event/horse-back-riding-at-keystone-ranch/
LOCATION:Keystone Colorado\, CO
ATTACH;FMTTYPE=image/png:https://www.activityoptions.com/wp-content/uploads/2022/07/SalidaHBride.png
ORGANIZER;CN="Activity Options LLC /Project World PBC":MAILTO:signup@activityoptions.com
END:VEVENT
BEGIN:VEVENT
DTSTART;TZID=UTC:20230708T090000
DTEND;TZID=UTC:20230708T180000
DTSTAMP:20260423T222035
CREATED:20230602T172817Z
LAST-MODIFIED:20230605T211417Z
UID:10000488-1688806800-1688839200@www.activityoptions.com
SUMMARY:•Renaissance Festival
DESCRIPTION:Attend the Celtic Weekend at the Renaissance Festival in Larkspur. Games\, contests\, costumes and food from Ireland and beyond. Free for Denver residents and Colorado Respite. Private Pay $59. \nRegister Online
URL:https://www.activityoptions.com/event/renaissance-festival/
LOCATION:Larkspur Colorado\, CO
ATTACH;FMTTYPE=image/png:https://www.activityoptions.com/wp-content/uploads/2023/06/RenFestCO.png
ORGANIZER;CN="Activity Options LLC /Project World PBC":MAILTO:signup@activityoptions.com
END:VEVENT
BEGIN:VEVENT
DTSTART;TZID=UTC:20230707T170000
DTEND;TZID=UTC:20230707T200000
DTSTAMP:20260423T222035
CREATED:20230602T170340Z
LAST-MODIFIED:20230602T195342Z
UID:10000487-1688749200-1688760000@www.activityoptions.com
SUMMARY:•Top Golf
DESCRIPTION:You don’t have to know how to swing a club to join us for the\, first ever\, Top Golf Party! Come and enjoy this unique venue and the fresh evening air. Free for Denver residents and Colorado Respite. Private Pay $75. \nRegister Online
URL:https://www.activityoptions.com/event/top-golf-2/
LOCATION:Top Golf Denver\, 10601 E Easter Ave\, Centennial\, CO\, 80112\, United States
ATTACH;FMTTYPE=image/png:https://www.activityoptions.com/wp-content/uploads/2022/04/TopGolf.png
ORGANIZER;CN="Activity Options LLC /Project World PBC":MAILTO:signup@activityoptions.com
END:VEVENT
BEGIN:VEVENT
DTSTART;TZID=UTC:20230703T110000
DTEND;TZID=UTC:20230703T160000
DTSTAMP:20260423T222035
CREATED:20230602T051259Z
LAST-MODIFIED:20230602T051259Z
UID:10000486-1688382000-1688400000@www.activityoptions.com
SUMMARY:•4th of July Party!
DESCRIPTION:BBQ and Fun with Friends! Free for Denver residents and Colorado Respite. Private Pay $25. \nRegister Online
URL:https://www.activityoptions.com/event/4th-of-july-party/
LOCATION:Activity Options Community Center (Arvada)\, 7401 W 59th Ave\, Arvada\, Colorado\, 80003
ATTACH;FMTTYPE=image/jpeg:https://www.activityoptions.com/wp-content/uploads/2019/04/July4thBBQ.jpg
ORGANIZER;CN="Activity Options LLC /Project World PBC":MAILTO:signup@activityoptions.com
END:VEVENT
BEGIN:VEVENT
DTSTART;TZID=UTC:20230701T180000
DTEND;TZID=UTC:20230701T210000
DTSTAMP:20260423T222035
CREATED:20230602T040004Z
LAST-MODIFIED:20230602T040340Z
UID:10000484-1688234400-1688245200@www.activityoptions.com
SUMMARY:•Cooking Class
DESCRIPTION:Season 3 of cooking with the stars! (YOU). Plan\, shop\, prepare and cook seasonal favorites. Free for Denver residents and Colorado Respite. Private Pay $35. \nRegister Online
URL:https://www.activityoptions.com/event/cooking-class-10/
LOCATION:Activity Options Community Center (Arvada)\, 7401 W 59th Ave\, Arvada\, Colorado\, 80003
ATTACH;FMTTYPE=image/png:https://www.activityoptions.com/wp-content/uploads/2023/03/CookingClass.png
ORGANIZER;CN="Activity Options LLC /Project World PBC":MAILTO:signup@activityoptions.com
END:VEVENT
BEGIN:VEVENT
DTSTART;TZID=UTC:20230701T170000
DTEND;TZID=UTC:20230701T230000
DTSTAMP:20260423T222035
CREATED:20230602T042103Z
LAST-MODIFIED:20230602T042103Z
UID:10000485-1688230800-1688252400@www.activityoptions.com
SUMMARY:•Saturday Night Club (SNL)
DESCRIPTION:Enjoy the evening with friends at the West Community Center. Dinner and movie/games. Free for Denver residents and Colorado Respite. Private Pay $59. \nRegister Online
URL:https://www.activityoptions.com/event/saturday-night-club-snl-27/
LOCATION:Activity Options Community Center (Arvada)\, 7401 W 59th Ave\, Arvada\, Colorado\, 80003
ATTACH;FMTTYPE=image/png:https://www.activityoptions.com/wp-content/uploads/2021/04/SNL-sq.png
ORGANIZER;CN="Activity Options LLC /Project World PBC":MAILTO:signup@activityoptions.com
END:VEVENT
BEGIN:VEVENT
DTSTART;TZID=UTC:20230630T090000
DTEND;TZID=UTC:20230630T170000
DTSTAMP:20260423T222035
CREATED:20230601T234600Z
LAST-MODIFIED:20230601T234600Z
UID:10000483-1688115600-1688144400@www.activityoptions.com
SUMMARY:•Horse Back Riding at Winter Park Stables
DESCRIPTION:Drive to Winter Park and join an experienced wrangler for a trail ride in the mountain around Winter Park. No experience necessary but must be able to sit upright on a horse and hold the reins. This is not therapy riding! Free for Denver residents and Colorado Respite. Private Pay $99. \nRegister Online
URL:https://www.activityoptions.com/event/horse-back-riding-at-winter-park-stables/
LOCATION:Colorado Outdoors\, CO
ATTACH;FMTTYPE=image/png:https://www.activityoptions.com/wp-content/uploads/2022/07/SalidaHBride.png
ORGANIZER;CN="Activity Options LLC /Project World PBC":MAILTO:signup@activityoptions.com
GEO:39.5500507;-105.7820674
END:VEVENT
BEGIN:VEVENT
DTSTART;TZID=UTC:20230625T073000
DTEND;TZID=UTC:20230625T163000
DTSTAMP:20260423T222035
CREATED:20230601T233907Z
LAST-MODIFIED:20230601T233907Z
UID:10000482-1687678200-1687710600@www.activityoptions.com
SUMMARY:•Rafting on Clear Creek
DESCRIPTION:Splash through the easy waters of Clear Creek on a 2 hour rafting trip. Followed by lunch. Free for Denver residents and Colorado Respite. Private Pay $159. \nRegister Online
URL:https://www.activityoptions.com/event/rafting-on-clear-creek-2/
LOCATION:Colorado Outdoors\, CO
ATTACH;FMTTYPE=image/png:https://www.activityoptions.com/wp-content/uploads/2022/06/Rafting.png
ORGANIZER;CN="Activity Options LLC /Project World PBC":MAILTO:signup@activityoptions.com
GEO:39.5500507;-105.7820674
END:VEVENT
BEGIN:VEVENT
DTSTART;TZID=UTC:20230623T170000
DTEND;TZID=UTC:20230623T210000
DTSTAMP:20260423T222035
CREATED:20230601T211837Z
LAST-MODIFIED:20230601T211837Z
UID:10000481-1687539600-1687554000@www.activityoptions.com
SUMMARY:•Monthly Dinner Group
DESCRIPTION:This month\, we’re going to the El Rancho Brewery. Watch the mountain sunset with delicious food. Possibility of live music. Free for Denver residents and Colorado Respite. Private Pay $59. \nRegister Online
URL:https://www.activityoptions.com/event/monthly-dinner-group-7/
LOCATION:El Rancho Restuarant\, 29260 US-40\, Evergreen\, CO\, 80439
ATTACH;FMTTYPE=image/png:https://www.activityoptions.com/wp-content/uploads/2023/06/ElRancho.png
ORGANIZER;CN="Activity Options LLC /Project World PBC":MAILTO:signup@activityoptions.com
END:VEVENT
BEGIN:VEVENT
DTSTART;TZID=UTC:20230617T070000
DTEND;TZID=UTC:20230619T190000
DTSTAMP:20260423T222035
CREATED:20230122T180251Z
LAST-MODIFIED:20230605T211646Z
UID:10000423-1686985200-1687201200@www.activityoptions.com
SUMMARY:TRAVEL Summit County Discovery
DESCRIPTION:TRAVEL\, JUNE 17-19 (3 days / 2 nights) \n2 nights in Frisco Inn\, explore Summit County and Vail. Indoor and outdoor fun\, adventure and food! Free for Denver residents and Colorado Respite. Private Pay $599. \nRegister Online\n  \n 
URL:https://www.activityoptions.com/event/travelnew-york-city/
LOCATION:Summit County Colorado\, Colorado
ATTACH;FMTTYPE=image/png:https://www.activityoptions.com/wp-content/uploads/2021/06/Summer-Summit-County.png
ORGANIZER;CN="Activity Options LLC /Project World PBC":MAILTO:signup@activityoptions.com
GEO:39.5500507;-105.7820674
END:VEVENT
BEGIN:VEVENT
DTSTART;TZID=UTC:20230616T170000
DTEND;TZID=UTC:20230616T210000
DTSTAMP:20260423T222035
CREATED:20230601T204543Z
LAST-MODIFIED:20230601T210221Z
UID:10000480-1686934800-1686949200@www.activityoptions.com
SUMMARY:•Dinner and Dance at Recreation Center
DESCRIPTION:Dinner and dance! Party down at Buck Recreation Center in Littleton. This month’s theme is “It’s 5:00 Somewhere!” Free for Denver residents and Colorado Respite. Private Pay $39. \nRegister Online
URL:https://www.activityoptions.com/event/dinner-and-dance-recreation-center/
LOCATION:Buck Recreation Center\, 2004 W Powers Ave\, Littleton\, CO\, 80120
ATTACH;FMTTYPE=image/jpeg:https://www.activityoptions.com/wp-content/uploads/2017/11/Dance-Party-sq.jpg
ORGANIZER;CN="Activity Options LLC /Project World PBC":MAILTO:signup@activityoptions.com
END:VEVENT
BEGIN:VEVENT
DTSTART;TZID=UTC:20230615T170000
DTEND;TZID=UTC:20230615T210000
DTSTAMP:20260423T222035
CREATED:20230601T164351Z
LAST-MODIFIED:20230601T164351Z
UID:10000479-1686848400-1686862800@www.activityoptions.com
SUMMARY:•Rocky Mtn. Pro Wrestling Thursday Night Games
DESCRIPTION:Attend the weekly games of Rocky Mountain Pro Wrestling and learn the ins and out of wrestling. Free for Denver residents and Colorado Respite. Private Pay $35. \nRegister Online
URL:https://www.activityoptions.com/event/rocky-mtn-pro-wrestling-thursday-night-games-2/
LOCATION:Rocky Mountain Pro and Al Snow Wrestling Academy\, 2170 W Yale Ave\, Englewood\, CO\, 80110
ATTACH;FMTTYPE=image/png:https://www.activityoptions.com/wp-content/uploads/2022/04/RMProWresstling.png
ORGANIZER;CN="Activity Options LLC /Project World PBC":MAILTO:signup@activityoptions.com
END:VEVENT
BEGIN:VEVENT
DTSTART;TZID=UTC:20230610T160000
DTEND;TZID=UTC:20230610T210000
DTSTAMP:20260423T222035
CREATED:20230601T163939Z
LAST-MODIFIED:20230601T163939Z
UID:10000478-1686412800-1686430800@www.activityoptions.com
SUMMARY:•Smooth Alpaca Experience
DESCRIPTION:Early dinner and then visit the Red Rock Alpaca ranch and interact with the 7 resident alpacas and 3 goats. Free for Denver residents and Colorado Respite. Private Pay $59. \nRegister Online
URL:https://www.activityoptions.com/event/smooth-alpaca-experience/
LOCATION:Smooth Alpaca\, 25828 Rocasa Trl\, Golden\, Colorado\, 80403
ATTACH;FMTTYPE=image/png:https://www.activityoptions.com/wp-content/uploads/2023/06/Alpaca.png
ORGANIZER;CN="Activity Options LLC /Project World PBC":MAILTO:signup@activityoptions.com
END:VEVENT
BEGIN:VEVENT
DTSTART;TZID=UTC:20230609T170000
DTEND;TZID=UTC:20230609T200000
DTSTAMP:20260423T222035
CREATED:20230601T161328Z
LAST-MODIFIED:20230601T161328Z
UID:10000477-1686330000-1686340800@www.activityoptions.com
SUMMARY:•Top Golf
DESCRIPTION:You don’t have to know how to swing a club to join us for the\, first ever\, Top Golf Party! Come and enjoy this unique venue and the fresh evening air. Free for Denver residents and Colorado Respite. Private Pay $75. \nRegister Online
URL:https://www.activityoptions.com/event/top-golf/
LOCATION:Top Golf Denver\, 10601 E Easter Ave\, Centennial\, CO\, 80112\, United States
ATTACH;FMTTYPE=image/png:https://www.activityoptions.com/wp-content/uploads/2022/04/TopGolf.png
ORGANIZER;CN="Activity Options LLC /Project World PBC":MAILTO:signup@activityoptions.com
END:VEVENT
BEGIN:VEVENT
DTSTART;TZID=UTC:20230604T130000
DTEND;TZID=UTC:20230604T180000
DTSTAMP:20260423T222035
CREATED:20230601T155815Z
LAST-MODIFIED:20230601T155815Z
UID:10000476-1685883600-1685901600@www.activityoptions.com
SUMMARY:•Surprise Outdoor Activity!
DESCRIPTION:Surprise outdoor activity. See what’s in store in the mountains depending on the weather. Always includes a meal and fun. Free for Denver residents and Colorado Respite. Private Pay $25. \nRegister Online
URL:https://www.activityoptions.com/event/surprise-outdoor-activity/
LOCATION:Activity Options Community Center (Arvada)\, 7401 W 59th Ave\, Arvada\, Colorado\, 80003
ATTACH;FMTTYPE=image/png:https://www.activityoptions.com/wp-content/uploads/2020/08/TBDevent.png
ORGANIZER;CN="Activity Options LLC /Project World PBC":MAILTO:signup@activityoptions.com
END:VEVENT
BEGIN:VEVENT
DTSTART;TZID=UTC:20230603T170000
DTEND;TZID=UTC:20230603T220000
DTSTAMP:20260423T222035
CREATED:20230531T000912Z
LAST-MODIFIED:20230605T211103Z
UID:10000474-1685811600-1685829600@www.activityoptions.com
SUMMARY:•Saturday Night Club (SNL)
DESCRIPTION:Join Saturday Night Club (SNL) and enjoy the company of friends.Enjoy a movie and dinner at our Center or discover what’s open in town. Free for Denver residents and Colorado Respite. Private Pay $25. \nRegister Online\n 
URL:https://www.activityoptions.com/event/saturday-night-club-snl-26/
LOCATION:Activity Options Community Center (Arvada)\, 7401 W 59th Ave\, Arvada\, Colorado\, 80003
ATTACH;FMTTYPE=image/png:https://www.activityoptions.com/wp-content/uploads/2021/04/SNL-sq.png
ORGANIZER;CN="Activity Options LLC /Project World PBC":MAILTO:signup@activityoptions.com
END:VEVENT
BEGIN:VEVENT
DTSTART;TZID=UTC:20230529T110000
DTEND;TZID=UTC:20230529T150000
DTSTAMP:20260423T222035
CREATED:20230324T061259Z
LAST-MODIFIED:20230324T061259Z
UID:10000473-1685358000-1685372400@www.activityoptions.com
SUMMARY:• Memorial Day Party!
DESCRIPTION:Bring in summer at this annual party at the West Community Center in Arvada. Food\, games and fun! Free for Denver residents and Colorado Respite. Private pay $25. \nRegister Online
URL:https://www.activityoptions.com/event/memorial-day-party-3/
LOCATION:Activity Options Community Center (Arvada)\, 7401 W 59th Ave\, Arvada\, Colorado\, 80003
ATTACH;FMTTYPE=image/png:https://www.activityoptions.com/wp-content/uploads/2022/04/Memorial-Day.png
ORGANIZER;CN="Activity Options LLC /Project World PBC":MAILTO:signup@activityoptions.com
END:VEVENT
BEGIN:VEVENT
DTSTART;TZID=UTC:20230527T160000
DTEND;TZID=UTC:20230527T230000
DTSTAMP:20260423T222035
CREATED:20230324T060911Z
LAST-MODIFIED:20230324T060911Z
UID:10000472-1685203200-1685228400@www.activityoptions.com
SUMMARY:• Flying W Ranch Monthly Dinner Group
DESCRIPTION:Short road trip to Colorado Springs for a Chuck wagon dinner and show. Tour of ranch before show. Free for Denver residents and Colorado Respite. Private pay $99. \nRegister Online
URL:https://www.activityoptions.com/event/flying-w-ranch-monthly-dinner-group/
LOCATION:Flying W Ranch\, 3330 Chuckwagon Rd\, Colorado Springs\, CO\, 80919
ATTACH;FMTTYPE=image/png:https://www.activityoptions.com/wp-content/uploads/2022/07/FlyingW.png
ORGANIZER;CN="Activity Options LLC /Project World PBC":MAILTO:signup@activityoptions.com
END:VEVENT
BEGIN:VEVENT
DTSTART;TZID=UTC:20230521T120000
DTEND;TZID=UTC:20230521T170000
DTSTAMP:20260423T222035
CREATED:20230324T060445Z
LAST-MODIFIED:20230508T191249Z
UID:10000471-1684670400-1684688400@www.activityoptions.com
SUMMARY:Cheyenne Mountain Zoo
DESCRIPTION:Road trip to Colorado Springs to visit the world famous Cheyenne Mountain Zoo.  Take in some other sights and have a great meal. \nRegister Online
URL:https://www.activityoptions.com/event/surprise-activity/
LOCATION:Activity Options Community Center (Arvada)\, 7401 W 59th Ave\, Arvada\, Colorado\, 80003
ATTACH;FMTTYPE=image/png:https://www.activityoptions.com/wp-content/uploads/2020/08/TBDevent.png
ORGANIZER;CN="Activity Options LLC /Project World PBC":MAILTO:signup@activityoptions.com
END:VEVENT
BEGIN:VEVENT
DTSTART;TZID=UTC:20230520T170000
DTEND;TZID=UTC:20230520T220000
DTSTAMP:20260423T222035
CREATED:20230324T060013Z
LAST-MODIFIED:20230324T060013Z
UID:10000470-1684602000-1684620000@www.activityoptions.com
SUMMARY:• Saturday Night Club SNL
DESCRIPTION:Join Saturday Night Club (SNL) and enjoy the company of friends. Enjoy a movie and dinner at our Center or discover what’s open in town. Free for Denver residents and Colorado Respite. Private pay $25. \nRegister Online
URL:https://www.activityoptions.com/event/saturday-night-club-snl-25/
LOCATION:Activity Options Community Center (Arvada)\, 7401 W 59th Ave\, Arvada\, Colorado\, 80003
ATTACH;FMTTYPE=image/png:https://www.activityoptions.com/wp-content/uploads/2021/04/SNL-sq.png
ORGANIZER;CN="Activity Options LLC /Project World PBC":MAILTO:signup@activityoptions.com
END:VEVENT
BEGIN:VEVENT
DTSTART;TZID=UTC:20230520T140000
DTEND;TZID=UTC:20230520T180000
DTSTAMP:20260423T222035
CREATED:20230324T055603Z
LAST-MODIFIED:20230324T055603Z
UID:10000469-1684591200-1684605600@www.activityoptions.com
SUMMARY:• Cooking Class
DESCRIPTION:Continue building your cooking skills at this monthly cooking get together and enjoy the fruits of your efforts for dinner. Free for Denver residents and Colorado Respite. Private pay $25. \nRegister Online
URL:https://www.activityoptions.com/event/cooking-class-9/
LOCATION:Activity Options Community Center (Arvada)\, 7401 W 59th Ave\, Arvada\, Colorado\, 80003
ATTACH;FMTTYPE=image/png:https://www.activityoptions.com/wp-content/uploads/2023/03/CookingClass.png
ORGANIZER;CN="Activity Options LLC /Project World PBC":MAILTO:signup@activityoptions.com
END:VEVENT
BEGIN:VEVENT
DTSTART;TZID=UTC:20230518T170000
DTEND;TZID=UTC:20230518T210000
DTSTAMP:20260423T222035
CREATED:20230324T053414Z
LAST-MODIFIED:20230324T063759Z
UID:10000468-1684429200-1684443600@www.activityoptions.com
SUMMARY:• Rocky Mtn. Pro Wrestling
DESCRIPTION:Attend the weekly games of Rocky Mountain Pro Wrestling and learn the ins and out of wrestling. Free for Denver residents and Colorado Respite. Private pay $35. \nRegister Online\n 
URL:https://www.activityoptions.com/event/rocky-mtn-pro-wrestling-2/
LOCATION:Rocky Mountain Pro and Al Snow Wrestling Academy\, 2170 W Yale Ave\, Englewood\, CO\, 80110
ATTACH;FMTTYPE=image/png:https://www.activityoptions.com/wp-content/uploads/2022/04/RMProWresstling.png
ORGANIZER;CN="Activity Options LLC /Project World PBC":MAILTO:signup@activityoptions.com
END:VEVENT
BEGIN:VEVENT
DTSTART;TZID=UTC:20230512T170000
DTEND;TZID=UTC:20230512T230000
DTSTAMP:20260423T222035
CREATED:20230324T053028Z
LAST-MODIFIED:20230324T053028Z
UID:10000467-1683910800-1683932400@www.activityoptions.com
SUMMARY:• Rockies vs. Kansas City
DESCRIPTION:Cheer on the Rockies at Coord Field. Includes a meal. Free for Denver residents and Colorado Respite. Private pay $99. \nRegister Online
URL:https://www.activityoptions.com/event/rockies-vs-kansas-city-2/
LOCATION:COORS FIELD\, 2001 Blake St\, Denver\, CO\, 80205
ATTACH;FMTTYPE=image/png:https://www.activityoptions.com/wp-content/uploads/2022/06/Rockies.png
ORGANIZER;CN="Activity Options LLC /Project World PBC":MAILTO:signup@activityoptions.com
GEO:39.7559779;-104.9933491
X-APPLE-STRUCTURED-LOCATION;VALUE=URI;X-ADDRESS=COORS FIELD 2001 Blake St Denver CO 80205;X-APPLE-RADIUS=500;X-TITLE=2001 Blake St:geo:-104.9933491,39.7559779
END:VEVENT
BEGIN:VEVENT
DTSTART;TZID=UTC:20230506T170000
DTEND;TZID=UTC:20230506T230000
DTSTAMP:20260423T222035
CREATED:20230324T052554Z
LAST-MODIFIED:20230324T052554Z
UID:10000466-1683392400-1683414000@www.activityoptions.com
SUMMARY:• Impractical Jokers Live
DESCRIPTION:In person show at Bellco Theater featuring this comedy duo and their pranks. Dinner before the show. Free for Denver residents and Colorado Respite. Private pay $129. \nRegister Online
URL:https://www.activityoptions.com/event/impractical-jokers-live/
LOCATION:Bellco Theater\, Colorado Convention Center 700 14th St\, Denver\, 80202\, United States
ATTACH;FMTTYPE=image/png:https://www.activityoptions.com/wp-content/uploads/2023/03/Jokers.png
ORGANIZER;CN="Activity Options LLC /Project World PBC":MAILTO:signup@activityoptions.com
GEO:39.7425826;-104.9963079
X-APPLE-STRUCTURED-LOCATION;VALUE=URI;X-ADDRESS=Bellco Theater Colorado Convention Center 700 14th St Denver 80202 United States;X-APPLE-RADIUS=500;X-TITLE=Colorado Convention Center 700 14th St:geo:-104.9963079,39.7425826
END:VEVENT
BEGIN:VEVENT
DTSTART;TZID=UTC:20230505T170000
DTEND;TZID=UTC:20230505T230000
DTSTAMP:20260423T222035
CREATED:20230324T051758Z
LAST-MODIFIED:20230324T051758Z
UID:10000465-1683306000-1683327600@www.activityoptions.com
SUMMARY:• BINGO! and Dinner
DESCRIPTION:Early dinner followed by Bingo at The Bingo Company in Arvada. Join the circle of winners! Free for Denver residents and Colorado Respite. Private pay $79. \nRegister Online\n 
URL:https://www.activityoptions.com/event/bingo-and-dinner-11/
LOCATION:The BINGO Company\, 6520 Wadsworth Blvd Ste 100\, Arvada\, Colorado\, 80003
ATTACH;FMTTYPE=image/png:https://www.activityoptions.com/wp-content/uploads/2020/01/BINGOco.png
ORGANIZER;CN="Activity Options LLC /Project World PBC":MAILTO:signup@activityoptions.com
END:VEVENT
BEGIN:VEVENT
DTSTART;TZID=UTC:20230429T170000
DTEND;TZID=UTC:20230429T220000
DTSTAMP:20260423T222035
CREATED:20230324T045933Z
LAST-MODIFIED:20230324T045933Z
UID:10000464-1682787600-1682805600@www.activityoptions.com
SUMMARY:• Saturday Night Club SNL
DESCRIPTION:Join Saturday Night Club (SNL) and enjoy the company of friends. Could be movie and dinner at our Center or discover what’s open in town. Free for Denver residents and Colorado Respite. Private pay $25. \nRegister Online
URL:https://www.activityoptions.com/event/saturday-night-club-snl-24/
LOCATION:Activity Options Community Center (Arvada)\, 7401 W 59th Ave\, Arvada\, Colorado\, 80003
ATTACH;FMTTYPE=image/png:https://www.activityoptions.com/wp-content/uploads/2021/04/SNL-sq.png
ORGANIZER;CN="Activity Options LLC /Project World PBC":MAILTO:signup@activityoptions.com
END:VEVENT
BEGIN:VEVENT
DTSTART;TZID=UTC:20230428T170000
DTEND;TZID=UTC:20230428T210000
DTSTAMP:20260423T222035
CREATED:20230324T045601Z
LAST-MODIFIED:20230508T190952Z
UID:10000463-1682701200-1682715600@www.activityoptions.com
SUMMARY:• Monthly Dinner Group at Cenzetti's
DESCRIPTION:This month\, we’re going to Benihana’s in Belmar. Yum!! Free for Denver residents and Colorado Respite. Private pay $99. \nRegister Online
URL:https://www.activityoptions.com/event/monthly-dinner-group-at-benihana/
LOCATION:Activity Options Community Center (Arvada)\, 7401 W 59th Ave\, Arvada\, Colorado\, 80003
ATTACH;FMTTYPE=image/png:https://www.activityoptions.com/wp-content/uploads/2022/03/Dinner-Group.png
ORGANIZER;CN="Activity Options LLC /Project World PBC":MAILTO:signup@activityoptions.com
END:VEVENT
END:VCALENDAR