BEGIN:VCALENDAR
VERSION:2.0
PRODID:-//Activity Options - ECPv6.15.20//NONSGML v1.0//EN
CALSCALE:GREGORIAN
METHOD:PUBLISH
X-WR-CALNAME:Activity Options
X-ORIGINAL-URL:https://www.activityoptions.com
X-WR-CALDESC:Events for Activity Options
REFRESH-INTERVAL;VALUE=DURATION:PT1H
X-Robots-Tag:noindex
X-PUBLISHED-TTL:PT1H
BEGIN:VTIMEZONE
TZID:UTC
BEGIN:STANDARD
TZOFFSETFROM:+0000
TZOFFSETTO:+0000
TZNAME:UTC
DTSTART:20220101T000000
END:STANDARD
END:VTIMEZONE
BEGIN:VEVENT
DTSTART;TZID=UTC:20230423T090000
DTEND;TZID=UTC:20230423T170000
DTSTAMP:20260424T033254
CREATED:20230324T045206Z
LAST-MODIFIED:20230324T045206Z
UID:10000462-1682240400-1682269200@www.activityoptions.com
SUMMARY:• Pikes Peak Cog Railroad and surrounding area!
DESCRIPTION:Depart from Manitou Springs at noon for a ride up the new cog railroad to the top of Pikes Peak. After descending\, visit Colorado Springs and have a meal. Home later afternoon. Free for Denver residents and Colorado Respite. \nRegister Online
URL:https://www.activityoptions.com/event/pikes-peak-cog-railroad-and-surrounding-area/
LOCATION:Pikes Peak Cog Railway\, 515 Ruxton Ave\, Manitou Springs\, CO\, 80829\, United States
ATTACH;FMTTYPE=image/png:https://www.activityoptions.com/wp-content/uploads/2023/03/CogRailroad.png
ORGANIZER;CN="Activity Options LLC /Project World PBC":MAILTO:signup@activityoptions.com
END:VEVENT
BEGIN:VEVENT
DTSTART;TZID=UTC:20230421T170000
DTEND;TZID=UTC:20230421T230000
DTSTAMP:20260424T033254
CREATED:20230324T044035Z
LAST-MODIFIED:20230324T044035Z
UID:10000461-1682096400-1682118000@www.activityoptions.com
SUMMARY:• Luau Dance at Clements Community Center
DESCRIPTION:Go to the Rise Dance at Clements Center in Lakewood. Dinner beforehand. Free for Denver residents and Colorado Respite. Private pay $59. \nRegister Online
URL:https://www.activityoptions.com/event/luau-dance-at-clements-community-center/
LOCATION:Clements Center\, 1580 Yarrow St\, Lakewood\, CO\, 80214\, United States
ATTACH;FMTTYPE=image/png:https://www.activityoptions.com/wp-content/uploads/2023/03/LuauDance.png
ORGANIZER;CN="Activity Options LLC /Project World PBC":MAILTO:signup@activityoptions.com
END:VEVENT
BEGIN:VEVENT
DTSTART;TZID=UTC:20230420T170000
DTEND;TZID=UTC:20230420T230000
DTSTAMP:20260424T033254
CREATED:20230324T043053Z
LAST-MODIFIED:20230324T043053Z
UID:10000460-1682010000-1682031600@www.activityoptions.com
SUMMARY:• Rocky Mtn Pro Wrestling
DESCRIPTION:Watch the taping of the Rocky Mountain Pro Wrestling Summit – featuring Marty the Moth\, Sledge\, Christi Jaynes and more. Free for Denver residents and Colorado Respite. Private pay $59. \nRegister Online
URL:https://www.activityoptions.com/event/rocky-mtn-pro-wrestling/
LOCATION:Rocky Mountain Pro and Al Snow Wrestling Academy\, 2170 W Yale Ave\, Englewood\, CO\, 80110
ATTACH;FMTTYPE=image/png:https://www.activityoptions.com/wp-content/uploads/2022/04/RMProWresstling.png
ORGANIZER;CN="Activity Options LLC /Project World PBC":MAILTO:signup@activityoptions.com
END:VEVENT
BEGIN:VEVENT
DTSTART;TZID=UTC:20230414T170000
DTEND;TZID=UTC:20230414T230000
DTSTAMP:20260424T033254
CREATED:20230324T042714Z
LAST-MODIFIED:20230324T042714Z
UID:10000459-1681491600-1681513200@www.activityoptions.com
SUMMARY:• Joshua Bell with the CSO
DESCRIPTION:Hear this world famous violinist perform with the Colorado Symphony. Classical concert. Free for Denver residents and Colorado Respite. Private pay $99. \nRegister Online
URL:https://www.activityoptions.com/event/joshua-bell-with-the-cso/
LOCATION:Colorado Symphony Orchastra at Boettcher Concert Hall\, 1000 14th St\, Denver\, CO\, 80202
ATTACH;FMTTYPE=image/png:https://www.activityoptions.com/wp-content/uploads/2023/03/JoshuaBell.png
ORGANIZER;CN="Activity Options LLC /Project World PBC":MAILTO:signup@activityoptions.com
GEO:39.7453479;-104.9980736
X-APPLE-STRUCTURED-LOCATION;VALUE=URI;X-ADDRESS=Colorado Symphony Orchastra at Boettcher Concert Hall 1000 14th St Denver CO 80202;X-APPLE-RADIUS=500;X-TITLE=1000 14th St:geo:-104.9980736,39.7453479
END:VEVENT
BEGIN:VEVENT
DTSTART;TZID=UTC:20230413T070000
DTEND;TZID=UTC:20230416T170000
DTSTAMP:20260424T033254
CREATED:20230121T010840Z
LAST-MODIFIED:20230121T011600Z
UID:10000421-1681369200-1681664400@www.activityoptions.com
SUMMARY:TRAVEL• Nashville Country Music Tour
DESCRIPTION:Enjoy Nashville from the Hotel Gaylord Opryland\, an adventure in itself. Attend the Luke Combs concert as well as a night the Grand Old Opry House. Visit the Country Western Music Hall of Fame and other famous landmarks. Free for Denver Residents and Respite. Private pay cost $2\,900. \nRegister Online\n 
URL:https://www.activityoptions.com/event/nashville-country-music-tour/
LOCATION:Grand Ole Opry\, 2800 Opryland Dr\, Nashville\, TN\, 37214\, United States
ATTACH;FMTTYPE=image/png:https://www.activityoptions.com/wp-content/uploads/2023/01/Nashville2023.png
ORGANIZER;CN="Activity Options LLC /Project World PBC":MAILTO:signup@activityoptions.com
END:VEVENT
BEGIN:VEVENT
DTSTART;TZID=UTC:20230409T130000
DTEND;TZID=UTC:20230409T160000
DTSTAMP:20260424T033254
CREATED:20230324T041730Z
LAST-MODIFIED:20230324T041730Z
UID:10000458-1681045200-1681056000@www.activityoptions.com
SUMMARY:• Easter Dinner at the Golden Corral
DESCRIPTION:Looking for friends to spend Easter with? Join us for this annual “family” trip to the Golden Corral. Free for Denver residents and Colorado Respite. Private pay $59. \nRegister Online\n 
URL:https://www.activityoptions.com/event/easter-dinner-at-the-golden-corral/
LOCATION:Activity Options Community Center (Arvada)\, 7401 W 59th Ave\, Arvada\, Colorado\, 80003
ATTACH;FMTTYPE=image/png:https://www.activityoptions.com/wp-content/uploads/2023/03/EasterDinner.png
ORGANIZER;CN="Activity Options LLC /Project World PBC":MAILTO:signup@activityoptions.com
END:VEVENT
BEGIN:VEVENT
DTSTART;TZID=UTC:20230408T170000
DTEND;TZID=UTC:20230408T230000
DTSTAMP:20260424T033254
CREATED:20230324T040929Z
LAST-MODIFIED:20230324T040929Z
UID:10000457-1680973200-1680994800@www.activityoptions.com
SUMMARY:• Disney on Ice "Let's Celebrate"
DESCRIPTION:Have fun at this Disney show at the Coliseum featuring over 50 Disney characters. Free for Denver residents and Colorado Respite. Private pay $129. \nRegister Online
URL:https://www.activityoptions.com/event/disney-on-ice-lets-celebrate/
LOCATION:Denver Coliseum\, 4600 Humboldt St\, Denver\, CO\, 80216\, United States
ATTACH;FMTTYPE=image/png:https://www.activityoptions.com/wp-content/uploads/2023/03/DisneyLetsCelebrate.png
ORGANIZER;CN="Activity Options LLC /Project World PBC":MAILTO:signup@activityoptions.com
END:VEVENT
BEGIN:VEVENT
DTSTART;TZID=UTC:20230407T180000
DTEND;TZID=UTC:20230407T200000
DTSTAMP:20260424T033254
CREATED:20230324T035720Z
LAST-MODIFIED:20230324T035720Z
UID:10000456-1680890400-1680897600@www.activityoptions.com
SUMMARY:• Top Golf Party
DESCRIPTION:Join us for a night with dinner at the Centennial Top Golf. You don’t have to be a golfer to have fun. Free for Denver residents and C0lorado Respite. Private pay $89 \nRegister Online
URL:https://www.activityoptions.com/event/top-golf-party-4/
LOCATION:Top Golf Centennial\, 10601 E Easter Ave\, Centennial\, CO\, 80112\, United States
ATTACH;FMTTYPE=image/png:https://www.activityoptions.com/wp-content/uploads/2022/04/TopGolf.png
ORGANIZER;CN="Activity Options LLC /Project World PBC":MAILTO:signup@activityoptions.com
END:VEVENT
BEGIN:VEVENT
DTSTART;TZID=UTC:20230402T110000
DTEND;TZID=UTC:20230402T170000
DTSTAMP:20260424T033254
CREATED:20230324T035243Z
LAST-MODIFIED:20230324T035243Z
UID:10000455-1680433200-1680454800@www.activityoptions.com
SUMMARY:• CSO Concert at Boettcher
DESCRIPTION:Experience the Carnival of the Animals with real live animals from the Denver Zoo onstage with the CSO. Get a classical music education. Free for Denver residents and Colorado Respite. Private pay $99. \nRegister Online
URL:https://www.activityoptions.com/event/cso-concert-at-boettcher/
LOCATION:Colorado Symphony Orchastra at Boettcher Concert Hall\, 1000 14th St\, Denver\, CO\, 80202
ATTACH;FMTTYPE=image/png:https://www.activityoptions.com/wp-content/uploads/2023/03/Carnival.png
ORGANIZER;CN="Activity Options LLC /Project World PBC":MAILTO:signup@activityoptions.com
GEO:39.7453479;-104.9980736
X-APPLE-STRUCTURED-LOCATION;VALUE=URI;X-ADDRESS=Colorado Symphony Orchastra at Boettcher Concert Hall 1000 14th St Denver CO 80202;X-APPLE-RADIUS=500;X-TITLE=1000 14th St:geo:-104.9980736,39.7453479
END:VEVENT
BEGIN:VEVENT
DTSTART;TZID=UTC:20230401T170000
DTEND;TZID=UTC:20230401T220000
DTSTAMP:20260424T033254
CREATED:20230324T034649Z
LAST-MODIFIED:20230324T034649Z
UID:10000454-1680368400-1680386400@www.activityoptions.com
SUMMARY:• Saturday Night Club SNL
DESCRIPTION:Join Saturday Night Club (SNL) and enjoy the company of friends. Enjoy a movie and dinner at our Center or discover what’s open in town. Free for Denver residents and Colorado Respite. Private pay $25. \nRegister Online\n 
URL:https://www.activityoptions.com/event/saturday-night-club-snl-23/
LOCATION:Activity Options Community Center (Arvada)\, 7401 W 59th Ave\, Arvada\, Colorado\, 80003
ATTACH;FMTTYPE=image/png:https://www.activityoptions.com/wp-content/uploads/2021/04/SNL-sq.png
ORGANIZER;CN="Activity Options LLC /Project World PBC":MAILTO:signup@activityoptions.com
END:VEVENT
BEGIN:VEVENT
DTSTART;TZID=UTC:20230401T140000
DTEND;TZID=UTC:20230401T170000
DTSTAMP:20260424T033254
CREATED:20230324T034258Z
LAST-MODIFIED:20230324T034258Z
UID:10000453-1680357600-1680368400@www.activityoptions.com
SUMMARY:• Cooking Class
DESCRIPTION:Come and learn to bake your favorites. We’ll be making 3-4 yummy treats by request. Come with suggestions. Free for Denver residents and Colorado Respite. $25 for private pay. \nRegister Online\n 
URL:https://www.activityoptions.com/event/cooking-class-8/
LOCATION:Activity Options Community Center (Arvada)\, 7401 W 59th Ave\, Arvada\, Colorado\, 80003
ATTACH;FMTTYPE=image/png:https://www.activityoptions.com/wp-content/uploads/2023/03/CookingClassBakingTreats.png
ORGANIZER;CN="Activity Options LLC /Project World PBC":MAILTO:signup@activityoptions.com
END:VEVENT
BEGIN:VEVENT
DTSTART;TZID=UTC:20230326T170000
DTEND;TZID=UTC:20230327T000000
DTSTAMP:20260424T033254
CREATED:20230130T232911Z
LAST-MODIFIED:20230130T232911Z
UID:10000444-1679850000-1679875200@www.activityoptions.com
SUMMARY:•WWE Road to Wrestle Mania!
DESCRIPTION:Watch your favorite stars perform live at Ball Arena. Plan on a late night!!! Free for Denver residents and Colorado Respite. Private pay cost $159 \nRegister Online
URL:https://www.activityoptions.com/event/wwe-road-to-wrestle-mania/
LOCATION:Ball Arena
ORGANIZER;CN="Activity Options LLC /Project World PBC":MAILTO:signup@activityoptions.com
END:VEVENT
BEGIN:VEVENT
DTSTART;TZID=UTC:20230325T170000
DTEND;TZID=UTC:20230325T220000
DTSTAMP:20260424T033254
CREATED:20230205T231604Z
LAST-MODIFIED:20230205T231604Z
UID:10000451-1679763600-1679781600@www.activityoptions.com
SUMMARY:•Comedy Play\, Don’t Dress for Dinner
DESCRIPTION:Come with us to the slap stick local theater production of “Don’t Dress for Dinner”. American Mountaineering Center Theater in Golden. Includes dinner. Free for Denver residents and Colorado Respite. Private pay cost $99. \nRegister Online\n 
URL:https://www.activityoptions.com/event/comedy-play-dont-dress-for-dinner/
LOCATION:American Mountain Center\, 710 10th St\, Golden\, CO\, 80401\, United States
ATTACH;FMTTYPE=image/png:https://www.activityoptions.com/wp-content/uploads/2023/02/ComedyPlayDDD.png
ORGANIZER;CN="Activity Options LLC /Project World PBC":MAILTO:signup@activityoptions.com
END:VEVENT
BEGIN:VEVENT
DTSTART;TZID=UTC:20230324T160000
DTEND;TZID=UTC:20230324T210000
DTSTAMP:20260424T033254
CREATED:20230130T231034Z
LAST-MODIFIED:20230130T231034Z
UID:10000442-1679673600-1679691600@www.activityoptions.com
SUMMARY:•Dinner Club
DESCRIPTION:Have dinner with friends at one of our favorite restaurants. Free for Denver residents and Colorado Respite. Private pay cost $59 \nRegister Online
URL:https://www.activityoptions.com/event/dinner-club/
LOCATION:Activity Options Community Center (Arvada)\, 7401 W 59th Ave\, Arvada\, Colorado\, 80003
ATTACH;FMTTYPE=image/png:https://www.activityoptions.com/wp-content/uploads/2022/03/Dinner-Group.png
ORGANIZER;CN="Activity Options LLC /Project World PBC":MAILTO:signup@activityoptions.com
END:VEVENT
BEGIN:VEVENT
DTSTART;TZID=UTC:20230318T170000
DTEND;TZID=UTC:20230318T220000
DTSTAMP:20260424T033254
CREATED:20230130T230706Z
LAST-MODIFIED:20230130T230706Z
UID:10000441-1679158800-1679176800@www.activityoptions.com
SUMMARY:•Fiddler on the Roof at Buell Theater
DESCRIPTION:See this favorite musical performance live at Buell Theater in Denver. Free for Denver residents and Respite. Private pay cost $149 \nRegister Online
URL:https://www.activityoptions.com/event/fiddler-on-the-roof-at-buell-theater/
LOCATION:Local Theater
ATTACH;FMTTYPE=image/png:https://www.activityoptions.com/wp-content/uploads/2023/01/Fiddler.png
ORGANIZER;CN="Activity Options LLC /Project World PBC":MAILTO:signup@activityoptions.com
END:VEVENT
BEGIN:VEVENT
DTSTART;TZID=UTC:20230317T170000
DTEND;TZID=UTC:20230317T230000
DTSTAMP:20260424T033254
CREATED:20230130T225945Z
LAST-MODIFIED:20230130T225945Z
UID:10000440-1679072400-1679094000@www.activityoptions.com
SUMMARY:•Shamrock Dance at Clements Center
DESCRIPTION:Go to the Rise Dance at Clements Center in Lakewood. Dinner beforehand. Free for Denver residents and Respite. Private pay cost $49 \nRegister Online
URL:https://www.activityoptions.com/event/shamrock-dance-at-clements-center/
LOCATION:Clements Center\, 1580 Yarrow St\, Lakewood\, CO\, 80214\, United States
ATTACH;FMTTYPE=image/png:https://www.activityoptions.com/wp-content/uploads/2023/01/SPDdanceparty.png
ORGANIZER;CN="Activity Options LLC /Project World PBC":MAILTO:signup@activityoptions.com
END:VEVENT
BEGIN:VEVENT
DTSTART;TZID=UTC:20230316T110000
DTEND;TZID=UTC:20230316T170000
DTSTAMP:20260424T033254
CREATED:20230130T223156Z
LAST-MODIFIED:20230130T223156Z
UID:10000439-1678964400-1678986000@www.activityoptions.com
SUMMARY:•Rocky Mountian Pro Wrestling
DESCRIPTION:Watch the taping of the Rocky Mountain Pro Wrestling Summit – featuring Marty the Moth\, Sledge\, Christi Jaynes and more. Free for Denver residents and Respite. Private pay cost $49 \nRegister Online
URL:https://www.activityoptions.com/event/rocky-mountian-pro-wrestling/
LOCATION:Rocky Mountain Pro and Al Snow Wrestling Academy\, 2170 W Yale Ave\, Englewood\, CO\, 80110
ATTACH;FMTTYPE=image/png:https://www.activityoptions.com/wp-content/uploads/2022/04/RMProWresstling.png
ORGANIZER;CN="Activity Options LLC /Project World PBC":MAILTO:signup@activityoptions.com
END:VEVENT
BEGIN:VEVENT
DTSTART;TZID=UTC:20230312T083000
DTEND;TZID=UTC:20230312T143000
DTSTAMP:20260424T033254
CREATED:20230122T222334Z
LAST-MODIFIED:20230225T044120Z
UID:10000435-1678609800-1678631400@www.activityoptions.com
SUMMARY:•Indian Hot Springs\, NEW Date March 12!
DESCRIPTION:Early arrival at these famous tropical hot springs near Idaho Springs. Lunch afterwards. Free for Denver residents and Respite. Private pay cost $129 \nRegister Online
URL:https://www.activityoptions.com/event/indian-hot-springs-3/
LOCATION:Indian Hot Springs\, 302 Soda Creek Rd\, Idaho Springs\, CO\, 80452
ATTACH;FMTTYPE=image/jpeg:https://www.activityoptions.com/wp-content/uploads/2018/02/Indiam-Hot-Springs-sq.jpg
ORGANIZER;CN="Activity Options LLC /Project World PBC":MAILTO:signup@activityoptions.com
GEO:39.7392563;-105.512617
X-APPLE-STRUCTURED-LOCATION;VALUE=URI;X-ADDRESS=Indian Hot Springs 302 Soda Creek Rd Idaho Springs CO 80452;X-APPLE-RADIUS=500;X-TITLE=302 Soda Creek Rd:geo:-105.512617,39.7392563
END:VEVENT
BEGIN:VEVENT
DTSTART;TZID=UTC:20230311T170000
DTEND;TZID=UTC:20230311T220000
DTSTAMP:20260424T033254
CREATED:20230130T222815Z
LAST-MODIFIED:20230130T222815Z
UID:10000438-1678554000-1678572000@www.activityoptions.com
SUMMARY:•Harlem Globe Trotters
DESCRIPTION:Free for Denver residents and Respite. Private pay cost $TBD \nRegister Online
URL:https://www.activityoptions.com/event/harlem-globe-trotters-2/
LOCATION:1st Bank Center\, 11450 Broomfield Ln\, Broomfield\, CO\, 80021
ORGANIZER;CN="Activity Options LLC /Project World PBC":MAILTO:signup@activityoptions.com
GEO:39.904576;-105.085448
X-APPLE-STRUCTURED-LOCATION;VALUE=URI;X-ADDRESS=1st Bank Center 11450 Broomfield Ln Broomfield CO 80021;X-APPLE-RADIUS=500;X-TITLE=11450 Broomfield Ln:geo:-105.085448,39.904576
END:VEVENT
BEGIN:VEVENT
DTSTART;TZID=UTC:20230305T140000
DTEND;TZID=UTC:20230305T180000
DTSTAMP:20260424T033254
CREATED:20230130T222212Z
LAST-MODIFIED:20230130T222212Z
UID:10000437-1678024800-1678039200@www.activityoptions.com
SUMMARY:•Urban Putt Mini Golf
DESCRIPTION:Afternoon at the best theme putt putt golf located in the old trolley building in downtown Denver. Free for Denver residents and Respite. Private pay cost $99 \nRegister Online
URL:https://www.activityoptions.com/event/urban-putt-mini-golf/
LOCATION:Urban Putt\, 1201 18th St\, Denver\, CO\, 80202
ATTACH;FMTTYPE=image/png:https://www.activityoptions.com/wp-content/uploads/2020/01/UrbanPutt.png
ORGANIZER;CN="Activity Options LLC /Project World PBC":MAILTO:signup@activityoptions.com
END:VEVENT
BEGIN:VEVENT
DTSTART;TZID=UTC:20230304T170000
DTEND;TZID=UTC:20230304T210000
DTSTAMP:20260424T033254
CREATED:20230130T221829Z
LAST-MODIFIED:20230130T221829Z
UID:10000436-1677949200-1677963600@www.activityoptions.com
SUMMARY:•Karaoke Night
DESCRIPTION:Try out your talent and join in the fun! Free for Denver residents and Respite. Private pay cost $35 \nRegister Online
URL:https://www.activityoptions.com/event/karaoke-night-2/
LOCATION:Activity Options Community Center (Arvada)\, 7401 W 59th Ave\, Arvada\, Colorado\, 80003
ATTACH;FMTTYPE=image/png:https://www.activityoptions.com/wp-content/uploads/2022/04/Karaoke.png
ORGANIZER;CN="Activity Options LLC /Project World PBC":MAILTO:signup@activityoptions.com
END:VEVENT
BEGIN:VEVENT
DTSTART;TZID=UTC:20230303T073000
DTEND;TZID=UTC:20230303T163000
DTSTAMP:20260424T033254
CREATED:20230122T221406Z
LAST-MODIFIED:20230225T045812Z
UID:10000433-1677828600-1677861000@www.activityoptions.com
SUMMARY:•Skiing and Snowboarding at Loveland\, NEW Date March 3!
DESCRIPTION:Hit the slopes and enjoy the great Colorado conditions at Loveland Ski Area. Rental equipment\, lunch and transportation included. Must have some experience as lessons are not provided\, but don’t worry. You’ll be with an experienced guide who can help navigate the details. Free for Denver residents and Respite. Private pay cost $250 \nRegister Online
URL:https://www.activityoptions.com/event/skiing-and-snowboarding-at-loveland/
LOCATION:Loveland & Keystone\, Colorado
ATTACH;FMTTYPE=image/png:https://www.activityoptions.com/wp-content/uploads/2022/01/Ski-Snowboard.png
ORGANIZER;CN="Activity Options LLC /Project World PBC":MAILTO:signup@activityoptions.com
GEO:39.5500507;-105.7820674
END:VEVENT
BEGIN:VEVENT
DTSTART;TZID=UTC:20230225T170000
DTEND;TZID=UTC:20230225T210000
DTSTAMP:20260424T033254
CREATED:20230122T221951Z
LAST-MODIFIED:20230122T221951Z
UID:10000434-1677344400-1677358800@www.activityoptions.com
SUMMARY:•Saturday Night Club SNL
DESCRIPTION:Join Saturday Night Club (SNL) and enjoy the company of friends. Enjoy a movie and dinner at our Center or discover what’s open in town. Free for Denver residents and Respite. Private pay cost $35 \nRegister Online
URL:https://www.activityoptions.com/event/saturday-night-club-snl-22/
LOCATION:Activity Options Community Center (Arvada)\, 7401 W 59th Ave\, Arvada\, Colorado\, 80003
ATTACH;FMTTYPE=image/png:https://www.activityoptions.com/wp-content/uploads/2021/04/SNL-sq.png
ORGANIZER;CN="Activity Options LLC /Project World PBC":MAILTO:signup@activityoptions.com
END:VEVENT
BEGIN:VEVENT
DTSTART;TZID=UTC:20230225T070000
DTEND;TZID=UTC:20230226T190000
DTSTAMP:20260424T033254
CREATED:20230120T185217Z
LAST-MODIFIED:20230120T185302Z
UID:10000420-1677308400-1677438000@www.activityoptions.com
SUMMARY:• Black Hawk Overnight
DESCRIPTION:Overnight at the Ameristar Hotel. Saturday Feb 25 – Sunday Feb 26.\nEnjoy the roof top pools\, good food and friends. Maybe you’ll even get lucky!! Free for Denver residents and Respite. $450 for private pay. \nRegister Online
URL:https://www.activityoptions.com/event/black-hawk-overnight/
LOCATION:Ameristar Black Hawk\, 111 Richman St\, Black Hawk\, CO\, 80422
ATTACH;FMTTYPE=image/jpeg:https://www.activityoptions.com/wp-content/uploads/2018/09/Ameristar-sq.jpg
ORGANIZER;CN="Activity Options LLC /Project World PBC":MAILTO:signup@activityoptions.com
GEO:39.8000053;-105.4891878
X-APPLE-STRUCTURED-LOCATION;VALUE=URI;X-ADDRESS=Ameristar Black Hawk 111 Richman St Black Hawk CO 80422;X-APPLE-RADIUS=500;X-TITLE=111 Richman St:geo:-105.4891878,39.8000053
END:VEVENT
BEGIN:VEVENT
DTSTART;TZID=UTC:20230224T170000
DTEND;TZID=UTC:20230224T210000
DTSTAMP:20260424T033254
CREATED:20230202T075557Z
LAST-MODIFIED:20230202T075604Z
UID:10000450-1677258000-1677272400@www.activityoptions.com
SUMMARY:•Dinner Club
DESCRIPTION:Visit a local restaurant favorite with friends. Free for Denver residents and Colorado Respite. Private pay cost $59. \nRegister Online\n 
URL:https://www.activityoptions.com/event/diner-club/
LOCATION:Activity Options Community Center (Arvada)\, 7401 W 59th Ave\, Arvada\, Colorado\, 80003
ATTACH;FMTTYPE=image/png:https://www.activityoptions.com/wp-content/uploads/2022/03/Dinner-Group.png
ORGANIZER;CN="Activity Options LLC /Project World PBC":MAILTO:signup@activityoptions.com
END:VEVENT
BEGIN:VEVENT
DTSTART;TZID=UTC:20230223T170000
DTEND;TZID=UTC:20230223T210000
DTSTAMP:20260424T033254
CREATED:20230122T220915Z
LAST-MODIFIED:20230122T220915Z
UID:10000432-1677171600-1677186000@www.activityoptions.com
SUMMARY:•Rocky Mountain Pro Wrestling
DESCRIPTION:Attend this local performance and see the local greats duke it out. Free for Denver residents and Respite. Private pay cost $59 \nRegister Online
URL:https://www.activityoptions.com/event/rocky-mountain-pro-wrestling-2/
LOCATION:Rocky Mountain Pro and Al Snow Wrestling Academy\, 2170 W Yale Ave\, Englewood\, CO\, 80110
ATTACH;FMTTYPE=image/png:https://www.activityoptions.com/wp-content/uploads/2022/04/RMProWresstling.png
ORGANIZER;CN="Activity Options LLC /Project World PBC":MAILTO:signup@activityoptions.com
END:VEVENT
BEGIN:VEVENT
DTSTART;TZID=UTC:20230219T120000
DTEND;TZID=UTC:20230219T180000
DTSTAMP:20260424T033254
CREATED:20230122T220531Z
LAST-MODIFIED:20230122T220531Z
UID:10000431-1676808000-1676829600@www.activityoptions.com
SUMMARY:•CSO Presents Intergalactic Symphony Spectacular
DESCRIPTION:Join the CSO at Boettcher for the performance of some themed favorites. Concert includes music from Close Encounters of the 3rd Kind\, E.T.\, and Star Wars. Free for Denver residents and Respite. Private pay cost $99 \nRegister Online
URL:https://www.activityoptions.com/event/cso-presents-intergalactic-symphony-spectacular/
LOCATION:Colorado Symphony Orchastra at Boettcher Concert Hall\, 1000 14th St\, Denver\, CO\, 80202
ATTACH;FMTTYPE=image/png:https://www.activityoptions.com/wp-content/uploads/2023/01/CSOIntergalactic.png
ORGANIZER;CN="Activity Options LLC /Project World PBC":MAILTO:signup@activityoptions.com
GEO:39.7453479;-104.9980736
X-APPLE-STRUCTURED-LOCATION;VALUE=URI;X-ADDRESS=Colorado Symphony Orchastra at Boettcher Concert Hall 1000 14th St Denver CO 80202;X-APPLE-RADIUS=500;X-TITLE=1000 14th St:geo:-104.9980736,39.7453479
END:VEVENT
BEGIN:VEVENT
DTSTART;TZID=UTC:20230217T170000
DTEND;TZID=UTC:20230217T220000
DTSTAMP:20260424T033254
CREATED:20230122T215844Z
LAST-MODIFIED:20230122T215844Z
UID:10000430-1676653200-1676671200@www.activityoptions.com
SUMMARY:•Clement's Center Valentine's Dance
DESCRIPTION:Get together for dinner and then go to the famed Clement’s Dance for a Valentine celebration. Free for Denver residents and Respite. Private pay cost $99 \nRegister Online
URL:https://www.activityoptions.com/event/clements-center-valentines-dance/
LOCATION:Clements Center\, 1580 Yarrow St\, Lakewood\, CO\, 80214\, United States
ATTACH;FMTTYPE=image/png:https://www.activityoptions.com/wp-content/uploads/2023/01/VDayDance.png
ORGANIZER;CN="Activity Options LLC /Project World PBC":MAILTO:signup@activityoptions.com
END:VEVENT
BEGIN:VEVENT
DTSTART;TZID=UTC:20230212T140000
DTEND;TZID=UTC:20230212T210000
DTSTAMP:20260424T033254
CREATED:20230122T214117Z
LAST-MODIFIED:20230122T214117Z
UID:10000429-1676210400-1676235600@www.activityoptions.com
SUMMARY:•Super Bowl Party!
DESCRIPTION:Watch Super Bowl LVII with friends at the West Community Center. Includes dinner. Free for Denver residents and Respite. Private pay cost $35 \nRegister Onlne
URL:https://www.activityoptions.com/event/super-bowl-party/
LOCATION:Activity Options Community Center (Arvada)\, 7401 W 59th Ave\, Arvada\, Colorado\, 80003
ATTACH;FMTTYPE=image/png:https://www.activityoptions.com/wp-content/uploads/2023/01/SuperBowl-2023.png
ORGANIZER;CN="Activity Options LLC /Project World PBC":MAILTO:signup@activityoptions.com
END:VEVENT
BEGIN:VEVENT
DTSTART;TZID=UTC:20230210T170000
DTEND;TZID=UTC:20230210T220000
DTSTAMP:20260424T033254
CREATED:20230122T192405Z
LAST-MODIFIED:20230122T192405Z
UID:10000428-1676048400-1676066400@www.activityoptions.com
SUMMARY:•BINGO! and Dinner
DESCRIPTION:Early dinner followed by Bingo at The Bingo Company in Arvada. Free for Denver residents and Respite. Private pay cost $99 \nRegister Online
URL:https://www.activityoptions.com/event/bingo-and-dinner-10/
LOCATION:The BINGO Company\, 6520 Wadsworth Blvd Ste 100\, Arvada\, Colorado\, 80003
ATTACH;FMTTYPE=image/png:https://www.activityoptions.com/wp-content/uploads/2020/01/BINGOco.png
ORGANIZER;CN="Activity Options LLC /Project World PBC":MAILTO:signup@activityoptions.com
END:VEVENT
END:VCALENDAR