BEGIN:VCALENDAR
VERSION:2.0
PRODID:-//Activity Options - ECPv6.15.20//NONSGML v1.0//EN
CALSCALE:GREGORIAN
METHOD:PUBLISH
X-WR-CALNAME:Activity Options
X-ORIGINAL-URL:https://www.activityoptions.com
X-WR-CALDESC:Events for Activity Options
REFRESH-INTERVAL;VALUE=DURATION:PT1H
X-Robots-Tag:noindex
X-PUBLISHED-TTL:PT1H
BEGIN:VTIMEZONE
TZID:UTC
BEGIN:STANDARD
TZOFFSETFROM:+0000
TZOFFSETTO:+0000
TZNAME:UTC
DTSTART:20230101T000000
END:STANDARD
END:VTIMEZONE
BEGIN:VEVENT
DTSTART;TZID=UTC:20240926T080000
DTEND;TZID=UTC:20241005T230000
DTSTAMP:20260423T203505
CREATED:20240221T124629Z
LAST-MODIFIED:20240221T124629Z
UID:10000581-1727337600-1728169200@www.activityoptions.com
SUMMARY:•Buddy Cruise
DESCRIPTION:Caribbean Cruise – REGISTER NOW!!! September 26 – October 5\, 11 days / 10 nights \nJoin the Buddy Cruise Conference aboard Royal Caribbean’s Adventures of the Seas and cruise from Orlando to St. Croix\, St Thomas\, Puerto Rico and Jamaica. (For more info see\, www.buddycruise.org). Use your membership w/ a $1\,500 co-pay for Mill Levy participants. Or private pay $5\,900. If the event is full please join the waitlist so we know you are interested. \nRegister Online\n 
URL:https://www.activityoptions.com/event/buddy-cruise/
LOCATION:Activity Options Community Center (Arvada)\, 7401 W 59th Ave\, Arvada\, Colorado\, 80003
ATTACH;FMTTYPE=image/png:https://www.activityoptions.com/wp-content/uploads/2024/02/BuddyCruise.png
ORGANIZER;CN="Activity Options LLC /Project World PBC":MAILTO:signup@activityoptions.com
END:VEVENT
BEGIN:VEVENT
DTSTART;TZID=UTC:20240921T160000
DTEND;TZID=UTC:20240921T210000
DTSTAMP:20260423T203505
CREATED:20240808T034113Z
LAST-MODIFIED:20240808T034113Z
UID:10000644-1726934400-1726952400@www.activityoptions.com
SUMMARY:SNL Movie Night
DESCRIPTION:Join Saturday Night Club (SNL) and enjoy the company of friends. Enjoy a movie and dinner at our Center. Free for Denver residents. $59 for private pay. If the activity is full please join the wait list so we know you are interested. \nRegister Online
URL:https://www.activityoptions.com/event/snl-movie-night-4/
LOCATION:Activity Options Community Center (Arvada)\, 7401 W 59th Ave\, Arvada\, Colorado\, 80003
ATTACH;FMTTYPE=image/png:https://www.activityoptions.com/wp-content/uploads/2021/04/SNL-sq.png
ORGANIZER;CN="Activity Options LLC /Project World PBC":MAILTO:signup@activityoptions.com
END:VEVENT
BEGIN:VEVENT
DTSTART;TZID=UTC:20240921T120000
DTEND;TZID=UTC:20240921T170000
DTSTAMP:20260423T203505
CREATED:20240808T033926Z
LAST-MODIFIED:20240808T033926Z
UID:10000643-1726920000-1726938000@www.activityoptions.com
SUMMARY:Cooking Class
DESCRIPTION:Develop a meal plan\, shop and then start the feast!  Something for everyone to do. Best of all\, eat!!!  Free for Denver residents. $49 for private pay. If the activity is full please join the wait list so we know you are interested. \nRegister Online
URL:https://www.activityoptions.com/event/cooking-class-14/
LOCATION:Activity Options Community Center (Arvada)\, 7401 W 59th Ave\, Arvada\, Colorado\, 80003
ATTACH;FMTTYPE=image/png:https://www.activityoptions.com/wp-content/uploads/2022/04/CookingClassMay.png
ORGANIZER;CN="Activity Options LLC /Project World PBC":MAILTO:signup@activityoptions.com
END:VEVENT
BEGIN:VEVENT
DTSTART;TZID=UTC:20240920T160000
DTEND;TZID=UTC:20240920T210000
DTSTAMP:20260423T203505
CREATED:20240808T033756Z
LAST-MODIFIED:20240808T033756Z
UID:10000642-1726848000-1726866000@www.activityoptions.com
SUMMARY:Rec Center Dance
DESCRIPTION:Join old friends for the community dance back at  Celments Center. Free for Denver residents. $35 for private pay. If the activity is full please join the wait list so we know you are interested. \nRegister Online\n 
URL:https://www.activityoptions.com/event/rec-center-dance-2/
LOCATION:Clements Center\, 1580 Yarrow St\, Lakewood\, CO\, 80214\, United States
ATTACH;FMTTYPE=image/png:https://www.activityoptions.com/wp-content/uploads/2024/02/Dance-Feet.png
ORGANIZER;CN="Activity Options LLC /Project World PBC":MAILTO:signup@activityoptions.com
END:VEVENT
BEGIN:VEVENT
DTSTART;TZID=UTC:20240915T120000
DTEND;TZID=UTC:20240915T170000
DTSTAMP:20260423T203505
CREATED:20240808T033550Z
LAST-MODIFIED:20240808T033619Z
UID:10000641-1726401600-1726419600@www.activityoptions.com
SUMMARY:Football Party at Center West
DESCRIPTION:Cheer on the Broncos as they meet the Pittsburg Steelers in a pre-season game. Free for Denver residents. $39 for private pay. If the activity is full please join the wait list so we know you are interested. \nRegister Online
URL:https://www.activityoptions.com/event/football-party-at-center-west/
LOCATION:Activity Options Community Center (Arvada)\, 7401 W 59th Ave\, Arvada\, Colorado\, 80003
ATTACH;FMTTYPE=image/png:https://www.activityoptions.com/wp-content/uploads/2022/01/Broncos-Football.png
ORGANIZER;CN="Activity Options LLC /Project World PBC":MAILTO:signup@activityoptions.com
END:VEVENT
BEGIN:VEVENT
DTSTART;TZID=UTC:20240914T160000
DTEND;TZID=UTC:20240914T230000
DTSTAMP:20260423T203505
CREATED:20240808T033330Z
LAST-MODIFIED:20240808T033330Z
UID:10000640-1726329600-1726354800@www.activityoptions.com
SUMMARY:Pentatonix Concert Fiddler's Green
DESCRIPTION:Pentatonix reimagine\, reinvigorate\, and redefine a cappella. Free for Denver residents. $159 private pay. If the activity is full please join the wait list so we know you are interested. \nRegister Online
URL:https://www.activityoptions.com/event/pentatonix-concert-fiddlers-green/
LOCATION:Fiddlers Green Amphitheater\, 6350 Greenwood Plaza Blvd\, Greenwood Village\, CO\, 80111\, United States
ATTACH;FMTTYPE=image/png:https://www.activityoptions.com/wp-content/uploads/2024/08/Pentatonix.png
ORGANIZER;CN="Activity Options LLC /Project World PBC":MAILTO:signup@activityoptions.com
END:VEVENT
BEGIN:VEVENT
DTSTART;TZID=UTC:20240913T170000
DTEND;TZID=UTC:20240913T200000
DTSTAMP:20260423T203505
CREATED:20240808T033133Z
LAST-MODIFIED:20240808T033133Z
UID:10000639-1726246800-1726257600@www.activityoptions.com
SUMMARY:Top Golf
DESCRIPTION:You don’t have to know how to swing a club to join us for a fun time at Top Golf! Come and enjoy this unique venue and the fresh evening air. Free for Denver resident. $99 for privater pay. If the activity is full please join the wait list so we know you are interested. \nRegister Online
URL:https://www.activityoptions.com/event/top-golf-8/
LOCATION:Top Golf Denver\, 10601 E Easter Ave\, Centennial\, CO\, 80112\, United States
ATTACH;FMTTYPE=image/png:https://www.activityoptions.com/wp-content/uploads/2022/04/TopGolf.png
ORGANIZER;CN="Activity Options LLC /Project World PBC":MAILTO:signup@activityoptions.com
END:VEVENT
BEGIN:VEVENT
DTSTART;TZID=UTC:20240908T100000
DTEND;TZID=UTC:20240908T170000
DTSTAMP:20260423T203505
CREATED:20240808T032934Z
LAST-MODIFIED:20240808T032934Z
UID:10000638-1725789600-1725814800@www.activityoptions.com
SUMMARY:Argo Mine Tour Idaho Springs
DESCRIPTION:Argo Mine Tour Idaho SpringsTour the Argo Mill and Tunnel\, a national historic landmark in Idaho Springs. Learn about the gold mining history and travel deep into the mine tunnel.  Must be able to go in small\, dark spaces and walk over uneven surfaces. Free for Denver residents. $99 for private pay. If the activity is full please join the wait list so we know you are interested. \nRegister Online
URL:https://www.activityoptions.com/event/argo-mine-tour-idaho-springs/
LOCATION:Argo  Mine Idaho Springs\, 2350 Riverside Dr\, Idaho Springs\, CO\, 80452\, United States
ATTACH;FMTTYPE=image/png:https://www.activityoptions.com/wp-content/uploads/2024/08/Screenshot-2024-08-07-at-2.19.04 PM.png
ORGANIZER;CN="Activity Options LLC /Project World PBC":MAILTO:signup@activityoptions.com
END:VEVENT
BEGIN:VEVENT
DTSTART;TZID=UTC:20240907T160000
DTEND;TZID=UTC:20240907T230000
DTSTAMP:20260423T203505
CREATED:20240808T032521Z
LAST-MODIFIED:20240808T032521Z
UID:10000637-1725724800-1725750000@www.activityoptions.com
SUMMARY:Rocky Mountain Pro Wrestling
DESCRIPTION:Join at action at the new location at he Jefferson County Fair Grounds.  Live wrestling drama. Dinner at Appleridge Café. Free for Denver residents. Private pay $99. If the activity is full please join the wait list so we know you are interested. \nRegister Online
URL:https://www.activityoptions.com/event/rocky-mountain-pro-wrestling-7/
LOCATION:Jeffco Fair Grounds\, 15200 W 6th Ave\, Golden\, CO\, 80401
ATTACH;FMTTYPE=image/png:https://www.activityoptions.com/wp-content/uploads/2022/04/RMProWresstling.png
ORGANIZER;CN="Activity Options LLC /Project World PBC":MAILTO:signup@activityoptions.com
END:VEVENT
BEGIN:VEVENT
DTSTART;TZID=UTC:20240906T090000
DTEND;TZID=UTC:20240906T160000
DTSTAMP:20260423T203505
CREATED:20240808T032318Z
LAST-MODIFIED:20240808T032318Z
UID:10000636-1725613200-1725638400@www.activityoptions.com
SUMMARY:Horse Back Riding
DESCRIPTION:Drive to Keystone and join an experienced wrangler for a trail ride in the mountain around Winter Park.  No experience necessary but must be able to sit upright on a horse and hold the reins. This is not therapy riding! Free for Denver residents. $159 private pay. If the activity is full please join the wait list so we know that you are interested. \nRegister Online
URL:https://www.activityoptions.com/event/horse-back-riding-2/
LOCATION:Keystone Colorado\, CO
ATTACH;FMTTYPE=image/png:https://www.activityoptions.com/wp-content/uploads/2024/04/SalidaHBride.png
ORGANIZER;CN="Activity Options LLC /Project World PBC":MAILTO:signup@activityoptions.com
END:VEVENT
BEGIN:VEVENT
DTSTART;TZID=UTC:20240902T110000
DTEND;TZID=UTC:20240902T140000
DTSTAMP:20260423T203505
CREATED:20240808T032117Z
LAST-MODIFIED:20240808T032117Z
UID:10000635-1725274800-1725285600@www.activityoptions.com
SUMMARY:Labor Day Party
DESCRIPTION:Celebrate the end of summer with fun\, games and food at the West Community Center. Free for Denver residents. $35 for private pay. if the activity is full please join the waitlist so we know you are interested. \nRegister Online
URL:https://www.activityoptions.com/event/labor-day-party-3/
LOCATION:Activity Options Community Center (Arvada)\, 7401 W 59th Ave\, Arvada\, Colorado\, 80003
ATTACH;FMTTYPE=image/png:https://www.activityoptions.com/wp-content/uploads/2022/08/LaborDayParty.png
ORGANIZER;CN="Activity Options LLC /Project World PBC":MAILTO:signup@activityoptions.com
END:VEVENT
BEGIN:VEVENT
DTSTART;TZID=UTC:20240901T110000
DTEND;TZID=UTC:20240901T160000
DTSTAMP:20260423T203505
CREATED:20240808T031847Z
LAST-MODIFIED:20240808T041343Z
UID:10000634-1725188400-1725206400@www.activityoptions.com
SUMMARY:Hiking Club to Squaw Pass Road
DESCRIPTION:Hike to fire lookout on Squaw Mtn and experience majestic overlooks. Lunch at Blackbird Café in Kittredge. Free for Denver residents. $59 private pay. If the activity is full please join the wait list so we know that you are interested. \nRegister Online
URL:https://www.activityoptions.com/event/hiking-club-to-squaw-pass-road/
LOCATION:Colorado Outdoors\, CO
ATTACH;FMTTYPE=image/png:https://www.activityoptions.com/wp-content/uploads/2024/08/HikingClub.png
ORGANIZER;CN="Activity Options LLC /Project World PBC":MAILTO:signup@activityoptions.com
GEO:39.5500507;-105.7820674
END:VEVENT
BEGIN:VEVENT
DTSTART;TZID=UTC:20240831T160000
DTEND;TZID=UTC:20240831T230000
DTSTAMP:20260423T203505
CREATED:20240619T060103Z
LAST-MODIFIED:20240619T060103Z
UID:10000633-1725120000-1725145200@www.activityoptions.com
SUMMARY:•Chuck Wagon Dinner at Flying W Ranch in Colorado Springs
DESCRIPTION:Enjoy a chuckwagon dinner and Original Western Musical Show. Free for Denver residents. Private pay $199. If the activity is full please join the waitlist so we know you are interested. \nRegister Online
URL:https://www.activityoptions.com/event/chuck-wagon-dinner-at-flying-w-ranch-in-colorado-springs-2/
LOCATION:Flying W Ranch\, 3330 Chuckwagon Rd\, Colorado Springs\, CO\, 80919
ATTACH;FMTTYPE=image/png:https://www.activityoptions.com/wp-content/uploads/2022/07/FlyingW.png
ORGANIZER;CN="Activity Options LLC /Project World PBC":MAILTO:signup@activityoptions.com
END:VEVENT
BEGIN:VEVENT
DTSTART;TZID=UTC:20240825T080000
DTEND;TZID=UTC:20240825T190000
DTSTAMP:20260423T203505
CREATED:20240619T055907Z
LAST-MODIFIED:20240619T055907Z
UID:10000632-1724572800-1724612400@www.activityoptions.com
SUMMARY:•RZR Ride in Kremmling CO
DESCRIPTION:Join the adventure exploring the backcountry around Kremmling in 4 wheel vehicles. Free for Denver residents. Private pay $159. If the activity is full please join the waitlist so we know you are interested. \nRegister Online
URL:https://www.activityoptions.com/event/rzr-ride-in-kremmling-co/
LOCATION:Kremmling Colorado\, Kremmling\, CO
ATTACH;FMTTYPE=image/png:https://www.activityoptions.com/wp-content/uploads/2023/07/RZR.png
ORGANIZER;CN="Activity Options LLC /Project World PBC":MAILTO:signup@activityoptions.com
END:VEVENT
BEGIN:VEVENT
DTSTART;TZID=UTC:20240824T170000
DTEND;TZID=UTC:20240824T210000
DTSTAMP:20260423T203505
CREATED:20240619T055723Z
LAST-MODIFIED:20240619T055723Z
UID:10000631-1724518800-1724533200@www.activityoptions.com
SUMMARY:•SNL Saturday Night Club
DESCRIPTION:Join Saturday Night Club (SNL) and enjoy the company of friends. Enjoy a movie and dinner at our Center or discover what’s open in town. Free for Denver residents. Private pay $40. If the activity is full please join the waitlist so we know you are interested. \nRegister Online
URL:https://www.activityoptions.com/event/snl-saturday-night-club/
LOCATION:Activity Options Community Center (Arvada)\, 7401 W 59th Ave\, Arvada\, Colorado\, 80003
ATTACH;FMTTYPE=image/png:https://www.activityoptions.com/wp-content/uploads/2021/04/SNL-sq.png
ORGANIZER;CN="Activity Options LLC /Project World PBC":MAILTO:signup@activityoptions.com
END:VEVENT
BEGIN:VEVENT
DTSTART;TZID=UTC:20240818T080000
DTEND;TZID=UTC:20240821T200000
DTSTAMP:20260423T203505
CREATED:20240518T185524Z
LAST-MODIFIED:20240518T185524Z
UID:10000614-1723968000-1724270400@www.activityoptions.com
SUMMARY:•Annual Camping Trip
DESCRIPTION:Join the annual camping trip for a 3 night stay at Pearl Lake State Park near Steamboat Lake. This is hard core tent camping with cooking\, campfires\, hiking\, boating\, fishing and/or horse back riding. Visit to Strawberry Hot springs. Gear provided or bring your own. Free for Denver residents. Private pay $899. If the activity is full please join the wait list so we know you are interested. \nRegister Online
URL:https://www.activityoptions.com/event/annual-camping-trip/
LOCATION:Pearl Lake State Park\, 61105 Rcr 129\, Clark\, CO\, 80428
ATTACH;FMTTYPE=image/png:https://www.activityoptions.com/wp-content/uploads/2024/05/PearlLakeCamping.png
ORGANIZER;CN="Activity Options LLC /Project World PBC":MAILTO:signup@activityoptions.com
END:VEVENT
BEGIN:VEVENT
DTSTART;TZID=UTC:20240817T150000
DTEND;TZID=UTC:20240817T200000
DTSTAMP:20260423T203505
CREATED:20240619T055544Z
LAST-MODIFIED:20240619T055544Z
UID:10000630-1723906800-1723924800@www.activityoptions.com
SUMMARY:•Monthly Dinner Group at CASA BONITA!
DESCRIPTION:We’ve been so excited for this Dinner Group – Don’t miss out on our long awaited reservation at the Legendary Casa Bonita!! Free for Denver Residents. Private pay $159. If the activity is full please join the waitlist so we know you are interested. \nRegister Online
URL:https://www.activityoptions.com/event/monthly-dinner-group-at-casa-bonita/
LOCATION:Casa Bonita\, 6715 W Colfax Ave\, Lakewood\, Colorado\, 80214
ATTACH;FMTTYPE=image/png:https://www.activityoptions.com/wp-content/uploads/2024/06/CasaBonita.png
ORGANIZER;CN="Activity Options LLC /Project World PBC":MAILTO:signup@activityoptions.com
END:VEVENT
BEGIN:VEVENT
DTSTART;TZID=UTC:20240811T110000
DTEND;TZID=UTC:20240811T180000
DTSTAMP:20260423T203505
CREATED:20240619T055119Z
LAST-MODIFIED:20240619T055119Z
UID:10000628-1723374000-1723399200@www.activityoptions.com
SUMMARY:•Rockies Baseball at COORS Field
DESCRIPTION:Cheer on the Rockies at an afternoon game. Game time at 1:10! Free for Denver residents. Private pay $159. If the activity is full please join the waitlist so we know you are interested. \nRegister Online
URL:https://www.activityoptions.com/event/rockies-baseball-at-coors-field/
LOCATION:COORS FIELD\, 2001 Blake St\, Denver\, CO\, 80205
ATTACH;FMTTYPE=image/png:https://www.activityoptions.com/wp-content/uploads/2022/06/Rockies.png
ORGANIZER;CN="Activity Options LLC /Project World PBC":MAILTO:signup@activityoptions.com
GEO:39.7559779;-104.9933491
X-APPLE-STRUCTURED-LOCATION;VALUE=URI;X-ADDRESS=COORS FIELD 2001 Blake St Denver CO 80205;X-APPLE-RADIUS=500;X-TITLE=2001 Blake St:geo:-104.9933491,39.7559779
END:VEVENT
BEGIN:VEVENT
DTSTART;TZID=UTC:20240809T170000
DTEND;TZID=UTC:20240809T230000
DTSTAMP:20260423T203505
CREATED:20240619T054927Z
LAST-MODIFIED:20240619T054927Z
UID:10000627-1723222800-1723244400@www.activityoptions.com
SUMMARY:•Phamily Theater Chorus Line
DESCRIPTION:Experience their award winning talent for\, performing plays and musicals that exclusively feature actors with all nature of disabilities: physical\, cognitive\, intellectual\, emotional\, and neurodiverse. Phamily’s mission is to inspire people to re-envision disability through professional theatre. Free for Denver residents. Private pay $159. If the activity is full please join the waitlist so we know you are interested. \nRegister Online\n 
URL:https://www.activityoptions.com/event/phamily-theater-chorus-line/
LOCATION:Phamaly Theater Company\, 711 Park Avenue West\, Denver\, CO\, 80205\, United States
ATTACH;FMTTYPE=image/jpeg:https://www.activityoptions.com/wp-content/uploads/2024/06/Phamaly30Anni.jpg
ORGANIZER;CN="Activity Options LLC /Project World PBC":MAILTO:signup@activityoptions.com
END:VEVENT
BEGIN:VEVENT
DTSTART;TZID=UTC:20240803T080000
DTEND;TZID=UTC:20240803T170000
DTSTAMP:20260423T203505
CREATED:20240619T054657Z
LAST-MODIFIED:20240619T054657Z
UID:10000626-1722672000-1722704400@www.activityoptions.com
SUMMARY:•Pontoon Boating on Dillon Reservoir
DESCRIPTION:Enjoy the best of this beautiful mountain area. Ride a pontoon boat on Dillon Reservoir and explore the area. Free for Denver residents. Private pay $225. If the activity is full please join the waitlist so we know you are interested. \nRegister Online
URL:https://www.activityoptions.com/event/pontoon-boating-on-dillon-reservoir-2/
LOCATION:Dillon Reservoir
ATTACH;FMTTYPE=image/png:https://www.activityoptions.com/wp-content/uploads/2022/07/PontoonDillon.png
ORGANIZER;CN="Activity Options LLC /Project World PBC":MAILTO:signup@activityoptions.com
END:VEVENT
BEGIN:VEVENT
DTSTART;TZID=UTC:20240802T090000
DTEND;TZID=UTC:20240802T170000
DTSTAMP:20260423T203505
CREATED:20240619T054529Z
LAST-MODIFIED:20240619T054529Z
UID:10000625-1722589200-1722618000@www.activityoptions.com
SUMMARY:•Horse Back Riding at Winter Park Stables
DESCRIPTION:Drive to Winter Park and join an experienced wrangler for a trail ride in the mountain around Winter Park.  No experience necessary but must be able to sit upright on a horse and hold the reins.  This is not therapy riding! Free for Denver residents. Private pay $299. If the activity is full please join the waitlist so we know you are interested. \nRegister Online
URL:https://www.activityoptions.com/event/horse-back-riding-at-winter-park-stables-3/
LOCATION:Winter Park Colorado
ATTACH;FMTTYPE=image/png:https://www.activityoptions.com/wp-content/uploads/2024/04/SalidaHBride.png
ORGANIZER;CN="Activity Options LLC /Project World PBC":MAILTO:signup@activityoptions.com
END:VEVENT
BEGIN:VEVENT
DTSTART;TZID=UTC:20240728T090000
DTEND;TZID=UTC:20240728T160000
DTSTAMP:20260423T203505
CREATED:20240619T054346Z
LAST-MODIFIED:20240619T054346Z
UID:10000624-1722157200-1722182400@www.activityoptions.com
SUMMARY:•Swim Day at SPLASH!
DESCRIPTION:Enjoy a day in the sun and water at Golden’s water park\, SPLASH. Free for Denver residents. Private pay $99. If the activity is full please join the waitlist so we know you are interested. \nRegister Online
URL:https://www.activityoptions.com/event/swim-day-at-splash/
LOCATION:Splash Water Park\, 3151 Illinois Street\, Golden\, CO\, 80401
ATTACH;FMTTYPE=image/png:https://www.activityoptions.com/wp-content/uploads/2022/07/Splash.png
ORGANIZER;CN="Activity Options LLC /Project World PBC":MAILTO:signup@activityoptions.com
END:VEVENT
BEGIN:VEVENT
DTSTART;TZID=UTC:20240727T170000
DTEND;TZID=UTC:20240727T210000
DTSTAMP:20260423T203505
CREATED:20240619T054156Z
LAST-MODIFIED:20240619T054156Z
UID:10000623-1722099600-1722114000@www.activityoptions.com
SUMMARY:•Monthly Dinner Group
DESCRIPTION:Enjoy dinner out on the town at a local resturant favorite. Free for Denver residents. Private pay $79. If the activity is full please join the wait list so we know you are interested. \nRegister Online\n 
URL:https://www.activityoptions.com/event/monthly-dinner-group-11/
LOCATION:Activity Options Community Center (Arvada)\, 7401 W 59th Ave\, Arvada\, Colorado\, 80003
ATTACH;FMTTYPE=image/png:https://www.activityoptions.com/wp-content/uploads/2022/03/Dinner-Group.png
ORGANIZER;CN="Activity Options LLC /Project World PBC":MAILTO:signup@activityoptions.com
END:VEVENT
BEGIN:VEVENT
DTSTART;TZID=UTC:20240721T090000
DTEND;TZID=UTC:20240721T180000
DTSTAMP:20260423T203505
CREATED:20240619T053951Z
LAST-MODIFIED:20240619T053951Z
UID:10000622-1721552400-1721584800@www.activityoptions.com
SUMMARY:•Renaissance Festival
DESCRIPTION:Attend the Celtic Weekend at the Renaissance Festival in Larkspur. Games\, contests\, costumes and food from Ireland and beyond. Free for Denver residents. Private pay $159. If the activity is full please join the waitlist so we know you are interested. \nRegister online
URL:https://www.activityoptions.com/event/renaissance-festival-2/
LOCATION:Larkspur Colorado\, CO
ATTACH;FMTTYPE=image/png:https://www.activityoptions.com/wp-content/uploads/2023/06/RenFestCO.png
ORGANIZER;CN="Activity Options LLC /Project World PBC":MAILTO:signup@activityoptions.com
END:VEVENT
BEGIN:VEVENT
DTSTART;TZID=UTC:20240719T160000
DTEND;TZID=UTC:20240719T210000
DTSTAMP:20260423T203505
CREATED:20240619T053755Z
LAST-MODIFIED:20240619T053755Z
UID:10000621-1721404800-1721422800@www.activityoptions.com
SUMMARY:•Buck Center Dance
DESCRIPTION:Dance the night away with friends at the buck Rec Center in Littleton for their summer series. Dinner beforehand. Free for Denver residents. Private pay $79. If the activity is full please join the waitlist so we know you are interested. \nRegister Online
URL:https://www.activityoptions.com/event/buck-center-dance-2/
LOCATION:Buck Recreation Center\, 2004 W Powers Ave\, Littleton\, CO\, 80120
ATTACH;FMTTYPE=image/png:https://www.activityoptions.com/wp-content/uploads/2024/02/Dance-Feet.png
ORGANIZER;CN="Activity Options LLC /Project World PBC":MAILTO:signup@activityoptions.com
END:VEVENT
BEGIN:VEVENT
DTSTART;TZID=UTC:20240714T073000
DTEND;TZID=UTC:20240714T153000
DTSTAMP:20260423T203505
CREATED:20240619T053609Z
LAST-MODIFIED:20240619T053609Z
UID:10000620-1720942200-1720971000@www.activityoptions.com
SUMMARY:•Rafting at Clear Creek
DESCRIPTION:Splash through the easy waters of Clear Creek on a 2 hour rafting trip. Followed by lunch. Free for Denver residents. Private pay $225. If the activity is full please join the waitlist so we know you are interested. \nRegister Online
URL:https://www.activityoptions.com/event/rafting-at-clear-creek/
LOCATION:Colorado Outdoors\, CO
ATTACH;FMTTYPE=image/png:https://www.activityoptions.com/wp-content/uploads/2022/06/Rafting.png
ORGANIZER;CN="Activity Options LLC /Project World PBC":MAILTO:signup@activityoptions.com
GEO:39.5500507;-105.7820674
END:VEVENT
BEGIN:VEVENT
DTSTART;TZID=UTC:20240714T070000
DTEND;TZID=UTC:20240717T190000
DTSTAMP:20260423T203505
CREATED:20240531T163639Z
LAST-MODIFIED:20240531T171733Z
UID:10000615-1720940400-1721242800@www.activityoptions.com
SUMMARY:•Santa Fe & Taos New Mexico Road Trip!
DESCRIPTION:4 days / 3 nights\, July 14-17\, 2024 Spend a few days exploring historic sites and the natural beauty of New Mexico. Free for Denver residents. Private pay $1\,299 inquire about private pay discounts and flexible payment options. If the trip is full please join the wait list so we know you are interested and we will do our best to make sure you are able to attend. \nRegister Online
URL:https://www.activityoptions.com/event/santa-fe-taos-new-mexico-road-trip/
LOCATION:New Mexico
ATTACH;FMTTYPE=image/png:https://www.activityoptions.com/wp-content/uploads/2024/05/NewMexicoRoadTrip.png
ORGANIZER;CN="Activity Options LLC /Project World PBC":MAILTO:signup@activityoptions.com
END:VEVENT
BEGIN:VEVENT
DTSTART;TZID=UTC:20240713T170000
DTEND;TZID=UTC:20240713T210000
DTSTAMP:20260423T203505
CREATED:20240619T053233Z
LAST-MODIFIED:20240619T053233Z
UID:10000619-1720890000-1720904400@www.activityoptions.com
SUMMARY:•Karaoke Night
DESCRIPTION:Try out your talent and join in the fun! Free for Denver residents. Private pay $40. If the activity is full please join the waitlist so we know you are interested. \nRegister Online\n 
URL:https://www.activityoptions.com/event/karaoke-night-3/
LOCATION:Activity Options Community Center (Arvada)\, 7401 W 59th Ave\, Arvada\, Colorado\, 80003
ATTACH;FMTTYPE=image/png:https://www.activityoptions.com/wp-content/uploads/2022/04/Karaoke.png
ORGANIZER;CN="Activity Options LLC /Project World PBC":MAILTO:signup@activityoptions.com
END:VEVENT
BEGIN:VEVENT
DTSTART;TZID=UTC:20240707T090000
DTEND;TZID=UTC:20240707T150000
DTSTAMP:20260423T203505
CREATED:20240619T053043Z
LAST-MODIFIED:20240619T053043Z
UID:10000618-1720342800-1720364400@www.activityoptions.com
SUMMARY:•Day Hike at 3 Sisters Park
DESCRIPTION:Hike around a beautiful State Park just outside Denver\, includes lunch. Free for Denver residents. Private pay $59. If the activity is full please join the waitlist so we know you are interested. \nRegister Online
URL:https://www.activityoptions.com/event/day-hike-at-3-sisters-park/
LOCATION:3 Sister State Park Colorado
ATTACH;FMTTYPE=image/png:https://www.activityoptions.com/wp-content/uploads/2024/05/JonesPass.png
ORGANIZER;CN="Activity Options LLC /Project World PBC":MAILTO:signup@activityoptions.com
END:VEVENT
BEGIN:VEVENT
DTSTART;TZID=UTC:20240706T160000
DTEND;TZID=UTC:20240706T210000
DTSTAMP:20260423T203505
CREATED:20240619T052822Z
LAST-MODIFIED:20240619T052822Z
UID:10000617-1720281600-1720299600@www.activityoptions.com
SUMMARY:•Smooth Alpaca Experience
DESCRIPTION:Early dinner and then visit the Red Rock Alpaca ranch and interact with the 7 resident alpacas and 3 goats.  Free for Denver residents. Private pay $79. If the activity is full please join the waitlist so we know you are interested. \nRegister Online
URL:https://www.activityoptions.com/event/smooth-alpaca-experience-2/
LOCATION:Smooth Alpaca\, 25828 Rocasa Trl\, Golden\, Colorado\, 80403
ATTACH;FMTTYPE=image/png:https://www.activityoptions.com/wp-content/uploads/2023/06/Alpaca.png
ORGANIZER;CN="Activity Options LLC /Project World PBC":MAILTO:signup@activityoptions.com
END:VEVENT
END:VCALENDAR