BEGIN:VCALENDAR
VERSION:2.0
PRODID:-//Activity Options - ECPv6.15.20//NONSGML v1.0//EN
CALSCALE:GREGORIAN
METHOD:PUBLISH
X-WR-CALNAME:Activity Options
X-ORIGINAL-URL:https://www.activityoptions.com
X-WR-CALDESC:Events for Activity Options
REFRESH-INTERVAL;VALUE=DURATION:PT1H
X-Robots-Tag:noindex
X-PUBLISHED-TTL:PT1H
BEGIN:VTIMEZONE
TZID:UTC
BEGIN:STANDARD
TZOFFSETFROM:+0000
TZOFFSETTO:+0000
TZNAME:UTC
DTSTART:20230101T000000
END:STANDARD
END:VTIMEZONE
BEGIN:VEVENT
DTSTART;TZID=UTC:20241221T170000
DTEND;TZID=UTC:20241221T230000
DTSTAMP:20260423T203454
CREATED:20241107T020938Z
LAST-MODIFIED:20241107T020938Z
UID:10000675-1734800400-1734822000@www.activityoptions.com
SUMMARY:•FACE Vocal Band
DESCRIPTION:Limited seating to Christmas performance of the FACE Vocal group at the Paramount. Denver residents use your membership. Private pay $129. If the activity is full please join the waitlist so we know you are interested. \nRegister Online
URL:https://www.activityoptions.com/event/face-vocal-band/
LOCATION:Paramount Theater\, 1621 Glenarm Pl\, Denver\, CO\, 80202
ATTACH;FMTTYPE=image/png:https://www.activityoptions.com/wp-content/uploads/2024/11/FACEChristmas.png
ORGANIZER;CN="Activity Options LLC /Project World PBC":MAILTO:signup@activityoptions.com
END:VEVENT
BEGIN:VEVENT
DTSTART;TZID=UTC:20241221T130000
DTEND;TZID=UTC:20241221T170000
DTSTAMP:20260423T203454
CREATED:20241107T020037Z
LAST-MODIFIED:20241107T020037Z
UID:10000674-1734786000-1734800400@www.activityoptions.com
SUMMARY:•Cooking Class
DESCRIPTION:Join in with holiday cooking favorites. The group selects the menu\, shops\, prepares food and then best of all\, EATING!!! Denver residents use your membership. Private pay $39 If the activity is full please join the waitlist so we know you are interested. \nRegister Online
URL:https://www.activityoptions.com/event/cooking-class-16/
LOCATION:Activity Options Community Center (Arvada)\, 7401 W 59th Ave\, Arvada\, Colorado\, 80003
ATTACH;FMTTYPE=image/png:https://www.activityoptions.com/wp-content/uploads/2022/03/CookingClassApril.png
ORGANIZER;CN="Activity Options LLC /Project World PBC":MAILTO:signup@activityoptions.com
END:VEVENT
BEGIN:VEVENT
DTSTART;TZID=UTC:20241220T160000
DTEND;TZID=UTC:20241220T220000
DTSTAMP:20260423T203454
CREATED:20241106T204535Z
LAST-MODIFIED:20241106T204535Z
UID:10000673-1734710400-1734732000@www.activityoptions.com
SUMMARY:•Colorado ACTS SNAP "Christmas Carol" performance
DESCRIPTION:Watch this special\, drama education group as they perform “A Christmas Carol” at their new location in Arvada. Your friends are the actors!!! Includes dinner. Denver residents use your membership. Private pay $99. If the activity is full please join the waitlist so we know you are interested. \nRegister Online
URL:https://www.activityoptions.com/event/colorado-acts-snap-christmas-carol-performance/
LOCATION:Colorado ACTS Theater\, 6520 Wadsworth Blvd\, Ste 220\, Arvada\, CO\, 80003
ATTACH;FMTTYPE=image/png:https://www.activityoptions.com/wp-content/uploads/2024/11/ChristmasCarol.png
ORGANIZER;CN="Activity Options LLC /Project World PBC":MAILTO:signup@activityoptions.com
END:VEVENT
BEGIN:VEVENT
DTSTART;TZID=UTC:20241215T120000
DTEND;TZID=UTC:20241215T170000
DTSTAMP:20260423T203454
CREATED:20241106T203320Z
LAST-MODIFIED:20241106T203320Z
UID:10000672-1734264000-1734282000@www.activityoptions.com
SUMMARY:•Football Party at Center West
DESCRIPTION:You don’t have to be a football fan to enjoy this one. Broncos vs the Colts upstairs\, movie downstairs. Denver residents use your membership. Private pay $39. If the activity is full please join the waitlist so we know you are interested. \nRegister Online
URL:https://www.activityoptions.com/event/football-party-at-center-west-3/
LOCATION:Activity Options Community Center (Arvada)\, 7401 W 59th Ave\, Arvada\, Colorado\, 80003
ATTACH;FMTTYPE=image/png:https://www.activityoptions.com/wp-content/uploads/2022/01/Broncos-Football-1.png
ORGANIZER;CN="Activity Options LLC /Project World PBC":MAILTO:signup@activityoptions.com
END:VEVENT
BEGIN:VEVENT
DTSTART;TZID=UTC:20241214T160000
DTEND;TZID=UTC:20241214T210000
DTSTAMP:20260423T203454
CREATED:20241106T202822Z
LAST-MODIFIED:20241106T202822Z
UID:10000671-1734192000-1734210000@www.activityoptions.com
SUMMARY:•Annual Holiday Dinner at Cinzzetti's
DESCRIPTION:Everyone welcome to join the annual Holiday dinner at Cinzzetti’s. Dinner is 5-7pm\, rides available starting at 3:30. Please RSVP for family and friends. FREE for all to attend. If the activity is full please join the waitlist so we know you are interested. \nRegister Online
URL:https://www.activityoptions.com/event/annual-holiday-dinner-at-cinzzettis/
LOCATION:Cinzzetti’s Italian Market\, 281 W 104th Ave\, Northglenn\, CO\, 80234\, United States
ATTACH;FMTTYPE=image/png:https://www.activityoptions.com/wp-content/uploads/2023/11/holiday-party-2023.png
ORGANIZER;CN="Activity Options LLC /Project World PBC":MAILTO:signup@activityoptions.com
END:VEVENT
BEGIN:VEVENT
DTSTART;TZID=UTC:20241208T130000
DTEND;TZID=UTC:20241208T180000
DTSTAMP:20260423T203454
CREATED:20241106T202100Z
LAST-MODIFIED:20241106T202100Z
UID:10000670-1733662800-1733680800@www.activityoptions.com
SUMMARY:•DGMC Holiday Concert 'Northpole Brigayde'
DESCRIPTION:Join the “elves” of the Denver Men and Women’s Chorus at Central Presbyterian Church. Enter into their story of love\, acceptance and holiday cheer. Denver residents use your membership. Private pay $99 If the activity is full please join the waitlist so we know you are interested. \nRegister Online
URL:https://www.activityoptions.com/event/dgmc-holiday-concert-northpole-brigayde/
LOCATION:Christ Church United Methodist\, 690 Colorado Blvd\, Denver\, CO\, 80206
ATTACH;FMTTYPE=image/png:https://www.activityoptions.com/wp-content/uploads/2024/11/DGMWC.png
ORGANIZER;CN="Activity Options LLC /Project World PBC":MAILTO:signup@activityoptions.com
END:VEVENT
BEGIN:VEVENT
DTSTART;TZID=UTC:20241208T070000
DTEND;TZID=UTC:20241210T190000
DTSTAMP:20260423T203454
CREATED:20240923T055733Z
LAST-MODIFIED:20240923T055733Z
UID:10000656-1733641200-1733857200@www.activityoptions.com
SUMMARY:•Las Vegas Long Weekend Trip
DESCRIPTION:Long weekend to Las Vegas to see Garth Brooks at Ceasar’s Colleusium and enjoy thebest of Las Vegas. Denver residents please use your membership or inquire to set one up. Private pay $1\,399. \nRegister Online
URL:https://www.activityoptions.com/event/las-vegas-long-weekend-trip/
LOCATION:Las Vegas\, NV\, Las Vegas\, NV
ATTACH;FMTTYPE=image/png:https://www.activityoptions.com/wp-content/uploads/2024/09/LasVegas.png
ORGANIZER;CN="Activity Options LLC /Project World PBC":MAILTO:signup@activityoptions.com
GEO:36.1699412;-115.1398296
END:VEVENT
BEGIN:VEVENT
DTSTART;TZID=UTC:20241207T170000
DTEND;TZID=UTC:20241207T220000
DTSTAMP:20260423T203454
CREATED:20241106T200225Z
LAST-MODIFIED:20241106T200225Z
UID:10000669-1733590800-1733608800@www.activityoptions.com
SUMMARY:•Rocky Mountain Pro Wrestling
DESCRIPTION:Cheer on the live taping of “CHARGED” at the Jefferson CountyFair Grounds. Bell at 7:00. Dinner before at Applewood Café. Denver residents use your membership. Private pay $99. If the activity is full please join the waitlist so we know you are interested. \nRegister Online
URL:https://www.activityoptions.com/event/rocky-mountain-pro-wrestling-9/
LOCATION:Jeffco Fair Grounds\, 15200 W 6th Ave\, Golden\, CO\, 80401
ATTACH;FMTTYPE=image/png:https://www.activityoptions.com/wp-content/uploads/2022/04/RMProWresstling.png
ORGANIZER;CN="Activity Options LLC /Project World PBC":MAILTO:signup@activityoptions.com
END:VEVENT
BEGIN:VEVENT
DTSTART;TZID=UTC:20241206T170000
DTEND;TZID=UTC:20241206T210000
DTSTAMP:20260423T203454
CREATED:20241125T195232Z
LAST-MODIFIED:20241201T194215Z
UID:10000681-1733504400-1733518800@www.activityoptions.com
SUMMARY:•Buck Center Dance Party
DESCRIPTION:This event has been cancelled. Look for other activities and events in our December calendar. \n 
URL:https://www.activityoptions.com/event/buck-center-dance-3/
LOCATION:Buck Recreation Center\, 2004 W Powers Ave\, Littleton\, CO\, 80120
ATTACH;FMTTYPE=image/png:https://www.activityoptions.com/wp-content/uploads/2024/11/Dance.png
ORGANIZER;CN="Activity Options LLC /Project World PBC":MAILTO:signup@activityoptions.com
END:VEVENT
BEGIN:VEVENT
DTSTART;TZID=UTC:20241201T080000
DTEND;TZID=UTC:20241201T150000
DTSTAMP:20260423T203454
CREATED:20241106T195522Z
LAST-MODIFIED:20241106T195522Z
UID:10000668-1733040000-1733065200@www.activityoptions.com
SUMMARY:•Indian Hot Springs
DESCRIPTION:Soak in the renovated pool at the hot springs and shut out the winter weather in tropical environment. Lunch in Idaho Springs. Denver residents use your membership. Private pay $159. If the activity is full please join the waitlist so we know you are interested. \nRegister Online
URL:https://www.activityoptions.com/event/indian-hot-springs-6/
LOCATION:Indian Hot Springs\, 302 Soda Creek Rd\, Idaho Springs\, CO\, 80452
ATTACH;FMTTYPE=image/jpeg:https://www.activityoptions.com/wp-content/uploads/2018/02/Indiam-Hot-Springs-sq.jpg
ORGANIZER;CN="Activity Options LLC /Project World PBC":MAILTO:signup@activityoptions.com
GEO:39.7392563;-105.512617
X-APPLE-STRUCTURED-LOCATION;VALUE=URI;X-ADDRESS=Indian Hot Springs 302 Soda Creek Rd Idaho Springs CO 80452;X-APPLE-RADIUS=500;X-TITLE=302 Soda Creek Rd:geo:-105.512617,39.7392563
END:VEVENT
BEGIN:VEVENT
DTSTART;TZID=UTC:20241129T160000
DTEND;TZID=UTC:20241129T230000
DTSTAMP:20260423T203454
CREATED:20241021T231542Z
LAST-MODIFIED:20241028T143255Z
UID:10000667-1732896000-1732921200@www.activityoptions.com
SUMMARY:•Mammoth Lacrosse Game Live at Ball Arena
DESCRIPTION:Cheer on the Colorado Mammoth Lacrosse team and hang out with friends at the Ball Arena! Denver residents use your membership. private pay $160. \nRegister Online
URL:https://www.activityoptions.com/event/mammoth-lacrosse-game-live-at-ball-arena/
LOCATION:Ball Arena
ATTACH;FMTTYPE=image/png:https://www.activityoptions.com/wp-content/uploads/2024/10/Mammpoth.png
ORGANIZER;CN="Activity Options LLC /Project World PBC":MAILTO:signup@activityoptions.com
END:VEVENT
BEGIN:VEVENT
DTSTART;TZID=UTC:20241128T120000
DTEND;TZID=UTC:20241128T170000
DTSTAMP:20260423T203454
CREATED:20241015T041848Z
LAST-MODIFIED:20241015T041848Z
UID:10000665-1732795200-1732813200@www.activityoptions.com
SUMMARY:Thanksgiving Day Dinner
DESCRIPTION:Join friends at the Community Center West to cook and eat a home made Thanksgiving Dinner!! Menu requests welcome. Denver residents use your membership. Private pay $25. \nRegister Online
URL:https://www.activityoptions.com/event/thanksgiving-day-dinner/
LOCATION:Activity Options Community Center (Arvada)\, 7401 W 59th Ave\, Arvada\, Colorado\, 80003
ATTACH;FMTTYPE=image/png:https://www.activityoptions.com/wp-content/uploads/2024/10/ThanksgivingDinner.png
ORGANIZER;CN="Activity Options LLC /Project World PBC":MAILTO:signup@activityoptions.com
END:VEVENT
BEGIN:VEVENT
DTSTART;TZID=UTC:20241124T140000
DTEND;TZID=UTC:20241124T190000
DTSTAMP:20260423T203454
CREATED:20241015T035527Z
LAST-MODIFIED:20241021T235230Z
UID:10000664-1732456800-1732474800@www.activityoptions.com
SUMMARY:•Top Golf
DESCRIPTION:You don’t have to know how to swing a club to join us for the\, first ever\, Top Golf Party! Come and enjoy this unique venue and the fresh evening air. Denver residents use your membership. Private pay $99. \nRegister Online
URL:https://www.activityoptions.com/event/top-golf-9/
LOCATION:Top Golf Denver\, 10601 E Easter Ave\, Centennial\, CO\, 80112\, United States
ATTACH;FMTTYPE=image/png:https://www.activityoptions.com/wp-content/uploads/2022/04/TopGolf.png
ORGANIZER;CN="Activity Options LLC /Project World PBC":MAILTO:signup@activityoptions.com
END:VEVENT
BEGIN:VEVENT
DTSTART;TZID=UTC:20241123T170000
DTEND;TZID=UTC:20241123T220000
DTSTAMP:20260423T203454
CREATED:20241015T025904Z
LAST-MODIFIED:20241106T163611Z
UID:10000663-1732381200-1732399200@www.activityoptions.com
SUMMARY:•Gratitude Party at Downtown Denver Aquarium
DESCRIPTION:Annual gratitude party will be at the Downtown Denver Aquarium! Sure to be a great time for all. Open to all family and friends. FREE to attend! We hope to see you all there for a night of food and thanks! Free to attend. \nRegister Online
URL:https://www.activityoptions.com/event/gratitude-party/
LOCATION:Activity Options Community Center (Arvada)\, 7401 W 59th Ave\, Arvada\, Colorado\, 80003
ATTACH;FMTTYPE=image/jpeg:https://www.activityoptions.com/wp-content/uploads/2017/12/Aquarium-sq.jpg
ORGANIZER;CN="Activity Options LLC /Project World PBC":MAILTO:signup@activityoptions.com
END:VEVENT
BEGIN:VEVENT
DTSTART;TZID=UTC:20241117T120000
DTEND;TZID=UTC:20241117T170000
DTSTAMP:20260423T203454
CREATED:20241015T021707Z
LAST-MODIFIED:20241015T021707Z
UID:10000662-1731844800-1731862800@www.activityoptions.com
SUMMARY:•Football Party at Center West
DESCRIPTION:You don’t have to be a football fan to enjoy this one. Broncos vs the Chargers upstairs\, movie downstairs. Denver residents use your membership. Private pay $39. \nRegister Online
URL:https://www.activityoptions.com/event/football-party-at-center-west-2/
LOCATION:Activity Options Community Center (Arvada)\, 7401 W 59th Ave\, Arvada\, Colorado\, 80003
ATTACH;FMTTYPE=image/png:https://www.activityoptions.com/wp-content/uploads/2022/01/Broncos-Football-1.png
ORGANIZER;CN="Activity Options LLC /Project World PBC":MAILTO:signup@activityoptions.com
END:VEVENT
BEGIN:VEVENT
DTSTART;TZID=UTC:20241116T170000
DTEND;TZID=UTC:20241116T230000
DTSTAMP:20260423T203454
CREATED:20241015T014854Z
LAST-MODIFIED:20241021T233753Z
UID:10000661-1731776400-1731798000@www.activityoptions.com
SUMMARY:•Trans-Siberian Orchestra 2024 Winter Tour
DESCRIPTION:Experience this amazing holiday themed concert at Ball Arena. This is an unexpected “heavy metal band”. Lots of light\, strobe\, pyrotechnics and loud music. Denver residents use your membership.Private pay $250. \nRegister Online
URL:https://www.activityoptions.com/event/trans-siberian-orchestra-2024-winter-tour/
LOCATION:Ball Arena
ATTACH;FMTTYPE=image/png:https://www.activityoptions.com/wp-content/uploads/2024/10/TSO.png
ORGANIZER;CN="Activity Options LLC /Project World PBC":MAILTO:signup@activityoptions.com
END:VEVENT
BEGIN:VEVENT
DTSTART;TZID=UTC:20241110T110000
DTEND;TZID=UTC:20241110T170000
DTSTAMP:20260423T203454
CREATED:20241015T010035Z
LAST-MODIFIED:20241015T010035Z
UID:10000660-1731236400-1731258000@www.activityoptions.com
SUMMARY:•Evergreen Players Live Theater
DESCRIPTION:Enjoy the Evergreen Players comedy play\, “Spirit Level”. This is the tale of a crime writer\, his wife\, a boating accident and a potentially haunted house. Denver residents use your membership. Private pay $129. \nRegister Online\n 
URL:https://www.activityoptions.com/event/evergreen-players-live-theater/
LOCATION:Evergreen Players\, 27608 Fireweed Drive\, Evergreen\, CO\, 80439\, United States
ATTACH;FMTTYPE=image/png:https://www.activityoptions.com/wp-content/uploads/2024/10/Evergreenplayers.png
ORGANIZER;CN="Activity Options LLC /Project World PBC":MAILTO:signup@activityoptions.com
END:VEVENT
BEGIN:VEVENT
DTSTART;TZID=UTC:20241109T170000
DTEND;TZID=UTC:20241109T220000
DTSTAMP:20260423T203454
CREATED:20241008T002953Z
LAST-MODIFIED:20241008T002953Z
UID:10000659-1731171600-1731189600@www.activityoptions.com
SUMMARY:•Saturday Night Club SNL\, Sat 11/9/24
DESCRIPTION:Join Saturday Night Club (SNL) and enjoy the company of friends. Enjoy a movie and dinner at our Center or discover what’s open in town. Denver residents use your membership or inquire to set one up. Private pay $35. \nRegister Online
URL:https://www.activityoptions.com/event/saturday-night-club-snl-sat-11-9-24/
LOCATION:Activity Options Community Center (Arvada)\, 7401 W 59th Ave\, Arvada\, Colorado\, 80003
ATTACH;FMTTYPE=image/png:https://www.activityoptions.com/wp-content/uploads/2021/04/SNL-sq.png
ORGANIZER;CN="Activity Options LLC /Project World PBC":MAILTO:signup@activityoptions.com
END:VEVENT
BEGIN:VEVENT
DTSTART;TZID=UTC:20241102T160000
DTEND;TZID=UTC:20241102T230000
DTSTAMP:20260423T203454
CREATED:20241008T001832Z
LAST-MODIFIED:20241008T001832Z
UID:10000658-1730563200-1730588400@www.activityoptions.com
SUMMARY:•Rocky Mountain Pro Wrestling
DESCRIPTION:Join at action at the new location at he Jefferson County Fair Grounds. Live wrestling drama. Dinner at Apple Ridge Café. Denver residents use your membership or inquire to set one up. Private pay $99. \nRegister Online
URL:https://www.activityoptions.com/event/rocky-mountain-pro-wrestling-8/
LOCATION:Rocky Mountain Pro and Al Snow Wrestling Academy\, 2170 W Yale Ave\, Englewood\, CO\, 80110
ATTACH;FMTTYPE=image/png:https://www.activityoptions.com/wp-content/uploads/2022/04/RMProWresstling.png
ORGANIZER;CN="Activity Options LLC /Project World PBC":MAILTO:signup@activityoptions.com
END:VEVENT
BEGIN:VEVENT
DTSTART;TZID=UTC:20241101T170000
DTEND;TZID=UTC:20241101T210000
DTSTAMP:20260423T203454
CREATED:20241007T200743Z
LAST-MODIFIED:20241007T200743Z
UID:10000657-1730480400-1730494800@www.activityoptions.com
SUMMARY:•Clements Center Dance Party
DESCRIPTION:Join old & new friends for the community dance at Clements Center. Denver residents use your membership or inquire to set on up. private pay $35. \nRegister Online
URL:https://www.activityoptions.com/event/clements-center-dance-party-2/
LOCATION:Clements Center\, 1580 Yarrow St\, Lakewood\, CO\, 80214\, United States
ATTACH;FMTTYPE=image/png:https://www.activityoptions.com/wp-content/uploads/2023/08/DanceParty.png
ORGANIZER;CN="Activity Options LLC /Project World PBC":MAILTO:signup@activityoptions.com
END:VEVENT
BEGIN:VEVENT
DTSTART;TZID=UTC:20241026T170000
DTEND;TZID=UTC:20241026T200000
DTSTAMP:20260423T203454
CREATED:20240923T051648Z
LAST-MODIFIED:20240923T051648Z
UID:10000655-1729962000-1729972800@www.activityoptions.com
SUMMARY:•Annual Halloween Party
DESCRIPTION:Join the fun at the Annual Halloween Party at the West Community Center. Costume contest\, games and prizes! Free for Denver and non Denver residents. Denver residents please use your membership or inquire to set on up. Private pay FREE. \nRegister Online
URL:https://www.activityoptions.com/event/annual-halloween-party/
LOCATION:Activity Options Community Center (Arvada)\, 7401 W 59th Ave\, Arvada\, Colorado\, 80003
ATTACH;FMTTYPE=image/png:https://www.activityoptions.com/wp-content/uploads/2023/09/HalloweenParty2023.png
ORGANIZER;CN="Activity Options LLC /Project World PBC":MAILTO:signup@activityoptions.com
END:VEVENT
BEGIN:VEVENT
DTSTART;TZID=UTC:20241025T170000
DTEND;TZID=UTC:20241025T230000
DTSTAMP:20260423T203454
CREATED:20240923T051026Z
LAST-MODIFIED:20240923T051026Z
UID:10000654-1729875600-1729897200@www.activityoptions.com
SUMMARY:•CSO Nightmare Before Christmas
DESCRIPTION:Watch Tim Burton’s “Nightmare Before Christmas” with live sound track performance by the Colorado Symphony Orchestra at Boettcher Concert Hall. Denver residents please use your membership or inquire to set one up. Private pay $99. \nRegister Online
URL:https://www.activityoptions.com/event/cso-nightmare-before-christmas/
LOCATION:Colorado Symphony Orchastra at Boettcher Concert Hall\, 1000 14th St\, Denver\, CO\, 80202
ATTACH;FMTTYPE=image/png:https://www.activityoptions.com/wp-content/uploads/2024/09/Nightmare_CSO.png
ORGANIZER;CN="Activity Options LLC /Project World PBC":MAILTO:signup@activityoptions.com
GEO:39.7453479;-104.9980736
X-APPLE-STRUCTURED-LOCATION;VALUE=URI;X-ADDRESS=Colorado Symphony Orchastra at Boettcher Concert Hall 1000 14th St Denver CO 80202;X-APPLE-RADIUS=500;X-TITLE=1000 14th St:geo:-104.9980736,39.7453479
END:VEVENT
BEGIN:VEVENT
DTSTART;TZID=UTC:20241019T160000
DTEND;TZID=UTC:20241019T210000
DTSTAMP:20260423T203454
CREATED:20240923T050404Z
LAST-MODIFIED:20240923T145200Z
UID:10000653-1729353600-1729371600@www.activityoptions.com
SUMMARY:•Ghosts in the Garden
DESCRIPTION:Learn about the 100 year history of supernatural sightings at this after hours Botanical Gardens tour. Visit the “Bonyards” and the Waring Mansion. Denver residents use your membership or inquire to set up. Private pay $99. \nRegister Online
URL:https://www.activityoptions.com/event/ghosts-in-the-garden/
LOCATION:Denver Botanical Gardens\, 1007 York Street\, Denver\, CO\, 80206\, United States
ATTACH;FMTTYPE=image/png:https://www.activityoptions.com/wp-content/uploads/2024/09/DBGghosts.png
ORGANIZER;CN="Activity Options LLC /Project World PBC":MAILTO:signup@activityoptions.com
GEO:39.7320129;-104.9601049
X-APPLE-STRUCTURED-LOCATION;VALUE=URI;X-ADDRESS=Denver Botanical Gardens 1007 York Street Denver CO 80206 United States;X-APPLE-RADIUS=500;X-TITLE=1007 York Street:geo:-104.9601049,39.7320129
END:VEVENT
BEGIN:VEVENT
DTSTART;TZID=UTC:20241018T170000
DTEND;TZID=UTC:20241018T210000
DTSTAMP:20260423T203454
CREATED:20240923T045028Z
LAST-MODIFIED:20240923T045028Z
UID:10000652-1729270800-1729285200@www.activityoptions.com
SUMMARY:•Rec Center Dance
DESCRIPTION:Meet up with friends for the monthly community dance at Clements Rec Center. Denver residents please use your membership or inquire to set one up. Private pay $35. \nRegister Online
URL:https://www.activityoptions.com/event/rec-center-dance-3/
LOCATION:Clements Center\, 1580 Yarrow St\, Lakewood\, CO\, 80214\, United States
ATTACH;FMTTYPE=image/png:https://www.activityoptions.com/wp-content/uploads/2024/02/Dance-Feet.png
ORGANIZER;CN="Activity Options LLC /Project World PBC":MAILTO:signup@activityoptions.com
END:VEVENT
BEGIN:VEVENT
DTSTART;TZID=UTC:20241013T120000
DTEND;TZID=UTC:20241013T170000
DTSTAMP:20260423T203454
CREATED:20240923T044412Z
LAST-MODIFIED:20240923T044412Z
UID:10000651-1728820800-1728838800@www.activityoptions.com
SUMMARY:•Football Party at AO center West
DESCRIPTION:You don’t have to be a football fan to enjoy this one. Broncos vs the Chargers upstairs\, movie downstairs. Denver residents please use your membership or inquire to set one up. Private pay $39. \nRegister Online
URL:https://www.activityoptions.com/event/football-party-at-ao-center-west/
LOCATION:Activity Options Community Center (Arvada)\, 7401 W 59th Ave\, Arvada\, Colorado\, 80003
ATTACH;FMTTYPE=image/png:https://www.activityoptions.com/wp-content/uploads/2022/01/Broncos-Football-1.png
ORGANIZER;CN="Activity Options LLC /Project World PBC":MAILTO:signup@activityoptions.com
END:VEVENT
BEGIN:VEVENT
DTSTART;TZID=UTC:20241012T080000
DTEND;TZID=UTC:20241012T140000
DTSTAMP:20260423T203454
CREATED:20240923T043619Z
LAST-MODIFIED:20240923T053631Z
UID:10000650-1728720000-1728741600@www.activityoptions.com
SUMMARY:•Tour of the DCPA
DESCRIPTION:Behind the scenes tour of the Denver Center Theater Complex. Lunch downtown. Denver residents use your 2024 IML membership or inquire to set one up. Private pay $99. \nRegister Online
URL:https://www.activityoptions.com/event/tour-of-the-dcpa/
LOCATION:Denver Center for the Performing Arts\, 1101 13th St\, Denver\, CO\, 80204
ATTACH;FMTTYPE=image/png:https://www.activityoptions.com/wp-content/uploads/2024/09/TourDCPA.png
ORGANIZER;CN="Activity Options LLC /Project World PBC":MAILTO:signup@activityoptions.com
GEO:39.7453475;-104.998331
X-APPLE-STRUCTURED-LOCATION;VALUE=URI;X-ADDRESS=Denver Center for the Performing Arts 1101 13th St Denver CO 80204;X-APPLE-RADIUS=500;X-TITLE=1101 13th St:geo:-104.998331,39.7453475
END:VEVENT
BEGIN:VEVENT
DTSTART;TZID=UTC:20241011T170000
DTEND;TZID=UTC:20241011T230000
DTSTAMP:20260423T203454
CREATED:20240923T011036Z
LAST-MODIFIED:20240923T011036Z
UID:10000649-1728666000-1728687600@www.activityoptions.com
SUMMARY:•BINGO!
DESCRIPTION:Night of dinner and bingo at The Bingo Company in Arvada and see if you can beat the odds. Denver residents please use your 2024 IML membership. Private pay $99. \nRegister Online
URL:https://www.activityoptions.com/event/bingo-7/
LOCATION:Activity Options Community Center (Arvada)\, 7401 W 59th Ave\, Arvada\, Colorado\, 80003
ATTACH;FMTTYPE=image/png:https://www.activityoptions.com/wp-content/uploads/2020/01/BINGOco.png
ORGANIZER;CN="Activity Options LLC /Project World PBC":MAILTO:signup@activityoptions.com
END:VEVENT
BEGIN:VEVENT
DTSTART;TZID=UTC:20241006T110000
DTEND;TZID=UTC:20241006T170000
DTSTAMP:20260423T203454
CREATED:20240923T010525Z
LAST-MODIFIED:20240923T010525Z
UID:10000648-1728212400-1728234000@www.activityoptions.com
SUMMARY:Fall Leaf Hike
DESCRIPTION:Enjoy the fall leaves up close and personal on this last hike of the season. Denver residents please use your 2024 IML membership or inquire to set one up. Private pay $35. \nRegister Online
URL:https://www.activityoptions.com/event/fall-leaf-hike/
LOCATION:Activity Options Community Center (Arvada)\, 7401 W 59th Ave\, Arvada\, Colorado\, 80003
ATTACH;FMTTYPE=image/png:https://www.activityoptions.com/wp-content/uploads/2024/09/FallHike.png
ORGANIZER;CN="Activity Options LLC /Project World PBC":MAILTO:signup@activityoptions.com
END:VEVENT
BEGIN:VEVENT
DTSTART;TZID=UTC:20241005T170000
DTEND;TZID=UTC:20241005T220000
DTSTAMP:20260423T203454
CREATED:20240923T005154Z
LAST-MODIFIED:20240923T005154Z
UID:10000647-1728147600-1728165600@www.activityoptions.com
SUMMARY:•Saturday Night Club
DESCRIPTION:Join Saturday Night Club (SNL) and enjoy the company of friends. Enjoy a movie and dinner at our Center or discover what’s open in town. Denver residents please use your 2024 IML membership or inquire to set one up. Private pay $35. \nRegister Online
URL:https://www.activityoptions.com/event/saturday-night-club-2/
LOCATION:Activity Options Community Center (Arvada)\, 7401 W 59th Ave\, Arvada\, Colorado\, 80003
ATTACH;FMTTYPE=image/png:https://www.activityoptions.com/wp-content/uploads/2021/04/SNL-sq.png
ORGANIZER;CN="Activity Options LLC /Project World PBC":MAILTO:signup@activityoptions.com
END:VEVENT
BEGIN:VEVENT
DTSTART;TZID=UTC:20240929T090000
DTEND;TZID=UTC:20240929T160000
DTSTAMP:20260423T203454
CREATED:20240808T034429Z
LAST-MODIFIED:20240808T034429Z
UID:10000646-1727600400-1727625600@www.activityoptions.com
SUMMARY:Georgetown Loop Train
DESCRIPTION:Ride the Georgetown train and see the fall leaves with a perfect view.  Includes lunch. Free for Denver residents. $129 for private pay. If the activity is full please join the wait list so we know you are interested. \nRegister Online
URL:https://www.activityoptions.com/event/georgetown-loop-train-3/
LOCATION:Georgetown Loop Railroad\, 646\, Loop Dr\, Georgetown\, CO\, 80444
ATTACH;FMTTYPE=image/png:https://www.activityoptions.com/wp-content/uploads/2019/06/Georgetown-Loop-Fall.png
ORGANIZER;CN="Activity Options LLC /Project World PBC":MAILTO:signup@activityoptions.com
GEO:39.699731;-105.7078463
X-APPLE-STRUCTURED-LOCATION;VALUE=URI;X-ADDRESS=Georgetown Loop Railroad 646 Loop Dr Georgetown CO 80444;X-APPLE-RADIUS=500;X-TITLE=646\, Loop Dr:geo:-105.7078463,39.699731
END:VEVENT
END:VCALENDAR