BEGIN:VCALENDAR
VERSION:2.0
PRODID:-//Activity Options - ECPv6.15.20//NONSGML v1.0//EN
CALSCALE:GREGORIAN
METHOD:PUBLISH
X-ORIGINAL-URL:https://www.activityoptions.com
X-WR-CALDESC:Events for Activity Options
REFRESH-INTERVAL;VALUE=DURATION:PT1H
X-Robots-Tag:noindex
X-PUBLISHED-TTL:PT1H
BEGIN:VTIMEZONE
TZID:UTC
BEGIN:STANDARD
TZOFFSETFROM:+0000
TZOFFSETTO:+0000
TZNAME:UTC
DTSTART:20250101T000000
END:STANDARD
END:VTIMEZONE
BEGIN:VEVENT
DTSTART;TZID=UTC:20260811T080000
DTEND;TZID=UTC:20260815T200000
DTSTAMP:20260423T135940
CREATED:20260111T195521Z
LAST-MODIFIED:20260111T195521Z
UID:10000823-1786435200-1786824000@www.activityoptions.com
SUMMARY:•San Francisco & Yosemite Trip!
DESCRIPTION:Spend 3 days in San Francisco exploring the magical sights and smells of Fisherman’s Wharf\, Sausilito and Alcatraz. Ride the cable cars and set sail on the bay on a large catamaran. Then spend two days exploring the Red Wood Forest and Yosemite. Denver residents use your free membership or inquire to set one up through us using Mill Levy funding. Private pay $3\,100. If the activity is full please join the waitlist so we know you are interested. \nRegister Online
URL:https://www.activityoptions.com/event/san-francisco-yosemite-trip/
LOCATION:San Francisco\, CA
ATTACH;FMTTYPE=image/png:https://www.activityoptions.com/wp-content/uploads/2026/01/SFtrip.png
ORGANIZER;CN="Activity Options LLC /Project World PBC":MAILTO:signup@activityoptions.com
END:VEVENT
BEGIN:VEVENT
DTSTART;TZID=UTC:20260923T080000
DTEND;TZID=UTC:20260929T200000
DTSTAMP:20260423T135940
CREATED:20260111T200311Z
LAST-MODIFIED:20260111T200311Z
UID:10000824-1790150400-1790712000@www.activityoptions.com
SUMMARY:•Orlando Disney World Trip!
DESCRIPTION:Spend the days between Disney World theme parks. Harry Potter-Universal upon request. Lodging on property at the Dolphin/Swan Resorts. Possible trip to Kennedy Space Center. Denver residents use your free membership or inquire to set one up through us using Mill Levy funding. Private pay $3\,400. If the activity is full please join the waitlist so we know you are interested. \nRegister Online
URL:https://www.activityoptions.com/event/orlando-disney-world-trip-2/
LOCATION:Orlando Florida
ATTACH;FMTTYPE=image/jpeg:https://www.activityoptions.com/wp-content/uploads/2019/01/Orlando.jpg
ORGANIZER;CN="Activity Options LLC /Project World PBC":MAILTO:signup@activityoptions.com
END:VEVENT
BEGIN:VEVENT
DTSTART;TZID=UTC:20261017T080000
DTEND;TZID=UTC:20261018T170000
DTSTAMP:20260423T135940
CREATED:20260105T054111Z
LAST-MODIFIED:20260302T000707Z
UID:10000811-1792224000-1792342800@www.activityoptions.com
SUMMARY:•Glenwood Overnight
DESCRIPTION:Register Online One way train ride to Glenwood. Visit Adventure Park\, Hot Springs\, the Glenwood Vaudeville theater and Snowmass. Denver residents use your free membership or inquire to set one up through us using Mill Levy funding. Private pay $675. If the activity is full please join the waitlist so we know you are interested. \nRegister Online
URL:https://www.activityoptions.com/event/glenwood-overnight-2/
LOCATION:Glenwood Springs\, Colorado\, Glenwood Springs\, Colorado
ATTACH;FMTTYPE=image/jpeg:https://www.activityoptions.com/wp-content/uploads/2018/07/Iron-Mountain-Caverns-Adventure.jpg
ORGANIZER;CN="Activity Options LLC /Project World PBC":MAILTO:signup@activityoptions.com
GEO:39.5505376;-107.3247762
END:VEVENT
BEGIN:VEVENT
DTSTART;TZID=UTC:20261129T080000
DTEND;TZID=UTC:20261203T200000
DTSTAMP:20260423T135940
CREATED:20260111T201104Z
LAST-MODIFIED:20260111T201104Z
UID:10000825-1795939200-1796328000@www.activityoptions.com
SUMMARY:•Scottsdale Grand Canyon Trip!
DESCRIPTION:Enjoy Phoenix/Scottsdale area with milder temperatures and enjoy the pre holiday activities of the dessert. Overnight at the Grand Canyon and drive through Sedona. Denver residents use your free membership or inquire to set one up through us using Mill Levy funding. Private pay $2\,400. If the activity is full please join the waitlist so we know you are interested. \nRegister Online
URL:https://www.activityoptions.com/event/scottsdale-grand-canyon-trip/
LOCATION:AZ Scottsdale Grand Canyon
ATTACH;FMTTYPE=image/png:https://www.activityoptions.com/wp-content/uploads/2021/07/AZscottsdalegrandcanyon.png
ORGANIZER;CN="Activity Options LLC /Project World PBC":MAILTO:signup@activityoptions.com
END:VEVENT
BEGIN:VEVENT
DTSTART;TZID=UTC:20270611T070000
DTEND;TZID=UTC:20270620T190000
DTSTAMP:20260423T135940
CREATED:20260216T210057Z
LAST-MODIFIED:20260220T200836Z
UID:10000834-1812697200-1813518000@www.activityoptions.com
SUMMARY:•Mercy Me Mediterranean Cruise!
DESCRIPTION:Special interest Christian music Mediterranean Cruise hosted by Mercy Me. Leaves from Athens\, Greece with 5 stops ending in Rome. Includes a day before and after sightseeing. Holland America Cruise Lines. Private pay only $7\,400. $1\,500 deposit due for registration. ONLY 2 SPOTS LEFT!! If the trip is full please register or contact us directly so we know that you are interested. \nIf you’re interested send an email to connect@activityoptions.com \n 
URL:https://www.activityoptions.com/event/mediterranean-cruise/
LOCATION:Athens\, Greece
ATTACH;FMTTYPE=image/png:https://www.activityoptions.com/wp-content/uploads/2026/02/MercyMe2027.png
ORGANIZER;CN="Activity Options LLC /Project World PBC":MAILTO:signup@activityoptions.com
END:VEVENT
END:VCALENDAR