BEGIN:VCALENDAR
VERSION:2.0
PRODID:-//Activity Options - ECPv6.15.20//NONSGML v1.0//EN
CALSCALE:GREGORIAN
METHOD:PUBLISH
X-ORIGINAL-URL:https://www.activityoptions.com
X-WR-CALDESC:Events for Activity Options
REFRESH-INTERVAL;VALUE=DURATION:PT1H
X-Robots-Tag:noindex
X-PUBLISHED-TTL:PT1H
BEGIN:VTIMEZONE
TZID:UTC
BEGIN:STANDARD
TZOFFSETFROM:+0000
TZOFFSETTO:+0000
TZNAME:UTC
DTSTART:20240101T000000
END:STANDARD
END:VTIMEZONE
BEGIN:VEVENT
DTSTART;TZID=UTC:20251204T170000
DTEND;TZID=UTC:20251204T220000
DTSTAMP:20260423T152822
CREATED:20251015T044442Z
LAST-MODIFIED:20251015T055423Z
UID:10000791-1764867600-1764885600@www.activityoptions.com
SUMMARY:•Rocky Mountain Pro Wrestling
DESCRIPTION:Live wrestling at Jeffco Fair Grounds. Ground floor seats by the stage\, Includes dinner. Denver residents use your free IML membership or inquire to set one up. Private pay $79. If the activity is full please join the waitlist so we know you are interested. \nRegister Online
URL:https://www.activityoptions.com/event/rocky-mountain-pro-wrestling-14/
LOCATION:Jeffco Fair Grounds\, 15200 W 6th Ave\, Golden\, CO\, 80401
ATTACH;FMTTYPE=image/png:https://www.activityoptions.com/wp-content/uploads/2022/04/RMProWresstling.png
ORGANIZER;CN="Activity Options LLC /Project World PBC":MAILTO:signup@activityoptions.com
END:VEVENT
BEGIN:VEVENT
DTSTART;TZID=UTC:20251206T140000
DTEND;TZID=UTC:20251206T210000
DTSTAMP:20260423T152822
CREATED:20251015T050903Z
LAST-MODIFIED:20251015T050903Z
UID:10000792-1765029600-1765054800@www.activityoptions.com
SUMMARY:•Georgetown Christmas Train
DESCRIPTION:Ride the Georgetown Loop railroad and see the Lighted Forest. Meal included. Denver residents use your free IML membership or inquire to set one up. Private pay $250. If the activity is full please join the waitlist so we know you are interested. \nRegister Online
URL:https://www.activityoptions.com/event/georgetown-christmas-train/
LOCATION:Georgetown Loop Railroad\, 646\, Loop Dr\, Georgetown\, CO\, 80444
ATTACH;FMTTYPE=image/png:https://www.activityoptions.com/wp-content/uploads/2025/10/GeorgetownChristmas.png
ORGANIZER;CN="Activity Options LLC /Project World PBC":MAILTO:signup@activityoptions.com
GEO:39.699731;-105.7078463
X-APPLE-STRUCTURED-LOCATION;VALUE=URI;X-ADDRESS=Georgetown Loop Railroad 646 Loop Dr Georgetown CO 80444;X-APPLE-RADIUS=500;X-TITLE=646\, Loop Dr:geo:-105.7078463,39.699731
END:VEVENT
BEGIN:VEVENT
DTSTART;TZID=UTC:20251207T110000
DTEND;TZID=UTC:20251207T180000
DTSTAMP:20260423T152822
CREATED:20251015T051352Z
LAST-MODIFIED:20251015T051352Z
UID:10000793-1765105200-1765130400@www.activityoptions.com
SUMMARY:•Football Party
DESCRIPTION:You don’t have to be a football fan to enjoy this one. Broncos vs the Colts upstairs\, movie downstairs. Denver residents use your free IML membership or inquire to set one up. Private pay $39. If the activity is full please join the waitlist so we know you are interested. \nRegister Online
URL:https://www.activityoptions.com/event/football-party-2/
LOCATION:Activity Options Community Center (Arvada)\, 7401 W 59th Ave\, Arvada\, Colorado\, 80003
ATTACH;FMTTYPE=image/png:https://www.activityoptions.com/wp-content/uploads/2022/01/Broncos-Football-1.png
ORGANIZER;CN="Activity Options LLC /Project World PBC":MAILTO:signup@activityoptions.com
END:VEVENT
BEGIN:VEVENT
DTSTART;TZID=UTC:20251212T170000
DTEND;TZID=UTC:20251212T220000
DTSTAMP:20260423T152822
CREATED:20251015T051909Z
LAST-MODIFIED:20251015T051909Z
UID:10000794-1765558800-1765576800@www.activityoptions.com
SUMMARY:•Main Event
DESCRIPTION:Laser tag\, bowling and arcade at Laser Tag. Dinner included. Denver residents use your free IML membership or inquire to set one up. Private pay $99. If the activity is full please join the waitlist so we know you are interested. \nRegister Online
URL:https://www.activityoptions.com/event/main-event-2/
LOCATION:Main Event\, 580 E 144th Ave\, Thornton\, Colorado\, 80023
ATTACH;FMTTYPE=image/png:https://www.activityoptions.com/wp-content/uploads/2025/05/MainEvent.png
ORGANIZER;CN="Activity Options LLC /Project World PBC":MAILTO:signup@activityoptions.com
END:VEVENT
BEGIN:VEVENT
DTSTART;TZID=UTC:20251213T080000
DTEND;TZID=UTC:20251214T170000
DTSTAMP:20260423T152822
CREATED:20250902T030758Z
LAST-MODIFIED:20250902T030758Z
UID:10000779-1765612800-1765731600@www.activityoptions.com
SUMMARY:•Gaylord Overnight
DESCRIPTION:Enjoy the many holiday festivities at the Gaylord Hotel with an overnight stay. Enjoy the indoor pool\, slides and outdoor hot tubs. Denver residents use your free IML membership or inquire to set one up. Private pay $450. If the activity is full please join the waitlist so we know you are interested. \nRegister Online
URL:https://www.activityoptions.com/event/gaylord-overnight/
LOCATION:Gaylord Hotel\, 6700 N Gaylord Rockies Blvd\, Aurora\, CO\, 80019\, United States
ATTACH;FMTTYPE=image/png:https://www.activityoptions.com/wp-content/uploads/2022/01/GaylordHOtel.png
ORGANIZER;CN="Activity Options LLC /Project World PBC":MAILTO:signup@activityoptions.com
END:VEVENT
BEGIN:VEVENT
DTSTART;TZID=UTC:20251220T160000
DTEND;TZID=UTC:20251220T210000
DTSTAMP:20260423T152822
CREATED:20251015T052636Z
LAST-MODIFIED:20251015T052636Z
UID:10000795-1766246400-1766264400@www.activityoptions.com
SUMMARY:•Annual Holiday Dinner at Cinzetti's - Free to Aattend
DESCRIPTION:Everyone welcome to join the annual Holiday dinner at Cinzetti’s. Dinner is 5-7pm\, Rides available starting at 3:30. Please RSVP for family and friends. Free for all to attend! We hope you join us. If the activity is full please join the waitlist so we know you are interested. \nRegister Online
URL:https://www.activityoptions.com/event/annual-holiday-dinner-at-cinzettis-free-to-aattend/
LOCATION:Cinzzetti’s Italian Market\, 281 W 104th Ave\, Northglenn\, CO\, 80234\, United States
ATTACH;FMTTYPE=image/png:https://www.activityoptions.com/wp-content/uploads/2023/11/holiday-party-2023.png
ORGANIZER;CN="Activity Options LLC /Project World PBC":MAILTO:signup@activityoptions.com
END:VEVENT
BEGIN:VEVENT
DTSTART;TZID=UTC:20251227T170000
DTEND;TZID=UTC:20251227T230000
DTSTAMP:20260423T152822
CREATED:20251015T053301Z
LAST-MODIFIED:20251015T053301Z
UID:10000796-1766854800-1766876400@www.activityoptions.com
SUMMARY:•Denver Mammoth vs. Vancouver Warriors
DESCRIPTION:Attend the season opening of Denver’s professional lacrosse team as they take on the Rochester Nighthawks at ball Arena. Denver residents use your free IML membership or inquire to set one up. Private pay $160. If the activity is full please join the waitlist so we know you are interested. \nRegister Online
URL:https://www.activityoptions.com/event/denver-mammoth-vs-vancouver-warriors/
LOCATION:Ball Arena
ATTACH;FMTTYPE=image/png:https://www.activityoptions.com/wp-content/uploads/2024/01/Mammouth.png
ORGANIZER;CN="Activity Options LLC /Project World PBC":MAILTO:signup@activityoptions.com
END:VEVENT
BEGIN:VEVENT
DTSTART;TZID=UTC:20251228T090000
DTEND;TZID=UTC:20251228T170000
DTSTAMP:20260423T152822
CREATED:20251015T053858Z
LAST-MODIFIED:20251015T053858Z
UID:10000797-1766912400-1766941200@www.activityoptions.com
SUMMARY:•Sleigh Ride in Winter Park
DESCRIPTION:Join ‘Dashing through the Snow” in Winter Park for a lively sleigh ride through the ranch property and hot chocolate by the fire. Denver residents use your free IML membership or inquire to set one up. Private pay $159. If the activity is full please join the waitlist so we know you are interested. \nRegister Online
URL:https://www.activityoptions.com/event/sleigh-ride-in-winter-park-2/
LOCATION:Winter Park Colorado
ATTACH;FMTTYPE=image/png:https://www.activityoptions.com/wp-content/uploads/2024/11/SleighRide.png
ORGANIZER;CN="Activity Options LLC /Project World PBC":MAILTO:signup@activityoptions.com
END:VEVENT
BEGIN:VEVENT
DTSTART;TZID=UTC:20251231T180000
DTEND;TZID=UTC:20251231T210000
DTSTAMP:20260423T152822
CREATED:20251015T054639Z
LAST-MODIFIED:20251015T054639Z
UID:10000798-1767204000-1767214800@www.activityoptions.com
SUMMARY:•New Year's Eve Party!!
DESCRIPTION:Celebrate the end of 2025 and start of 2026 with dinner and games at West community Center. Denver residents use your free IML membership or inquire to set one up. Private pay $39. If the activity is full please join the waitlist so we know you are interested. \nRegister Online
URL:https://www.activityoptions.com/event/new-years-eve-party-4/
LOCATION:Activity Options Community Center (Arvada)\, 7401 W 59th Ave\, Arvada\, Colorado\, 80003
ATTACH;FMTTYPE=image/png:https://www.activityoptions.com/wp-content/uploads/2025/10/HappyNewYear.png
ORGANIZER;CN="Activity Options LLC /Project World PBC":MAILTO:signup@activityoptions.com
END:VEVENT
BEGIN:VEVENT
DTSTART;TZID=UTC:20260109T080000
DTEND;TZID=UTC:20260109T170000
DTSTAMP:20260423T152822
CREATED:20260105T035706Z
LAST-MODIFIED:20260105T035706Z
UID:10000801-1767945600-1767978000@www.activityoptions.com
SUMMARY:•Ski/Snowboard Club
DESCRIPTION:Hit the slopes and enjoy the great Colorado conditions at Loveland Ski Area. Rental equipment\, lunch and transportation included. This is not a ski school but you’ll be with an experienced guide who can help navigate the details. Denver residents use your free membership or inquire to set one up through us using Mill Levy funding. Private pay $249. If the activity is full please join the waitlist so we know you are interested. \nRegister Online
URL:https://www.activityoptions.com/event/ski-snowboard-club/
LOCATION:Loveland & Keystone\, Colorado
ATTACH;FMTTYPE=image/png:https://www.activityoptions.com/wp-content/uploads/2022/01/Ski-Snowboard.png
ORGANIZER;CN="Activity Options LLC /Project World PBC":MAILTO:signup@activityoptions.com
GEO:39.5500507;-105.7820674
END:VEVENT
BEGIN:VEVENT
DTSTART;TZID=UTC:20260110T170000
DTEND;TZID=UTC:20260110T220000
DTSTAMP:20260423T152822
CREATED:20260105T040523Z
LAST-MODIFIED:20260105T040523Z
UID:10000802-1768064400-1768082400@www.activityoptions.com
SUMMARY:•SNL Saturday Night Club
DESCRIPTION:Join Saturday Night Club (SNL) and enjoy the company of friends. Dinner and movie at our Center or discover what’s open in town. Denver residents use your free membership or inquire to set one up through us using Mill Levy funding. Private pay $39. If the activity is full please join the waitlist so we know you are interested. \nRegister Online
URL:https://www.activityoptions.com/event/snl-saturday-night-club-3/
LOCATION:Activity Options Community Center (Arvada)\, 7401 W 59th Ave\, Arvada\, Colorado\, 80003
ATTACH;FMTTYPE=image/png:https://www.activityoptions.com/wp-content/uploads/2021/04/SNL-sq.png
ORGANIZER;CN="Activity Options LLC /Project World PBC":MAILTO:signup@activityoptions.com
END:VEVENT
BEGIN:VEVENT
DTSTART;TZID=UTC:20260111T120000
DTEND;TZID=UTC:20260111T180000
DTSTAMP:20260423T152822
CREATED:20260105T041257Z
LAST-MODIFIED:20260105T041257Z
UID:10000803-1768132800-1768154400@www.activityoptions.com
SUMMARY:•Football Party
DESCRIPTION:Cheer on the Broncos as they move toward their Super Bowl!!! Denver residents use your free membership or inquire to set one up through us using Mill Levy funding. Private pay $39. If the activity is full please join the waitlist so we know you are interested. \nRegister Online
URL:https://www.activityoptions.com/event/football-party-3/
LOCATION:Activity Options Community Center (Arvada)\, 7401 W 59th Ave\, Arvada\, Colorado\, 80003
ATTACH;FMTTYPE=image/png:https://www.activityoptions.com/wp-content/uploads/2022/01/Broncos-Football-1.png
ORGANIZER;CN="Activity Options LLC /Project World PBC":MAILTO:signup@activityoptions.com
END:VEVENT
BEGIN:VEVENT
DTSTART;TZID=UTC:20260116T160000
DTEND;TZID=UTC:20260116T210000
DTSTAMP:20260423T152822
CREATED:20260105T043813Z
LAST-MODIFIED:20260105T043813Z
UID:10000804-1768579200-1768597200@www.activityoptions.com
SUMMARY:•Buck Center Dance
DESCRIPTION:Get together for dinner and then go to the Community Center Dance. Hangout or dance and have fun! Denver residents use your free membership or inquire to set one up through us using Mill Levy funding. Private pay $99. If the activity is full please join the waitlist so we know you are interested. \nRegister Online
URL:https://www.activityoptions.com/event/buck-center-dance-9/
LOCATION:Buck Recreation Center\, 2004 W Powers Ave\, Littleton\, CO\, 80120
ATTACH;FMTTYPE=image/png:https://www.activityoptions.com/wp-content/uploads/2026/01/DanceParty.png
ORGANIZER;CN="Activity Options LLC /Project World PBC":MAILTO:signup@activityoptions.com
END:VEVENT
BEGIN:VEVENT
DTSTART;TZID=UTC:20260117T120000
DTEND;TZID=UTC:20260117T170000
DTSTAMP:20260423T152822
CREATED:20260111T181556Z
LAST-MODIFIED:20260111T220039Z
UID:10000813-1768651200-1768669200@www.activityoptions.com
SUMMARY:•Football Playoff Party SATURDAY
DESCRIPTION:Party will be either Saturday or Sunday depending on when the Broncos play. Exact time TBD. Sign up for both!!! Denver residents use your free membership or inquire to set one up through us using Mill Levy funding. Private pay $39. If the activity is full please join the waitlist so we know you are interested. \nRegister Online
URL:https://www.activityoptions.com/event/football-party-5/
LOCATION:Activity Options Community Center (Arvada)\, 7401 W 59th Ave\, Arvada\, Colorado\, 80003
ATTACH;FMTTYPE=image/png:https://www.activityoptions.com/wp-content/uploads/2022/01/Broncos-Football-1.png
ORGANIZER;CN="Activity Options LLC /Project World PBC":MAILTO:signup@activityoptions.com
END:VEVENT
BEGIN:VEVENT
DTSTART;TZID=UTC:20260118T120000
DTEND;TZID=UTC:20260118T170000
DTSTAMP:20260423T152822
CREATED:20260111T181402Z
LAST-MODIFIED:20260111T220132Z
UID:10000812-1768737600-1768755600@www.activityoptions.com
SUMMARY:•Football Playoff Party SUNDAY
DESCRIPTION:Party will be either Saturday or Sunday depending on when the Broncos play. Exact time TBD. Sign up for both!!! Denver residents use your free membership or inquire to set one up through us using Mill Levy funding. Private pay $39. If the activity is full please join the waitlist so we know you are interested. \nRegister Online
URL:https://www.activityoptions.com/event/football-party-4/
LOCATION:Activity Options Community Center (Arvada)\, 7401 W 59th Ave\, Arvada\, Colorado\, 80003
ATTACH;FMTTYPE=image/png:https://www.activityoptions.com/wp-content/uploads/2022/01/Broncos-Football-1.png
ORGANIZER;CN="Activity Options LLC /Project World PBC":MAILTO:signup@activityoptions.com
END:VEVENT
BEGIN:VEVENT
DTSTART;TZID=UTC:20260118T120000
DTEND;TZID=UTC:20260118T190000
DTSTAMP:20260423T152822
CREATED:20260105T044516Z
LAST-MODIFIED:20260105T044516Z
UID:10000805-1768737600-1768762800@www.activityoptions.com
SUMMARY:•National Western Stock Show - Pro Rodeo
DESCRIPTION:Evening of world champion bulls and broncs competing for prizes and honor. Denver residents use your free membership or inquire to set one up through us using Mill Levy funding. Private pay $250. If the activity is full please join the waitlist so we know you are interested. \nRegister Online
URL:https://www.activityoptions.com/event/national-western-stock-show-pro-rodeo/
LOCATION:Denver Coliseum\, 4600 Humboldt St\, Denver\, CO\, 80216\, United States
ATTACH;FMTTYPE=image/png:https://www.activityoptions.com/wp-content/uploads/2023/12/StockShowRodeo.png
ORGANIZER;CN="Activity Options LLC /Project World PBC":MAILTO:signup@activityoptions.com
END:VEVENT
BEGIN:VEVENT
DTSTART;TZID=UTC:20260123T160000
DTEND;TZID=UTC:20260123T220000
DTSTAMP:20260423T152822
CREATED:20260105T045009Z
LAST-MODIFIED:20260111T220219Z
UID:10000806-1769184000-1769205600@www.activityoptions.com
SUMMARY:•National Western Stock Show - Dancing Horses
DESCRIPTION:Talented horses and riders showcase their ability in a formal night of costume\, music and performance. Denver residents use your free membership or inquire to set one up through us using Mill Levy funding. Private pay $250. If the activity is full please join the waitlist so we know you are interested. \nRegister Online
URL:https://www.activityoptions.com/event/national-western-stock-show-dancing-horses/
LOCATION:Denver Coliseum\, 4600 Humboldt St\, Denver\, CO\, 80216\, United States
ATTACH;FMTTYPE=image/png:https://www.activityoptions.com/wp-content/uploads/2026/01/StockDancing.png
ORGANIZER;CN="Activity Options LLC /Project World PBC":MAILTO:signup@activityoptions.com
END:VEVENT
BEGIN:VEVENT
DTSTART;TZID=UTC:20260124T160000
DTEND;TZID=UTC:20260124T210000
DTSTAMP:20260423T152822
CREATED:20260105T045611Z
LAST-MODIFIED:20260105T045611Z
UID:10000807-1769270400-1769288400@www.activityoptions.com
SUMMARY:•Monthly Dinner Group
DESCRIPTION:Visit a local restaurant favorite with friends. Denver residents use your free membership or inquire to set one up through us using Mill Levy funding. Private pay $39. If the activity is full please join the waitlist so we know you are interested. \nRegister Online
URL:https://www.activityoptions.com/event/monthly-dinner-group-15/
LOCATION:Activity Options Community Center (Arvada)\, 7401 W 59th Ave\, Arvada\, Colorado\, 80003
ATTACH;FMTTYPE=image/png:https://www.activityoptions.com/wp-content/uploads/2022/03/Dinner-Group.png
ORGANIZER;CN="Activity Options LLC /Project World PBC":MAILTO:signup@activityoptions.com
END:VEVENT
BEGIN:VEVENT
DTSTART;TZID=UTC:20260125T110000
DTEND;TZID=UTC:20260125T170000
DTSTAMP:20260423T152822
CREATED:20260105T051001Z
LAST-MODIFIED:20260105T051001Z
UID:10000808-1769338800-1769360400@www.activityoptions.com
SUMMARY:•Professional Women's Hockey
DESCRIPTION:See this exciting new league started in 2024 at Ball Arena. Vancouver Goldeneyes vs. Seattle Torrent’s. Denver residents use your free membership or inquire to set one up through us using Mill Levy funding. Private pay $160. If the activity is full please join the waitlist so we know you are interested. \nRegister Online
URL:https://www.activityoptions.com/event/professional-womens-hockey/
LOCATION:Ball Arena
ATTACH;FMTTYPE=image/png:https://www.activityoptions.com/wp-content/uploads/2026/01/PWHL.png
ORGANIZER;CN="Activity Options LLC /Project World PBC":MAILTO:signup@activityoptions.com
END:VEVENT
BEGIN:VEVENT
DTSTART;TZID=UTC:20260206T160000
DTEND;TZID=UTC:20260206T220000
DTSTAMP:20260423T152822
CREATED:20260111T182325Z
LAST-MODIFIED:20260111T182325Z
UID:10000814-1770393600-1770415200@www.activityoptions.com
SUMMARY:•Adams Mystery Theater
DESCRIPTION:Help solve the mystery at this Who done It comedy dinner theater. “Murder at an Irish Wake”. Denver residents use your free membership or inquire to set one up through us using Mill Levy funding. Private pay $160. If the activity is full please join the waitlist so we know you are interested. \nRegister Online
URL:https://www.activityoptions.com/event/adams-mystery-theater-2/
LOCATION:Adams Mystery Theater\, 2406 Federal Blvd.\, Denver\, CO\, 80211\, United States
ATTACH;FMTTYPE=image/png:https://www.activityoptions.com/wp-content/uploads/2026/01/AdamsTheater.png
ORGANIZER;CN="Activity Options LLC /Project World PBC":MAILTO:signup@activityoptions.com
END:VEVENT
BEGIN:VEVENT
DTSTART;TZID=UTC:20260208T160000
DTEND;TZID=UTC:20260208T220000
DTSTAMP:20260423T152822
CREATED:20260111T183149Z
LAST-MODIFIED:20260111T183149Z
UID:10000815-1770566400-1770588000@www.activityoptions.com
SUMMARY:•Super Bowl
DESCRIPTION:Watch Super Bowl LX with friends at the West Community Center. Denver residents use your free membership or inquire to set one up through us using Mill Levy funding. Private pay $49. If the activity is full please join the waitlist so we know you are interested. \nRegister Online
URL:https://www.activityoptions.com/event/super-bowl-2/
LOCATION:Activity Options Community Center (Arvada)\, 7401 W 59th Ave\, Arvada\, Colorado\, 80003
ATTACH;FMTTYPE=image/png:https://www.activityoptions.com/wp-content/uploads/2026/01/SuperBowl.png
ORGANIZER;CN="Activity Options LLC /Project World PBC":MAILTO:signup@activityoptions.com
END:VEVENT
BEGIN:VEVENT
DTSTART;TZID=UTC:20260214T120000
DTEND;TZID=UTC:20260214T170000
DTSTAMP:20260423T152822
CREATED:20260111T183819Z
LAST-MODIFIED:20260111T184029Z
UID:10000816-1771070400-1771088400@www.activityoptions.com
SUMMARY:•SNL Saturday Night Club & Valentine's Day Party
DESCRIPTION:Join Saturday Night Club (SNL) and enjoy the company of friends. Dinner and movie at our Center. Special Valentine’s PARTY!! Denver residents use your free membership or inquire to set one up through us using Mill Levy funding. Private pay $49. If the activity is full please join the waitlist so we know you are interested. \nRegister Online
URL:https://www.activityoptions.com/event/snl-saturday-night-club-4/
LOCATION:Activity Options Community Center (Arvada)\, 7401 W 59th Ave\, Arvada\, Colorado\, 80003
ATTACH;FMTTYPE=image/png:https://www.activityoptions.com/wp-content/uploads/2022/01/SNL-Valentines.png
ORGANIZER;CN="Activity Options LLC /Project World PBC":MAILTO:signup@activityoptions.com
END:VEVENT
BEGIN:VEVENT
DTSTART;TZID=UTC:20260215T120000
DTEND;TZID=UTC:20260215T170000
DTSTAMP:20260423T152822
CREATED:20260111T184601Z
LAST-MODIFIED:20260111T184601Z
UID:10000817-1771156800-1771174800@www.activityoptions.com
SUMMARY:•Top Golf
DESCRIPTION:You don’t have to know how to swing a club to join. Come and enjoy this unique venue and laugh with friends. Denver residents use your free membership or inquire to set one up through us using Mill Levy funding. Private pay $160. If the activity is full please join the waitlist so we know you are interested. \nRegister Online
URL:https://www.activityoptions.com/event/top-golf-13/
LOCATION:Top Golf Denver\, 10601 E Easter Ave\, Centennial\, CO\, 80112\, United States
ATTACH;FMTTYPE=image/png:https://www.activityoptions.com/wp-content/uploads/2022/04/TopGolf.png
ORGANIZER;CN="Activity Options LLC /Project World PBC":MAILTO:signup@activityoptions.com
END:VEVENT
BEGIN:VEVENT
DTSTART;TZID=UTC:20260220T170000
DTEND;TZID=UTC:20260220T220000
DTSTAMP:20260423T152822
CREATED:20260111T185223Z
LAST-MODIFIED:20260111T185223Z
UID:10000818-1771606800-1771624800@www.activityoptions.com
SUMMARY:•Buck Center Valentine's Dance
DESCRIPTION:Get together for dinner and then go to the Buck Recreation Center Dance for a Valentine celebration. Denver residents use your free membership or inquire to set one up through us using Mill Levy funding. Private pay $99. If the activity is full please join the waitlist so we know you are interested. \nRegister Online
URL:https://www.activityoptions.com/event/buck-center-valentines-dance-3/
LOCATION:Buck Recreation Center\, 2004 W Powers Ave\, Littleton\, CO\, 80120
ATTACH;FMTTYPE=image/png:https://www.activityoptions.com/wp-content/uploads/2023/01/VDayDance.png
ORGANIZER;CN="Activity Options LLC /Project World PBC":MAILTO:signup@activityoptions.com
END:VEVENT
BEGIN:VEVENT
DTSTART;TZID=UTC:20260221T130000
DTEND;TZID=UTC:20260221T230000
DTSTAMP:20260423T152822
CREATED:20260111T185848Z
LAST-MODIFIED:20260111T185848Z
UID:10000819-1771678800-1771714800@www.activityoptions.com
SUMMARY:•Summit County Sleigh Ride and Dinner Theater
DESCRIPTION:Take a ride up to Breckenridge for the Golden Horseshoe Sleigh Ride and Dinner Comedy Theater. Return home after the theater. Denver residents use your free membership or inquire to set one up through us using Mill Levy funding. Private pay $250. If the activity is full please join the waitlist so we know you are interested. \nRegister Online
URL:https://www.activityoptions.com/event/summit-county-sleigh-ride-and-dinner-theater/
LOCATION:Summit County Colorado\, Colorado
ATTACH;FMTTYPE=image/png:https://www.activityoptions.com/wp-content/uploads/2024/11/SleighRide.png
ORGANIZER;CN="Activity Options LLC /Project World PBC":MAILTO:signup@activityoptions.com
GEO:39.5500507;-105.7820674
END:VEVENT
BEGIN:VEVENT
DTSTART;TZID=UTC:20260227T170000
DTEND;TZID=UTC:20260227T230000
DTSTAMP:20260423T152822
CREATED:20260111T190721Z
LAST-MODIFIED:20260111T190721Z
UID:10000820-1772211600-1772233200@www.activityoptions.com
SUMMARY:•Pioneer Hockey at Magnus
DESCRIPTION:Attend the DU Pioneer’s as they defeat the Arizona Sun Devils at Magnus. Denver residents use your free membership or inquire to set one up through us using Mill Levy funding. Private pay $250. If the activity is full please join the waitlist so we know you are interested. \nRegister Online
URL:https://www.activityoptions.com/event/pioneer-hockey-at-magnus/
LOCATION:Magnus Arena\, Denver
ATTACH;FMTTYPE=image/png:https://www.activityoptions.com/wp-content/uploads/2026/01/DUhockey.png
ORGANIZER;CN="Activity Options LLC /Project World PBC":MAILTO:signup@activityoptions.com
END:VEVENT
BEGIN:VEVENT
DTSTART;TZID=UTC:20260228T170000
DTEND;TZID=UTC:20260228T210000
DTSTAMP:20260423T152822
CREATED:20260111T192628Z
LAST-MODIFIED:20260111T220303Z
UID:10000821-1772298000-1772312400@www.activityoptions.com
SUMMARY:•Monthly Dinner Group at Flight Club!
DESCRIPTION:Evening at the Flight Club downtown location. Interactive\, electronic darts and buffet. Denver residents use your free membership or inquire to set one up through us using Mill Levy funding. Private pay $160. If the activity is full please join the waitlist so we know you are interested. \nRegister Online
URL:https://www.activityoptions.com/event/dinner-group-3/
LOCATION:Flight Club Denver\, 1959 16th Street\, Denver\, CO\, 80202
ATTACH;FMTTYPE=image/png:https://www.activityoptions.com/wp-content/uploads/2026/01/FlightClub.png
ORGANIZER;CN="Activity Options LLC /Project World PBC":MAILTO:signup@activityoptions.com
END:VEVENT
BEGIN:VEVENT
DTSTART;TZID=UTC:20260307T080000
DTEND;TZID=UTC:20260308T200000
DTSTAMP:20260423T152822
CREATED:20260105T052023Z
LAST-MODIFIED:20260105T052023Z
UID:10000809-1772870400-1773000000@www.activityoptions.com
SUMMARY:•Black Hawk Overnight
DESCRIPTION:Stay overnight in at the Monarch Hotel in Black Hawk. Enjoy the pool\, great food and live music. Gambling at your own risk!!! Denver residents use your free membership or inquire to set one up through us using Mill Levy funding. Private pay $349. If the activity is full please join the waitlist so we know you are interested. \nRegister Online
URL:https://www.activityoptions.com/event/black-hawk-overnight-6/
LOCATION:Monarch Hotel and Casino\, 488 Main St\, Black Hawk\, CO\, 80422
ATTACH;FMTTYPE=image/png:https://www.activityoptions.com/wp-content/uploads/2026/01/Monarch.png
ORGANIZER;CN="Activity Options LLC /Project World PBC":MAILTO:signup@activityoptions.com
END:VEVENT
BEGIN:VEVENT
DTSTART;TZID=UTC:20260307T170000
DTEND;TZID=UTC:20260307T220000
DTSTAMP:20260423T152822
CREATED:20260123T014032Z
LAST-MODIFIED:20260123T014032Z
UID:10000826-1772902800-1772920800@www.activityoptions.com
SUMMARY:•SNL Saturday Night Club
DESCRIPTION:Join Saturday Night Club (SNL) and enjoy the company of friends. Dinner and movie at our Center or discover what’s open in town. Denver residents use your free membership or inquire to set one up through us using Mill Levy funding. Private pay $49. If the activity is full please join the waitlist so we know you are interested. \nRegister Online
URL:https://www.activityoptions.com/event/snl-saturday-night-club-5/
LOCATION:Activity Options Community Center (Arvada)\, 7401 W 59th Ave\, Arvada\, Colorado\, 80003
ATTACH;FMTTYPE=image/png:https://www.activityoptions.com/wp-content/uploads/2021/04/SNL-sq.png
ORGANIZER;CN="Activity Options LLC /Project World PBC":MAILTO:signup@activityoptions.com
END:VEVENT
BEGIN:VEVENT
DTSTART;TZID=UTC:20260313T073000
DTEND;TZID=UTC:20260313T163000
DTSTAMP:20260423T152822
CREATED:20260123T014542Z
LAST-MODIFIED:20260123T014542Z
UID:10000827-1773387000-1773419400@www.activityoptions.com
SUMMARY:•Ski & Snowboard - Snow Club
DESCRIPTION:Hit the slopes and enjoy the great Colorado conditions at Loveland Ski Area. Rental equipment\, lunch and transportation included. This is not a ski school but you’ll be with an experienced guide who can help navigate the details. Denver residents use your free membership or inquire to set one up through us using Mill Levy funding. Private pay $325. If the activity is full please join the waitlist so we know you are interested. \nRegister Online
URL:https://www.activityoptions.com/event/ski-snowboard-snow-club/
LOCATION:Loveland & Keystone\, Colorado
ATTACH;FMTTYPE=image/png:https://www.activityoptions.com/wp-content/uploads/2022/01/Ski-Snowboard.png
ORGANIZER;CN="Activity Options LLC /Project World PBC":MAILTO:signup@activityoptions.com
GEO:39.5500507;-105.7820674
END:VEVENT
END:VCALENDAR